BEGIN:VCALENDAR
VERSION:2.0
PRODID:-//Stephan Hachtmann - ECPv6.15.19//NONSGML v1.0//EN
CALSCALE:GREGORIAN
METHOD:PUBLISH
X-ORIGINAL-URL:https://stephanhachtmann.de
X-WR-CALDESC:Veranstaltungen für Stephan Hachtmann
REFRESH-INTERVAL;VALUE=DURATION:PT1H
X-Robots-Tag:noindex
X-PUBLISHED-TTL:PT1H
BEGIN:VTIMEZONE
TZID:Europe/Berlin
BEGIN:DAYLIGHT
TZOFFSETFROM:+0100
TZOFFSETTO:+0200
TZNAME:CEST
DTSTART:20240331T010000
END:DAYLIGHT
BEGIN:STANDARD
TZOFFSETFROM:+0200
TZOFFSETTO:+0100
TZNAME:CET
DTSTART:20241027T010000
END:STANDARD
BEGIN:DAYLIGHT
TZOFFSETFROM:+0100
TZOFFSETTO:+0200
TZNAME:CEST
DTSTART:20250330T010000
END:DAYLIGHT
BEGIN:STANDARD
TZOFFSETFROM:+0200
TZOFFSETTO:+0100
TZNAME:CET
DTSTART:20251026T010000
END:STANDARD
BEGIN:DAYLIGHT
TZOFFSETFROM:+0100
TZOFFSETTO:+0200
TZNAME:CEST
DTSTART:20260329T010000
END:DAYLIGHT
BEGIN:STANDARD
TZOFFSETFROM:+0200
TZOFFSETTO:+0100
TZNAME:CET
DTSTART:20261025T010000
END:STANDARD
END:VTIMEZONE
BEGIN:VEVENT
DTSTART;TZID=Europe/Berlin:20250911T190000
DTEND;TZID=Europe/Berlin:20250911T210000
DTSTAMP:20260422T121102
CREATED:20250710T153830Z
LAST-MODIFIED:20250710T161440Z
UID:10000276-1757617200-1757624400@stephanhachtmann.de
SUMMARY:Herzensgebet
DESCRIPTION:2. Halbjahr 2025 mit Stephan Hachtmann\nregelmäßige Meditationsgruppe in Hamburg/Volksdorf\nViele Menschen finden in der Kontemplation mit dem Herzensgebet einen Weg\, der bewährtes Erfahrungswissen mit zeitgemäßer Spiritualität kombiniert. Er baut Brücken für eine interreligiöse und integrale Spiritualität\, die tief in der christlichen Tradition verwurzelt ist. \nDie Praxis geschieht mit einem kurzen Satz oder Wort\, sie öffnen die Wahrnehmung für das Dasein in der Gegenwart. Einsichten können wachsen\, die Klärung und Wandlung voranbringen. \nWir praktizieren das stille Sitzen und einfache Körperübungen. Achtsames Gehen\, inhaltliche Impulse\, Erfahrungen mit Stimme und Klang oder das mitteilende Gespräch sind wiederkehrende Gestaltungselemente. \nAlle\, denen das Herzensgebet vertraut ist oder die sich diesem Weg öffnen möchten\, sind herzlich willkommen.\nDie Einzelbegleitung ist Teil der Erfahrung (ein Gespräch pro Teilnehmer*in in jedem Kurshalbjahr). \nBitte rechtzeitig anmelden! Anmeldungen nach dem ersten Treffen sind nicht mehr möglich. \nHerzensgebet 2. Halbjahr 2025\nTermine im Überblick – jeweils am Donnerstag um 19 Uhr\n21. August 2025\n11. und 25. September 2025\n9. und 23. Oktober 2025\n5. (Achtung Mittwoch) und 20. November 2025\n4. und 18. Dezember 2025\n8. und 22. Januar 2026 \nKOSTEN\n€ 135\n(Leider müssen wir unsere Preise erhöhen\, da wir ab diesem Halbjahr umsatzsteuerpflichtig sind und das Finanzamt entsprechend 19 % Mwst. für die Veranstaltungen erhebt. Wer die Erhöhung nicht mittragen kann\, möge uns bitte ansprechen.) \nLEITUNG\nSTEPHAN HACHTMANN \nANMELDUNG\nHIER
URL:https://stephanhachtmann.de/die-veranstaltung/herzensgebet-8/2025-09-11/
LOCATION:Meditation in Volksdorf\, Rockenhof 1\, Hamburg\, 22359\, Deutschland
CATEGORIES:Alle Veranstaltungen,PRÄSENZ Veranstaltungen
ATTACH;FMTTYPE=image/jpeg:https://stephanhachtmann.de/wp-content/uploads/2025/07/Webherzensgebet-2024-e1752161868886.jpg
ORGANIZER;CN="Meditation in Volksdorf":MAILTO:info@meditation-in-volksdorf.de
END:VEVENT
BEGIN:VEVENT
DTSTART;TZID=Europe/Berlin:20250913T100000
DTEND;TZID=Europe/Berlin:20250913T170000
DTSTAMP:20260422T121102
CREATED:20241112T102153Z
LAST-MODIFIED:20250821T080407Z
UID:10000203-1757757600-1757782800@stephanhachtmann.de
SUMMARY:Herzensgebet Hamburg Kirche der Stille
DESCRIPTION:Ein Übungstag in Stille für alle Interessierten \nDenn ob etwas ein Leben werden kann\,\ndas hängt nicht von den großen Ideen ab\,\nsondern davon\, ob man sich aus ihnen ein Handwerk schafft\,\nein Tägliches\, etwas\, was bei einem aushält bis an das Ende.\nRainer Maria Rilke zu Rodin \nViele Menschen finden in der Kontemplation mit dem Herzensgebet eine Tradition\, die ein bewährtes Erfahrungswissen mit einer zeitgemäßen Spiritualität kombiniert. \nDieser in der christlichen Tradition verwurzelte Weg kann Grundlage einer spirituellen Lebenskunst sein\, auf dem wir eine neue Beziehung zu Gott\, zu uns selbst\, unseren Mitmenschen und unserem Alltag finden. Einsichten können wachsen\, die Klärungs-\, Wandlungs- und Heilungsprozesse initiieren und voranbringen. \nDas Gebet des Herzens ist hörendes Beten und aufmerksames Verweilen in der Stille. Als wiederholendes Beten\, bei dem ein Wort oder kurzer Satz (Mantra) im Herzen bewegt wird\, hilft es\, Gedanken und Bilder loszulassen und offen zu werden für die atmende Gegenwart Gottes. \nGestaltung\nDas gemeinsame Schweigen\, ca. 6-7 Meditationszeiten a 20 min\, Atem- und Körperwahrnehmung\, spirituelle Impulse\, spirituelle Lieder und Gesänge \nLeitung\nStephan Hachtmann\, Kontemplationslehrer Via Cordis®\, Autor\, Musiker und Komponist spiritueller Lieder\nWebseite: www.stephanhachtmann.de\nYouTube Kanal: Herzensgebet \nmehr Informationen und Anmeldung HIER
URL:https://stephanhachtmann.de/die-veranstaltung/herzensgebet-hamburg-kirche-der-stille-2/
LOCATION:Kirche der Stille\, Helenenstraße 14A\, Hamburg\, 22765\, Deutschland
CATEGORIES:Alle Veranstaltungen,PRÄSENZ Veranstaltungen
ATTACH;FMTTYPE=image/jpeg:https://stephanhachtmann.de/wp-content/uploads/2021/05/Kirche-innen-Niklas-Janke-scaled-e1619793298890.jpg
ORGANIZER;CN="Kirche der Stille":MAILTO:pastorin.koch-pauka@gmeinde-altona-ost.de
END:VEVENT
BEGIN:VEVENT
DTSTART;TZID=Europe/Berlin:20250916T154500
DTEND;TZID=Europe/Berlin:20250916T171500
DTSTAMP:20260422T121102
CREATED:20241223T141418Z
LAST-MODIFIED:20241225T130528Z
UID:10000236-1758037500-1758042900@stephanhachtmann.de
SUMMARY:Meditations- und Entspannungsgruppe
DESCRIPTION:Herbstkurs für Menschen mit Abhängigkeitserfahrungen und deren Angehörige\nMeditation ist immer noch besser\nals einfach nur so rumzusitzen\nund garnichts zu tun.\nKlaus Klages \nStart: Dienstag\, 11. Februar 2025\nZwölf Termine\, jeweils 15.45 – 17.15 Uhr \n16.\, 23. und 30. September 2025\n7.\, 21. und 28. Oktober 2025\n4.\, 11.\, 18.\, und 25. November 2025\n2. und 9. Dezember 2025 \nMit diesem bewusstseins- und aufmerksamkeitsschulenden Angebot werden einführend und vertiefend die Körperwahrnehmung\, die Atemwahrnehmung\, die Gedankenwahrnehmung\, der Umgang mit Emotionen und die Meditation im stillen Sitzen eingeübt. \nDie alltagstauglichen Übungen dienen dem inneren zur Ruhe kommen und der achtsamen Präsenz im Hier und Jetzt. \nDas Angebot ist geeignet für Menschen:\n– die unter Stress und starker innerer oder äußerer Belastung leiden\n– die eine sinnvolle und heilsame Ergänzung zur medizinischen oder psychotherapeutischen Behandlung suchen\n– die das Angebot als Rückfallprophylaxe und zur allgemeinen Entspannung und Stabilisierung nutzen möchten\n– die unter körperlichen Verspannungen und Schmerzen leiden\n– die Achtsamkeit und Lebendigkeit in ihrem Leben mehr Raum geben möchten \nLeitung\nStephan Hachtmann \nZielgruppe\nMenschen mit Abhängigkeitserfahrungen und deren Angehörige \nAnmeldung und Informationen per Mail\nspirituelleangebote@diakonie-hhsh.de oder wenn Sie bereits Klient*in im Lukas Suchthilfezentrum Hamburg-West/Südholstein sind\, direkt über Ihre Beraterin oder Ihren Berater \nDas Angebot ist kostenfrei. \n \nDas Angebot ist eine Kooperation des Arbeitsbereichs Spirituelle Angebote mit der Suchthilfeeinrichtung des Kirchenkreises Hamburg-West/Südholstein Lukas Suchthilfezentrum Hamburg-West\n www.lukas-suchthilfezentrum.de
URL:https://stephanhachtmann.de/die-veranstaltung/meditations-und-entspannungsgruppe-2/
LOCATION:Lukas Suchthilfezentrum Hamburg-West\, Luruper Hauptstr. 138\, Hamburg\, 22547\, Deutschland
CATEGORIES:Alle Veranstaltungen,PRÄSENZ Veranstaltungen
ATTACH;FMTTYPE=image/jpeg:https://stephanhachtmann.de/wp-content/uploads/2021/05/Verbunden-und-Frei-Titelfoto-e1735131922296.jpg
ORGANIZER;CN="Spirituelle Angebote im Kirchenkreis Hamburg/West-S%C3%BCdholstein%2C  Stephan Hachtmann":MAILTO:spirituelleangebote@diakonie-hhsh.de
END:VEVENT
BEGIN:VEVENT
DTSTART;TZID=Europe/Berlin:20250922T183000
DTEND;TZID=Europe/Berlin:20250922T210000
DTSTAMP:20260422T121102
CREATED:20241208T102312Z
LAST-MODIFIED:20250612T025938Z
UID:10000214-1758565800-1758574800@stephanhachtmann.de
SUMMARY:Herzensgebet ONLINE Halbjahresgruppe „Wege ins Herz des Lebens“
DESCRIPTION:Kursangebot 2. Halbjahr 2025\nfür eine geschlossene ONLINE-Gruppe ab dem 28. Juli 2025\n\nDie Gruppe ist momentan ausgebucht. Anmeldungen für das 1. Halbjahr 2026 sind nur auf einer Warteliste möglich. Siehe untenstehendes Formular.\nDenn ob etwas ein Leben werden kann\, das hängt nicht von den großen Ideen ab\,\nsondern davon\, ob man sich aus ihnen ein Handwerk schafft\, ein Tägliches\,\netwas\, was bei einem aushält bis an das Ende.\n(Rainer Maria Rilke zu Auguste Rodin) \nDas Herzensgebet ist ein alter christlicher Meditationsweg\, auf dem sich bewährtes Erfahrungswissen mit einer zeitgemäßen integralen Spiritualität verbinden lässt. Die persönlichen Erfahrungen mit diesem Weg können Räume öffnen\, die in die Ruhe des Herzens führen. \nDiese spirituelle Lebenskunst kann klärende Transformationsprozeße anregen und Wandlungs- und Heilungsschritte auf unserem Lebensweg ermöglichen. \nIn einer festen und verbindlichen Gruppengröße von ca. 16 Teilnehmer*innen\, kann das gemeinsame Erleben zu einem kontinuierlichen und inspirierender Wachstumsraum in der spirituellen Tradition des Herzensgebetes werden. Grundlegend für das verwandelnde Erleben ist die eigene vertiefende Erfahrung der Meditation und des Schweigens im persönlichen Alltag. \nWIEDERKEHRENDE GESTALTUNGSELEMENTE\nangeleitete und stille Kontemplation mit dem Herzensgebet\, Atem- und Körperwahrnehmungsübungen\, Gebetsgebärden\, spirituelle Lieder und Mantren\, themenbezogene spirituelle Impulse\, einfache wiederkehrende Rituale\, achtsamer Austausch in Kleingruppe und Plenum. \nTERMINE 2. Halbjahr 2025\nimmer montags von 18.30 – 21.00 Uhr \n28. Juli 2025\n18. August 2025\n22. September 2025\n20. Oktober 2025\n24. November 2025\n15. Dezember 2025 \nDie weiterführende verbindliche Anmeldung für diese Gruppe erfolgt am Ende des Kurse für ein nächstes halbes Jahr. \nLEITUNG\nSTEPHAN HACHTMANN – Kontemplationslehrer VIA CORDIS®\, Diakon\, Seminar- und Vortragstätigkeit zu Herzensgebet\, Integraler Spiritualität und Spiritualität und Abhängigkeitserfahrungen\, Autor u. a. „Berührt vom Klang der Liebe – Wege zum Herzensgebet“ (Kreuz Verlag)\, Musiker und Komponist spiritueller Lieder \n\nKOSTEN\n240 Euro (sechs Termine\, incl. 1 h Einzelbegleitung) \nANMELDUNG WARTELISTE 1. HALBJAHR 2026\nBitte per E-Mail mit Angabe der Telefonnummer an: info@stephanhachtmann.de oder direkt über das untenstehende Formular. \nNach der Anmeldung erhalten Sie alle weiterführenden Informationen zu Ihrer Anmeldung. \n\n\n  \n\n\n\n Vorname Name:\n \n\n E-Mail-Adresse:\n \n\n Telefonnummer:\n \n\n Anmerkung oder Rückfrage:\n\n\nAnmeldung Warteliste 1. Halbjahr 2026\n\n Ich stimme zu\, dass meine Angaben aus dem Anmeldeformular zur Bearbeitung meiner Kursanmeldung erhoben und verarbeitet werden. Die Daten werden nach abgeschlossener Bearbeitung innerhalb der gesetzlichen Fristen gelöscht. Hinweis: Sie können Ihre Einwilligung jederzeit für die Zukunft per E-Mail an: info@stephanhachtmann.de widerrufen. Detaillierte Informationen zum Umgang mit Nutzerdaten finden Sie in unserer Datenschutzerklärung.
URL:https://stephanhachtmann.de/die-veranstaltung/herzensgebet-online-halbjahresgruppe-wege-ins-herz-des-lebens-3/2025-09-22/
LOCATION:ONLINE-Angebot per ZOOM\, Deutschland
CATEGORIES:Alle Veranstaltungen,ONLINE Veranstaltungen
ATTACH;FMTTYPE=image/jpeg:https://stephanhachtmann.de/wp-content/uploads/2024/12/Herzensgebet-ONLINE-2.-HJ-25-WiHdL-e1733654070496.jpg
ORGANIZER;CN="AMBATON - Spirituelle Lebenskunst im Herz des Lebens":MAILTO:info@stephanhachtmann.de
END:VEVENT
BEGIN:VEVENT
DTSTART;TZID=Europe/Berlin:20250924T190000
DTEND;TZID=Europe/Berlin:20250924T210000
DTSTAMP:20260422T121102
CREATED:20241208T104300Z
LAST-MODIFIED:20250331T130832Z
UID:10000226-1758740400-1758747600@stephanhachtmann.de
SUMMARY:Herzensgebet – Offene Gruppe „Berührt vom Klang der Stille“ – ONLINE Termine 2. HJ 2025
DESCRIPTION:Monatliches ONLINE-Angebot im deutschsprachigen Raum\nTermine 2. Halbjahr 2025\n(Eine Kursreihe in Kooperation mit dem Seminar- und Tagungszentrum Benediktushof Holzkirchen)\nimmer mittwochs von 19-21 Uhr\nLass dich beflügeln zu einer größeren Weite\,\ndie dich erfahren lässt\, wie du aufgehoben bist\nzwischen Himmel und Erde.    Pierre Stutz \nVon den guten Erfahrungen und Rückmeldungen der ONLINE-Meetings inspiriert\, bin ich jedes Mal erfreut\, welche spirituellen Erfahrungen uns dieses etwas andere Miteinander im digitalen Raum schenkt und wie aussergewöhnlich der eine GEIST weht – wo auch immer ER/SIE/ES es will… \nAuch freue ich mich\, mit der Einen oder dem Anderen aus meinen Seminaren auf diese Weise wieder in Kontakt zu kommen und den Weg des Herzens zu vertiefen. \nViele Menschen finden in der Kontemplation mit dem  Herzensgebet einen Weg\, der ein bewährtes Erfahrungswissen mit zeitgemäßer Spiritualität kombiniert. Dieser Weg kann die Grundlage für eine spirituelle Lebenskunst sein und Brücken für eine interreligiöse und integrale Spiritualität bauen. \nDas Herzensgebet ist tief in der christlichen Tradition verwurzelt. Die alltagsorientierte Praxis geschieht mit einem kurzen Satz oder Wort. Dieses einfache Klanggebet des Herzens (Mantra) öffnet das Bewusstsein für die Wahrnehmung des Daseins in der Gegenwart Gottes. \nHier finden Sie eine weiterführende Einführung ins Herzensgebet: Berührt vom Klang der Liebe – Grundlage einer spirituellen Lebenskunst  \nGestaltungselemente im ZOOM-Meeting\nangeleitete und stille Meditation\, spirituelle Impulse\, achtsamer Dialog und Austausch zu sprituellen Wegerfahrungen im Plenum oder in der Kleingruppe\, Körper- und Atemwahrnehmung als Gebärdengebet oder mit eingespielter Musik\, einfache Rituale\, Singen spiritueller Lieder (ich spiele live – dazu wird im eigenen Raum gesungen) \nTeilnahmebeitrag\n25 € pro ZOOM-Meeting (zwei Stunden) \nLeitung\n\nSTEPHAN HACHTMANN – Kontemplationslehrer VIA CORDIS®\, Diakon\, Seminar- und Vortragstätigkeit zu Herzensgebet\, Integraler Spiritualität und Spiritualität und Abhängigkeitserfahrungen\, Autor u. a. „Berührt vom Klang der Liebe – Wege zum Herzensgebet“ (Kreuz Verlag)\, Musiker und Komponist spiritueller Lieder \nAnmeldung\nNach der Anmeldung schicke ich Ihnen/Euch den ZOOM-Link zu\, sowie die Kontoangaben zur Überweisung des Teilnahmebeitrages. \n\n\n  \n\n\n\n Vorname Name:\n \n\n E-Mail:\n \n\n Telefonnummer:\n \n\n Bitte den/die Online-Termin(e) auswählen:\nMittwoch\, 24. September 2025\nMittwoch\, 22. Oktober 2025\nMittwoch\, 26. November 2025\nMittwoch\, 17. Dezember 2025\n\n (*Pflichtfeld) Ich stimme zu\, dass meine Angaben aus dem Anmeldeformular zur Bearbeitung meiner Kursanmeldung erhoben und verarbeitet werden. Die Daten werden nach abgeschlossener Bearbeitung innerhalb der gesetzlichen Fristen gelöscht. Sie können Ihre Einwilligung jederzeit für die Zukunft per E-Mail an: info@stephanhachtmann.de widerrufen.
URL:https://stephanhachtmann.de/die-veranstaltung/herzensgebet-offene-gruppe-beruehrt-vom-klang-der-stille-online-termine-2-hj-2025/2025-09-24/
LOCATION:ONLINE-Angebot per ZOOM\, Deutschland
CATEGORIES:Alle Veranstaltungen,ONLINE Veranstaltungen
ATTACH;FMTTYPE=image/jpeg:https://stephanhachtmann.de/wp-content/uploads/2023/12/Vorlage-Herzensgebet-Einfuehrung-e1716144383925.jpg
ORGANIZER;CN="AMBATON - Spirituelle Lebenskunst im Herz des Lebens":MAILTO:info@stephanhachtmann.de
END:VEVENT
BEGIN:VEVENT
DTSTART;TZID=Europe/Berlin:20250925T190000
DTEND;TZID=Europe/Berlin:20250925T210000
DTSTAMP:20260422T121102
CREATED:20250710T153830Z
LAST-MODIFIED:20250710T161440Z
UID:10000277-1758826800-1758834000@stephanhachtmann.de
SUMMARY:Herzensgebet
DESCRIPTION:2. Halbjahr 2025 mit Stephan Hachtmann\nregelmäßige Meditationsgruppe in Hamburg/Volksdorf\nViele Menschen finden in der Kontemplation mit dem Herzensgebet einen Weg\, der bewährtes Erfahrungswissen mit zeitgemäßer Spiritualität kombiniert. Er baut Brücken für eine interreligiöse und integrale Spiritualität\, die tief in der christlichen Tradition verwurzelt ist. \nDie Praxis geschieht mit einem kurzen Satz oder Wort\, sie öffnen die Wahrnehmung für das Dasein in der Gegenwart. Einsichten können wachsen\, die Klärung und Wandlung voranbringen. \nWir praktizieren das stille Sitzen und einfache Körperübungen. Achtsames Gehen\, inhaltliche Impulse\, Erfahrungen mit Stimme und Klang oder das mitteilende Gespräch sind wiederkehrende Gestaltungselemente. \nAlle\, denen das Herzensgebet vertraut ist oder die sich diesem Weg öffnen möchten\, sind herzlich willkommen.\nDie Einzelbegleitung ist Teil der Erfahrung (ein Gespräch pro Teilnehmer*in in jedem Kurshalbjahr). \nBitte rechtzeitig anmelden! Anmeldungen nach dem ersten Treffen sind nicht mehr möglich. \nHerzensgebet 2. Halbjahr 2025\nTermine im Überblick – jeweils am Donnerstag um 19 Uhr\n21. August 2025\n11. und 25. September 2025\n9. und 23. Oktober 2025\n5. (Achtung Mittwoch) und 20. November 2025\n4. und 18. Dezember 2025\n8. und 22. Januar 2026 \nKOSTEN\n€ 135\n(Leider müssen wir unsere Preise erhöhen\, da wir ab diesem Halbjahr umsatzsteuerpflichtig sind und das Finanzamt entsprechend 19 % Mwst. für die Veranstaltungen erhebt. Wer die Erhöhung nicht mittragen kann\, möge uns bitte ansprechen.) \nLEITUNG\nSTEPHAN HACHTMANN \nANMELDUNG\nHIER
URL:https://stephanhachtmann.de/die-veranstaltung/herzensgebet-8/2025-09-25/
LOCATION:Meditation in Volksdorf\, Rockenhof 1\, Hamburg\, 22359\, Deutschland
CATEGORIES:Alle Veranstaltungen,PRÄSENZ Veranstaltungen
ATTACH;FMTTYPE=image/jpeg:https://stephanhachtmann.de/wp-content/uploads/2025/07/Webherzensgebet-2024-e1752161868886.jpg
ORGANIZER;CN="Meditation in Volksdorf":MAILTO:info@meditation-in-volksdorf.de
END:VEVENT
BEGIN:VEVENT
DTSTART;TZID=Europe/Berlin:20250927T100000
DTEND;TZID=Europe/Berlin:20250927T170000
DTSTAMP:20260422T121102
CREATED:20231228T115109Z
LAST-MODIFIED:20250103T175338Z
UID:10000251-1758967200-1758992400@stephanhachtmann.de
SUMMARY:Herz-des-Lebens-Gruppe Bremen
DESCRIPTION:Herzensgebet als Heilungsweg (feste Gruppe)\nSchulungstage 2025  – Herz-des-Lebens-Gruppe\nim Meditationshaus garten-etage in Bremen/Horn\n(geschlossene Gruppe)\nBEHÜTE DEIN HERZ\nDENN IN IHM WOHNT\nDIE EINE QUELLE DER LIEBE\nDIE HIMMEL UND ERDE VEREINT\nUND DAS HERZ DES LEBENS ERSCHAFFT\nHundertklang \nTagesseminare 2025 – jeweils 10-17 Uhr\n\n1. Vertiefungstag – Samstag\, 22. Februar 2025\, 10-17 Uhr\nDein Wille geschehe\n \n\ndas alle Christen verbindende Vaterunser-Gebet im Klang der Liebe\ndie verborgene Architektur und die unsichtbaren Kräfte in diesem Gebet\nAnregungen zu Texten von David Steindl-Rast \nmystische Einblicke und das Buch der Vollkommenheit nach Theresa von Avila \n\n2. Vertiefungstag – Samstag\, 17. Mai 2025\, 10-17 Uhr\nAtem- und Leiberfahrung im Gebetsklang des Herzens \n\ndas Geheimnis der heilsamen Gegenwart Gottes im Atem\nVerkörperlichung im Klang des Herzensgebetes\nVereinigung – im Herzen empfangen – in den Zellen erspüren \nEmpfangen und Geben – Einstrahlen und Ausstrahlen\ndie Bedeutung von Leib und Atem in der Grundübung der Kontemplation\nwahres LICHT – wahre MATERIE – CHRISTUS leibhaftig im Herzensgebet\n\n3. Vertiefungstag – Samstag\, 19. Juli 2025\, 10-17 Uhr\nVom Felsenherz zur Wasserquelle\nDie Lehre von den Gedanken nach Evagrius Ponticus \n\nvon Leidenschaften und Tugenden\nein neues Verständnis von Gesundung und Heilung\nvon Drachenwein und Engelsbrot oder wie sich Zorn in Sanftmut verwandelt (Ausführungen von Gabriel Bunge)\nreines Gewahrsein und die Gabe der Unterscheidung\ndrei Wegschnitte in die Ruhe des Herzens\ndie Weisheit der Wunde öffnet den Weg zum Wunder\n\n4. Vertiefungstag – Samstag\, 27. September 2025\, 10-17 Uhr\nStirb und Werde – Alles hat seine Zeit \n\nLöse und verbinde neu\nder große und der kleine Tod\nIchfreiheit und im Herzen Ewigkeit\nLehre uns bedenken\, dass wir Sterben müssen …\ndie Kunst des Sterbens\ndas Gedenken des Todes als spirituelle Grundübung\näußerliche Vergänglichkeit – innerliche Erneuerung\n\n5. Vertiefungstag – Samstag\, 29. November 2025\, 10-17 Uhr\n Maria – Stationen des Lebens \n\nBetrachtungen zu einer Ikone „Maria – Einführung in den Tempel\nVerheißungen eines marianischen BewusstWerdeSeins\nKräfte und Aspekte im dreistufigen Weg der Ganzhingabe\nAnalogien zu Ganzwerdung und Hingabe an das Heilige in uns\ndie Geburt des Christusbewusstseins im Kollektiven und Individuellen\nAlles ist Willkommen – das große JA – radikale Akzeptanz\n\nLeitung\nStephan Hachtmann \nHIER geht es zur Webseite des Veranstaltungsortes\nund Hinweisen zu dem 14-tägigen Meditationsangebot – jeweils am Mittwochabend
URL:https://stephanhachtmann.de/die-veranstaltung/herz-des-lebens-gruppe-bremen/2025-09-27/
LOCATION:meditationshaus garten-etage\, Elsa-Brändström-Str. 34\, Bremen\, 28359\, Deutschland
CATEGORIES:Alle Veranstaltungen,PRÄSENZ Veranstaltungen
ATTACH;FMTTYPE=image/jpeg:https://stephanhachtmann.de/wp-content/uploads/2021/11/Bremen-Gartenetage-scaled-e1734989933427.jpg
END:VEVENT
END:VCALENDAR