BEGIN:VCALENDAR
VERSION:2.0
PRODID:-//Stephan Hachtmann - ECPv6.15.19//NONSGML v1.0//EN
CALSCALE:GREGORIAN
METHOD:PUBLISH
X-ORIGINAL-URL:https://stephanhachtmann.de
X-WR-CALDESC:Veranstaltungen für Stephan Hachtmann
REFRESH-INTERVAL;VALUE=DURATION:PT1H
X-Robots-Tag:noindex
X-PUBLISHED-TTL:PT1H
BEGIN:VTIMEZONE
TZID:Europe/Berlin
BEGIN:DAYLIGHT
TZOFFSETFROM:+0100
TZOFFSETTO:+0200
TZNAME:CEST
DTSTART:20240331T010000
END:DAYLIGHT
BEGIN:STANDARD
TZOFFSETFROM:+0200
TZOFFSETTO:+0100
TZNAME:CET
DTSTART:20241027T010000
END:STANDARD
BEGIN:DAYLIGHT
TZOFFSETFROM:+0100
TZOFFSETTO:+0200
TZNAME:CEST
DTSTART:20250330T010000
END:DAYLIGHT
BEGIN:STANDARD
TZOFFSETFROM:+0200
TZOFFSETTO:+0100
TZNAME:CET
DTSTART:20251026T010000
END:STANDARD
BEGIN:DAYLIGHT
TZOFFSETFROM:+0100
TZOFFSETTO:+0200
TZNAME:CEST
DTSTART:20260329T010000
END:DAYLIGHT
BEGIN:STANDARD
TZOFFSETFROM:+0200
TZOFFSETTO:+0100
TZNAME:CET
DTSTART:20261025T010000
END:STANDARD
END:VTIMEZONE
BEGIN:VEVENT
DTSTART;TZID=Europe/Berlin:20250709T190000
DTEND;TZID=Europe/Berlin:20250709T210000
DTSTAMP:20260420T142913
CREATED:20241208T104300Z
LAST-MODIFIED:20250331T130832Z
UID:10000224-1752087600-1752094800@stephanhachtmann.de
SUMMARY:Herzensgebet – Offene Gruppe „Berührt vom Klang der Stille“ – ONLINE Termine 2. HJ 2025
DESCRIPTION:Monatliches ONLINE-Angebot im deutschsprachigen Raum\nTermine 2. Halbjahr 2025\n(Eine Kursreihe in Kooperation mit dem Seminar- und Tagungszentrum Benediktushof Holzkirchen)\nimmer mittwochs von 19-21 Uhr\nLass dich beflügeln zu einer größeren Weite\,\ndie dich erfahren lässt\, wie du aufgehoben bist\nzwischen Himmel und Erde.    Pierre Stutz \nVon den guten Erfahrungen und Rückmeldungen der ONLINE-Meetings inspiriert\, bin ich jedes Mal erfreut\, welche spirituellen Erfahrungen uns dieses etwas andere Miteinander im digitalen Raum schenkt und wie aussergewöhnlich der eine GEIST weht – wo auch immer ER/SIE/ES es will… \nAuch freue ich mich\, mit der Einen oder dem Anderen aus meinen Seminaren auf diese Weise wieder in Kontakt zu kommen und den Weg des Herzens zu vertiefen. \nViele Menschen finden in der Kontemplation mit dem  Herzensgebet einen Weg\, der ein bewährtes Erfahrungswissen mit zeitgemäßer Spiritualität kombiniert. Dieser Weg kann die Grundlage für eine spirituelle Lebenskunst sein und Brücken für eine interreligiöse und integrale Spiritualität bauen. \nDas Herzensgebet ist tief in der christlichen Tradition verwurzelt. Die alltagsorientierte Praxis geschieht mit einem kurzen Satz oder Wort. Dieses einfache Klanggebet des Herzens (Mantra) öffnet das Bewusstsein für die Wahrnehmung des Daseins in der Gegenwart Gottes. \nHier finden Sie eine weiterführende Einführung ins Herzensgebet: Berührt vom Klang der Liebe – Grundlage einer spirituellen Lebenskunst  \nGestaltungselemente im ZOOM-Meeting\nangeleitete und stille Meditation\, spirituelle Impulse\, achtsamer Dialog und Austausch zu sprituellen Wegerfahrungen im Plenum oder in der Kleingruppe\, Körper- und Atemwahrnehmung als Gebärdengebet oder mit eingespielter Musik\, einfache Rituale\, Singen spiritueller Lieder (ich spiele live – dazu wird im eigenen Raum gesungen) \nTeilnahmebeitrag\n25 € pro ZOOM-Meeting (zwei Stunden) \nLeitung\n\nSTEPHAN HACHTMANN – Kontemplationslehrer VIA CORDIS®\, Diakon\, Seminar- und Vortragstätigkeit zu Herzensgebet\, Integraler Spiritualität und Spiritualität und Abhängigkeitserfahrungen\, Autor u. a. „Berührt vom Klang der Liebe – Wege zum Herzensgebet“ (Kreuz Verlag)\, Musiker und Komponist spiritueller Lieder \nAnmeldung\nNach der Anmeldung schicke ich Ihnen/Euch den ZOOM-Link zu\, sowie die Kontoangaben zur Überweisung des Teilnahmebeitrages. \n\n\n  \n\n\n\n Vorname Name:\n \n\n E-Mail:\n \n\n Telefonnummer:\n \n\n Bitte den/die Online-Termin(e) auswählen:\nMittwoch\, 24. September 2025\nMittwoch\, 22. Oktober 2025\nMittwoch\, 26. November 2025\nMittwoch\, 17. Dezember 2025\n\n (*Pflichtfeld) Ich stimme zu\, dass meine Angaben aus dem Anmeldeformular zur Bearbeitung meiner Kursanmeldung erhoben und verarbeitet werden. Die Daten werden nach abgeschlossener Bearbeitung innerhalb der gesetzlichen Fristen gelöscht. Sie können Ihre Einwilligung jederzeit für die Zukunft per E-Mail an: info@stephanhachtmann.de widerrufen.
URL:https://stephanhachtmann.de/die-veranstaltung/herzensgebet-offene-gruppe-beruehrt-vom-klang-der-stille-online-termine-2-hj-2025/2025-07-09/
LOCATION:ONLINE-Angebot per ZOOM\, Deutschland
CATEGORIES:Alle Veranstaltungen,ONLINE Veranstaltungen
ATTACH;FMTTYPE=image/jpeg:https://stephanhachtmann.de/wp-content/uploads/2023/12/Vorlage-Herzensgebet-Einfuehrung-e1716144383925.jpg
ORGANIZER;CN="AMBATON - Spirituelle Lebenskunst im Herz des Lebens":MAILTO:info@stephanhachtmann.de
END:VEVENT
BEGIN:VEVENT
DTSTART;TZID=Europe/Berlin:20250710T100000
DTEND;TZID=Europe/Berlin:20250710T163000
DTSTAMP:20260420T142913
CREATED:20241223T135138Z
LAST-MODIFIED:20241223T135923Z
UID:10000231-1752141600-1752165000@stephanhachtmann.de
SUMMARY:Wege in die Ruhe des Herzens
DESCRIPTION:Einführung in die christliche Tradition des Herzensgebets\nWenn dein Herz wandert oder leidet\, bring es behutsam\nan seinen Platz zurück und versetze es sanft\nin die atmende Gegenwart der Liebe.\nnach Franz von Sales \nWas Sie erwartet\nViele Menschen finden in der christlichen Meditation mit dem Herzensgebet eine Tradition\, die ein bewährtes Erfahrungswissen mit einer zeitgemäßen Spiritualität kombiniert. \nDieser uralte Weisheitsweg blickt auf eine zweitausendjährige Erfahrung zurück und gewinnt zunehmend an Bedeutung in dem spirituellen Aufbruch unserer Zeit. Er kann Brücken für eine interreligiöse und integrale Spiritualität bauen\, die tief in der christlichen Tradition verwurzelt ist. \nDiese spirituelle Lebenskunst geschieht mit einem kurzen Satz oder einem Wort. In Verbindung mit dem Atem öffnet sich die Wahrnehmung für das Dasein in der Gegenwart. Auf dem Weg des Herzens können Einsichten wachsen\, die Klärungs-\, Wandlungs- und Heilungsprozesse initiieren und voranbringen. \nGestaltungselemente\nAn diesem Tag stellen wir für Interessierte einführend den Übungsweg des Herzensgebets vor. Wir werden das stille Meditieren mit einem Wort oder Satz üben. Weitere Elemente sind Phasen des Stille\, Körper- und\nAtemwahrnehmungsübungen\, kurze Impulse und Dialoge\, sowie das Singen spiritueller Gesänge und Mantren. \nLeitung\nStephan Hachtmann \nAnmeldung\nspirituelleangebote@diakonie-hhsh.de oder direkt über das Anmeldeformular siehe unten \nTeilnahmebeitrag\n80 € Für Selbstzahler*innen ist eine Ermäßigung auf Anfrage möglich. \nMittagsimbiss ist in der näheren Umgebung möglich.\nBitte bequeme Kleidung und warme Socken mitbringen. \nFinanzierung und Freistellung\nDie Veranstaltung soll für kirchliche Mitarbeiter*innen der Kirchenkreise Hamburg-West/Südholstein und Hamburg-Ost ein kostenfreies Fortbildungsangebot sein\, für das Sie freigestellt werden können. \nBitte beantragen Sie die Fortbildung rechtzeitig bei Ihrem Arbeitgeber oder Ihrer Kirchengemeinde entsprechend dem Fortbildungsgesetz und der Rechtsverordnung für Fortbildung für haupt- und nebenberufliche kirchliche Mitarbeiter*innen. \nAnmeldung und weitere Informationen
URL:https://stephanhachtmann.de/die-veranstaltung/wege-in-die-ruhe-des-herzens-2/
LOCATION:Meditation in Volksdorf\, Rockenhof 1\, Hamburg\, 22359\, Deutschland
CATEGORIES:Alle Veranstaltungen,PRÄSENZ Veranstaltungen
ATTACH;FMTTYPE=image/jpeg:https://stephanhachtmann.de/wp-content/uploads/2024/12/20240602_181541-e1734961870994.jpg
ORGANIZER;CN="Spirituelle Angebote im Kirchenkreis Hamburg/West-S%C3%BCdholstein%2C  Stephan Hachtmann":MAILTO:spirituelleangebote@diakonie-hhsh.de
END:VEVENT
BEGIN:VEVENT
DTSTART;TZID=Europe/Berlin:20250713T180000
DTEND;TZID=Europe/Berlin:20250716T130000
DTSTAMP:20260420T142913
CREATED:20241112T101118Z
LAST-MODIFIED:20250708T175538Z
UID:10000200-1752429600-1752670800@stephanhachtmann.de
SUMMARY:Herzensgebet am Benediktushof
DESCRIPTION:Berührt vom Klang der Stille\nLauschen wir auf den Klang eines neuen Tages\, der in uns beginnt.\nHören wir nicht auf zu wandern\, bis wir verwandelt sind.\n(Marie-Luise Kaschnitz) \nViele Menschen finden in der Kontemplation mit dem Herzensgebet eine Tradition\, die ein bewährtes Erfahrungswissen mit einer zeitgemäßen Spiritualität kombiniert. Dieser in der christlichen Tradition verwurzelte Weg kann Grundlage einer spirituellen Lebenskunst sein und das Bewusstsein für eine interreligiöse und integrale Spiritualität öffnen. Auf dem Weg des Herzensgebetes können Einsichten wachsen\, die Klärungs-\, Wandlungs- und Heilungsprozesse initiieren und voranbringen. \nKurselemente\nIn diesem Schweigekurs gibt es hinführende und vertiefende Übungsanregungen\, die den Weg des Herzensgebetes erfahrbar machen. Wir werden das stille Sitzen mit einem Wort oder Satz üben. Weitere Elemente sind Körper- und Atemwahrnehmungsübungen\, inhaltliche Impulse\, sowie das Singen spiritueller Lieder. \nOffen für alle Interessierten. \nweiter Informationen und Anmeldung HIER
URL:https://stephanhachtmann.de/die-veranstaltung/herzensgebet-am-benediktushof/
LOCATION:Benediktushof Seminar- und Tagungszentrum GmbH\, Klosterstraße 10\, Holzkirchen/Unterfranken\, 97292\, Deutschland
ATTACH;FMTTYPE=image/jpeg:https://stephanhachtmann.de/wp-content/uploads/2024/11/Benediktushof-15-e1731406182748.jpg
ORGANIZER;CN="Benediktushof Seminar- und Tagungszentrum GmbH":MAILTO:info@benediktushof-holzkirchen.de
END:VEVENT
BEGIN:VEVENT
DTSTART;TZID=Europe/Berlin:20250719T100000
DTEND;TZID=Europe/Berlin:20250719T170000
DTSTAMP:20260420T142913
CREATED:20231228T115109Z
LAST-MODIFIED:20250103T175338Z
UID:10000250-1752919200-1752944400@stephanhachtmann.de
SUMMARY:Herz-des-Lebens-Gruppe Bremen
DESCRIPTION:Herzensgebet als Heilungsweg (feste Gruppe)\nSchulungstage 2025  – Herz-des-Lebens-Gruppe\nim Meditationshaus garten-etage in Bremen/Horn\n(geschlossene Gruppe)\nBEHÜTE DEIN HERZ\nDENN IN IHM WOHNT\nDIE EINE QUELLE DER LIEBE\nDIE HIMMEL UND ERDE VEREINT\nUND DAS HERZ DES LEBENS ERSCHAFFT\nHundertklang \nTagesseminare 2025 – jeweils 10-17 Uhr\n\n1. Vertiefungstag – Samstag\, 22. Februar 2025\, 10-17 Uhr\nDein Wille geschehe\n \n\ndas alle Christen verbindende Vaterunser-Gebet im Klang der Liebe\ndie verborgene Architektur und die unsichtbaren Kräfte in diesem Gebet\nAnregungen zu Texten von David Steindl-Rast \nmystische Einblicke und das Buch der Vollkommenheit nach Theresa von Avila \n\n2. Vertiefungstag – Samstag\, 17. Mai 2025\, 10-17 Uhr\nAtem- und Leiberfahrung im Gebetsklang des Herzens \n\ndas Geheimnis der heilsamen Gegenwart Gottes im Atem\nVerkörperlichung im Klang des Herzensgebetes\nVereinigung – im Herzen empfangen – in den Zellen erspüren \nEmpfangen und Geben – Einstrahlen und Ausstrahlen\ndie Bedeutung von Leib und Atem in der Grundübung der Kontemplation\nwahres LICHT – wahre MATERIE – CHRISTUS leibhaftig im Herzensgebet\n\n3. Vertiefungstag – Samstag\, 19. Juli 2025\, 10-17 Uhr\nVom Felsenherz zur Wasserquelle\nDie Lehre von den Gedanken nach Evagrius Ponticus \n\nvon Leidenschaften und Tugenden\nein neues Verständnis von Gesundung und Heilung\nvon Drachenwein und Engelsbrot oder wie sich Zorn in Sanftmut verwandelt (Ausführungen von Gabriel Bunge)\nreines Gewahrsein und die Gabe der Unterscheidung\ndrei Wegschnitte in die Ruhe des Herzens\ndie Weisheit der Wunde öffnet den Weg zum Wunder\n\n4. Vertiefungstag – Samstag\, 27. September 2025\, 10-17 Uhr\nStirb und Werde – Alles hat seine Zeit \n\nLöse und verbinde neu\nder große und der kleine Tod\nIchfreiheit und im Herzen Ewigkeit\nLehre uns bedenken\, dass wir Sterben müssen …\ndie Kunst des Sterbens\ndas Gedenken des Todes als spirituelle Grundübung\näußerliche Vergänglichkeit – innerliche Erneuerung\n\n5. Vertiefungstag – Samstag\, 29. November 2025\, 10-17 Uhr\n Maria – Stationen des Lebens \n\nBetrachtungen zu einer Ikone „Maria – Einführung in den Tempel\nVerheißungen eines marianischen BewusstWerdeSeins\nKräfte und Aspekte im dreistufigen Weg der Ganzhingabe\nAnalogien zu Ganzwerdung und Hingabe an das Heilige in uns\ndie Geburt des Christusbewusstseins im Kollektiven und Individuellen\nAlles ist Willkommen – das große JA – radikale Akzeptanz\n\nLeitung\nStephan Hachtmann \nHIER geht es zur Webseite des Veranstaltungsortes\nund Hinweisen zu dem 14-tägigen Meditationsangebot – jeweils am Mittwochabend
URL:https://stephanhachtmann.de/die-veranstaltung/herz-des-lebens-gruppe-bremen/2025-07-19/
LOCATION:meditationshaus garten-etage\, Elsa-Brändström-Str. 34\, Bremen\, 28359\, Deutschland
CATEGORIES:Alle Veranstaltungen,PRÄSENZ Veranstaltungen
ATTACH;FMTTYPE=image/jpeg:https://stephanhachtmann.de/wp-content/uploads/2021/11/Bremen-Gartenetage-scaled-e1734989933427.jpg
END:VEVENT
BEGIN:VEVENT
DTSTART;TZID=Europe/Berlin:20250728T183000
DTEND;TZID=Europe/Berlin:20250728T183000
DTSTAMP:20260420T142913
CREATED:20241208T102312Z
LAST-MODIFIED:20250612T025938Z
UID:10000212-1753727400-1753727400@stephanhachtmann.de
SUMMARY:Herzensgebet ONLINE Halbjahresgruppe „Wege ins Herz des Lebens“
DESCRIPTION:Kursangebot 2. Halbjahr 2025\nfür eine geschlossene ONLINE-Gruppe ab dem 28. Juli 2025\n\nDie Gruppe ist momentan ausgebucht. Anmeldungen für das 1. Halbjahr 2026 sind nur auf einer Warteliste möglich. Siehe untenstehendes Formular.\nDenn ob etwas ein Leben werden kann\, das hängt nicht von den großen Ideen ab\,\nsondern davon\, ob man sich aus ihnen ein Handwerk schafft\, ein Tägliches\,\netwas\, was bei einem aushält bis an das Ende.\n(Rainer Maria Rilke zu Auguste Rodin) \nDas Herzensgebet ist ein alter christlicher Meditationsweg\, auf dem sich bewährtes Erfahrungswissen mit einer zeitgemäßen integralen Spiritualität verbinden lässt. Die persönlichen Erfahrungen mit diesem Weg können Räume öffnen\, die in die Ruhe des Herzens führen. \nDiese spirituelle Lebenskunst kann klärende Transformationsprozeße anregen und Wandlungs- und Heilungsschritte auf unserem Lebensweg ermöglichen. \nIn einer festen und verbindlichen Gruppengröße von ca. 16 Teilnehmer*innen\, kann das gemeinsame Erleben zu einem kontinuierlichen und inspirierender Wachstumsraum in der spirituellen Tradition des Herzensgebetes werden. Grundlegend für das verwandelnde Erleben ist die eigene vertiefende Erfahrung der Meditation und des Schweigens im persönlichen Alltag. \nWIEDERKEHRENDE GESTALTUNGSELEMENTE\nangeleitete und stille Kontemplation mit dem Herzensgebet\, Atem- und Körperwahrnehmungsübungen\, Gebetsgebärden\, spirituelle Lieder und Mantren\, themenbezogene spirituelle Impulse\, einfache wiederkehrende Rituale\, achtsamer Austausch in Kleingruppe und Plenum. \nTERMINE 2. Halbjahr 2025\nimmer montags von 18.30 – 21.00 Uhr \n28. Juli 2025\n18. August 2025\n22. September 2025\n20. Oktober 2025\n24. November 2025\n15. Dezember 2025 \nDie weiterführende verbindliche Anmeldung für diese Gruppe erfolgt am Ende des Kurse für ein nächstes halbes Jahr. \nLEITUNG\nSTEPHAN HACHTMANN – Kontemplationslehrer VIA CORDIS®\, Diakon\, Seminar- und Vortragstätigkeit zu Herzensgebet\, Integraler Spiritualität und Spiritualität und Abhängigkeitserfahrungen\, Autor u. a. „Berührt vom Klang der Liebe – Wege zum Herzensgebet“ (Kreuz Verlag)\, Musiker und Komponist spiritueller Lieder \n\nKOSTEN\n240 Euro (sechs Termine\, incl. 1 h Einzelbegleitung) \nANMELDUNG WARTELISTE 1. HALBJAHR 2026\nBitte per E-Mail mit Angabe der Telefonnummer an: info@stephanhachtmann.de oder direkt über das untenstehende Formular. \nNach der Anmeldung erhalten Sie alle weiterführenden Informationen zu Ihrer Anmeldung. \n\n\n  \n\n\n\n Vorname Name:\n \n\n E-Mail-Adresse:\n \n\n Telefonnummer:\n \n\n Anmerkung oder Rückfrage:\n\n\nAnmeldung Warteliste 1. Halbjahr 2026\n\n Ich stimme zu\, dass meine Angaben aus dem Anmeldeformular zur Bearbeitung meiner Kursanmeldung erhoben und verarbeitet werden. Die Daten werden nach abgeschlossener Bearbeitung innerhalb der gesetzlichen Fristen gelöscht. Hinweis: Sie können Ihre Einwilligung jederzeit für die Zukunft per E-Mail an: info@stephanhachtmann.de widerrufen. Detaillierte Informationen zum Umgang mit Nutzerdaten finden Sie in unserer Datenschutzerklärung.
URL:https://stephanhachtmann.de/die-veranstaltung/herzensgebet-online-halbjahresgruppe-wege-ins-herz-des-lebens-3/2025-07-28/
LOCATION:ONLINE-Angebot per ZOOM\, Deutschland
CATEGORIES:Alle Veranstaltungen,ONLINE Veranstaltungen
ATTACH;FMTTYPE=image/jpeg:https://stephanhachtmann.de/wp-content/uploads/2024/12/Herzensgebet-ONLINE-2.-HJ-25-WiHdL-e1733654070496.jpg
ORGANIZER;CN="AMBATON - Spirituelle Lebenskunst im Herz des Lebens":MAILTO:info@stephanhachtmann.de
END:VEVENT
END:VCALENDAR