BEGIN:VCALENDAR
VERSION:2.0
PRODID:-//Stephan Hachtmann - ECPv6.15.19//NONSGML v1.0//EN
CALSCALE:GREGORIAN
METHOD:PUBLISH
X-ORIGINAL-URL:https://stephanhachtmann.de
X-WR-CALDESC:Veranstaltungen für Stephan Hachtmann
REFRESH-INTERVAL;VALUE=DURATION:PT1H
X-Robots-Tag:noindex
X-PUBLISHED-TTL:PT1H
BEGIN:VTIMEZONE
TZID:Europe/Berlin
BEGIN:DAYLIGHT
TZOFFSETFROM:+0100
TZOFFSETTO:+0200
TZNAME:CEST
DTSTART:20240331T010000
END:DAYLIGHT
BEGIN:STANDARD
TZOFFSETFROM:+0200
TZOFFSETTO:+0100
TZNAME:CET
DTSTART:20241027T010000
END:STANDARD
BEGIN:DAYLIGHT
TZOFFSETFROM:+0100
TZOFFSETTO:+0200
TZNAME:CEST
DTSTART:20250330T010000
END:DAYLIGHT
BEGIN:STANDARD
TZOFFSETFROM:+0200
TZOFFSETTO:+0100
TZNAME:CET
DTSTART:20251026T010000
END:STANDARD
BEGIN:DAYLIGHT
TZOFFSETFROM:+0100
TZOFFSETTO:+0200
TZNAME:CEST
DTSTART:20260329T010000
END:DAYLIGHT
BEGIN:STANDARD
TZOFFSETFROM:+0200
TZOFFSETTO:+0100
TZNAME:CET
DTSTART:20261025T010000
END:STANDARD
END:VTIMEZONE
BEGIN:VEVENT
DTSTART;TZID=Europe/Berlin:20250507T190000
DTEND;TZID=Europe/Berlin:20250507T210000
DTSTAMP:20260420T113010
CREATED:20240909T101340Z
LAST-MODIFIED:20250401T182656Z
UID:10000194-1746644400-1746651600@stephanhachtmann.de
SUMMARY:Herzensgebet – Offene Gruppe „Berührt vom Klang der Stille“ – ONLINE Termine 1. HJ 2025
DESCRIPTION:Monatliches ONLINE-Angebot im deutschsprachigen Raum\nTermine 1. Halbjahr 2025\n(Eine Kursreihe in Kooperation mit dem Seminar- und Tagungszentrum Benediktushof Holzkirchen)\nimmer mittwochs von 19-21 Uhr\nLass dich beflügeln zu einer größeren Weite\,\ndie dich erfahren lässt\, wie du aufgehoben bist\nzwischen Himmel und Erde.    Pierre Stutz \nVon den guten Erfahrungen und Rückmeldungen der ONLINE-Meetings inspiriert\, bin ich jedes Mal erfreut\, welche spirituellen Erfahrungen uns dieses etwas andere Miteinander im digitalen Raum schenkt und wie aussergewöhnlich der eine GEIST weht – wo auch immer ER/SIE/ES es will… \nAuch freue ich mich\, mit der Einen oder dem Anderen aus meinen Seminaren auf diese Weise wieder in Kontakt zu kommen und den Weg des Herzens zu vertiefen. \nViele Menschen finden in der Kontemplation mit dem  Herzensgebet einen Weg\, der ein bewährtes Erfahrungswissen mit zeitgemäßer Spiritualität kombiniert. Dieser Weg kann die Grundlage für eine spirituelle Lebenskunst sein und Brücken für eine interreligiöse und integrale Spiritualität bauen. \nDas Herzensgebet ist tief in der christlichen Tradition verwurzelt. Die alltagsorientierte Praxis geschieht mit einem kurzen Satz oder Wort. Dieses einfache Klanggebet des Herzens (Mantra) öffnet das Bewusstsein für die Wahrnehmung des Daseins in der Gegenwart Gottes. \nHier finden Sie eine weiterführende Einführung ins Herzensgebet: Berührt vom Klang der Liebe – Grundlage einer spirituellen Lebenskunst  \nGestaltungselemente im ZOOM-Meeting\nangeleitete und stille Meditation\, spirituelle Impulse\, achtsamer Dialog und Austausch zu sprituellen Wegerfahrungen im Plenum oder in der Kleingruppe\, Körper- und Atemwahrnehmung als Gebärdengebet oder mit eingespielter Musik\, einfache Rituale\, Singen spiritueller Lieder (ich spiele live – dazu wird im eigenen Raum gesungen) \nTeilnahmebeitrag\n25 € pro ZOOM-Meeting (zwei Stunden) \nLeitung\n\nSTEPHAN HACHTMANN – Kontemplationslehrer VIA CORDIS®\, Diakon\, Seminar- und Vortragstätigkeit zu Herzensgebet\, Integraler Spiritualität und Spiritualität und Abhängigkeitserfahrungen\, Autor u. a. „Berührt vom Klang der Liebe – Wege zum Herzensgebet“ (Kreuz Verlag)\, Musiker und Komponist spiritueller Lieder \nAnmeldung\nBitte senden Sie eine Email an: info@stephanhachtmann.de oder melden Sie sich über das untenstehende Formular an. \nNach der Anmeldung schicke ich Ihnen/Euch den ZOOM-Link zu\, sowie die Kontoangaben zur Überweisung des Teilnahmebeitrages. \nFehler: Kontaktformular wurde nicht gefunden.
URL:https://stephanhachtmann.de/die-veranstaltung/herzensgebet-offene-gruppe-beruehrt-vom-klang-der-stille-online-termine-1-hj/2025-05-07/
LOCATION:ONLINE-Angebot per ZOOM\, Deutschland
CATEGORIES:Alle Veranstaltungen,ONLINE Veranstaltungen
ATTACH;FMTTYPE=image/jpeg:https://stephanhachtmann.de/wp-content/uploads/2023/12/Vorlage-Herzensgebet-Einfuehrung-e1716144383925.jpg
ORGANIZER;CN="AMBATON - Spirituelle Lebenskunst im Herz des Lebens":MAILTO:info@stephanhachtmann.de
END:VEVENT
BEGIN:VEVENT
DTSTART;TZID=Europe/Berlin:20250508T180000
DTEND;TZID=Europe/Berlin:20250511T130000
DTSTAMP:20260420T113010
CREATED:20231228T112346Z
LAST-MODIFIED:20250331T134646Z
UID:10000127-1746727200-1746968400@stephanhachtmann.de
SUMMARY:Geborgen im Raum der Stille
DESCRIPTION:Stille Tage mit dem Herzensgebet – Schweigeseminar\nDa wo ich geborgen bin\, kann ich mich wahrnehmen.\nUnd da\, wo ich mich wahrnehme\, kann ich mich wandeln.\n– Sabine Naegli \nDie Erfahrungen der Mystiker*innen bezeugen das Erleben der Stille als Begegnung mit dem Unendlichen. Dieser Zustand ist nicht machbar oder planbar. In der Tradition des Herzensgebetes finden wir einen bewährten Schulungs- und Einübungsweg\, um innere Stille und die damit einhergehende Herzensruhe (hesychia) in unserem Bewusstsein schrittweise zu kultivieren. \nIn der Sammlung auf Leib\, Atem und Herzensgebet verbinden wir unser Herz mit der heilsamen Kraft der Gegenwart. Da\, wo sich Raum und Zeit im Jetzt vereinen\, kann Geborgenheit im Raum dieser unverfügbaren Stille erlebbar werden und heilsam wirken. Unser Herz kann sich wohlfühlen und sich der Weisheit anvertrauen\, dass aus ihm das Leben „quillt“. Die Atmosphäre des Klosters und sein wunderbarer Garten dienen dem inneren und äußeren Erleben. \nGestaltungselemente\nWir verbinden uns in diesen Schweigetagen mit der Kraft der mantrischen Praxis des Herzensgebetes\, in der wir uns geborgen fühlen können. Meditation\, Körper- und Atemwahrnehmungsübungen\, spirituelle Impulse\, mantrische Gesänge und spirituelle Lieder geben dem Tag einen einfachen Rhythmus. Die Einzelbegleitung ist Teil der Erfahrung. \nweitere Informationen und Anmeldung HIER
URL:https://stephanhachtmann.de/die-veranstaltung/von-der-schoenheit-des-unvorhersagbaren-3/
LOCATION:Kloster Wennigsen\, Klosteramthof 3\, Wennigsen\, 30974\, Deutschland
CATEGORIES:Alle Veranstaltungen,PRÄSENZ Veranstaltungen
ATTACH;FMTTYPE=image/jpeg:https://stephanhachtmann.de/wp-content/uploads/2019/08/Beruehrt-vom-Klang-der-Liebe-e1735131835261.jpg
ORGANIZER;CN="Kloster Wennigsen":MAILTO:info@kloster-wennigsen.de
END:VEVENT
BEGIN:VEVENT
DTSTART;TZID=Europe/Berlin:20250515T190000
DTEND;TZID=Europe/Berlin:20250515T210000
DTSTAMP:20260420T113010
CREATED:20241223T142053Z
LAST-MODIFIED:20241223T142053Z
UID:10000244-1747335600-1747342800@stephanhachtmann.de
SUMMARY:Herzensgebet
DESCRIPTION:regelmäßige Meditationsgruppe in Hamburg/Volksdorf \nViele Menschen finden in der Kontemplation mit dem  Herzensgebet einen Weg\, der bewährtes Erfahrungswissen mit zeitgemäßer Spiritualität kombiniert. Er baut Brücken für eine interreligiöse und integrale Spiritualität\, die tief in der christlichen Tradition verwurzelt ist. \nDie Praxis geschieht mit einem kurzen Satz oder Wort\, sie öffnen die Wahrnehmung für das Dasein in der Gegenwart. Einsichten können wachsen\, die Klärung und Wandlung voranbringen. \nWir praktizieren das stille Sitzen und einfache Körperübungen. Achtsames Gehen\, inhaltliche Impulse\, Erfahrungen mit Stimme und Klang oder das mitteilende Gespräch sind wiederkehrende Gestaltungselemente. \nAlle\, denen das Herzensgebet vertraut ist oder die sich diesem Weg öffnen möchten\, sind herzlich willkommen.\nDie Einzelbegleitung ist Teil der Erfahrung (ein Gespräch pro Teilnehmer*in in jedem Kurshalbjahr). \nAlle 9 Termine\, jeweils donnerstags\, 19 – 21 Uhr\n6. und 20. Februar 2025\n6. und 20. März 2025\n3.\,17. und 30. April (Mittwoch!) 2025\n15. Mai\, 28. Mai (Mittwoch!) 2025 \nLEITUNG\nSTEPHAN HACHTMANN \nKOSTEN\n€ 100\,- \nHier geht es zur Anmeldung Meditationsgruppe Herzensgebet für das 1. Halbjahr 2025 \nGruppenstart: 6. Februar 2025\n \nBitte rechtzeitig anmelden! Anmeldungen nach dem ersten Treffen sind nicht mehr möglich.
URL:https://stephanhachtmann.de/die-veranstaltung/herzensgebet-7/2025-05-15/
LOCATION:Meditation in Volksdorf\, Rockenhof 1\, Hamburg\, 22359\, Deutschland
CATEGORIES:Alle Veranstaltungen,PRÄSENZ Veranstaltungen
ATTACH;FMTTYPE=image/jpeg:https://stephanhachtmann.de/wp-content/uploads/2024/05/Webherzensgebet-2024-e1716204554644.jpg
ORGANIZER;CN="Meditation in Volksdorf":MAILTO:info@meditation-in-volksdorf.de
END:VEVENT
BEGIN:VEVENT
DTSTART;TZID=Europe/Berlin:20250517T100000
DTEND;TZID=Europe/Berlin:20250517T170000
DTSTAMP:20260420T113010
CREATED:20231228T115109Z
LAST-MODIFIED:20250103T175338Z
UID:10000249-1747476000-1747501200@stephanhachtmann.de
SUMMARY:Herz-des-Lebens-Gruppe Bremen
DESCRIPTION:Herzensgebet als Heilungsweg (feste Gruppe)\nSchulungstage 2025  – Herz-des-Lebens-Gruppe\nim Meditationshaus garten-etage in Bremen/Horn\n(geschlossene Gruppe)\nBEHÜTE DEIN HERZ\nDENN IN IHM WOHNT\nDIE EINE QUELLE DER LIEBE\nDIE HIMMEL UND ERDE VEREINT\nUND DAS HERZ DES LEBENS ERSCHAFFT\nHundertklang \nTagesseminare 2025 – jeweils 10-17 Uhr\n\n1. Vertiefungstag – Samstag\, 22. Februar 2025\, 10-17 Uhr\nDein Wille geschehe\n \n\ndas alle Christen verbindende Vaterunser-Gebet im Klang der Liebe\ndie verborgene Architektur und die unsichtbaren Kräfte in diesem Gebet\nAnregungen zu Texten von David Steindl-Rast \nmystische Einblicke und das Buch der Vollkommenheit nach Theresa von Avila \n\n2. Vertiefungstag – Samstag\, 17. Mai 2025\, 10-17 Uhr\nAtem- und Leiberfahrung im Gebetsklang des Herzens \n\ndas Geheimnis der heilsamen Gegenwart Gottes im Atem\nVerkörperlichung im Klang des Herzensgebetes\nVereinigung – im Herzen empfangen – in den Zellen erspüren \nEmpfangen und Geben – Einstrahlen und Ausstrahlen\ndie Bedeutung von Leib und Atem in der Grundübung der Kontemplation\nwahres LICHT – wahre MATERIE – CHRISTUS leibhaftig im Herzensgebet\n\n3. Vertiefungstag – Samstag\, 19. Juli 2025\, 10-17 Uhr\nVom Felsenherz zur Wasserquelle\nDie Lehre von den Gedanken nach Evagrius Ponticus \n\nvon Leidenschaften und Tugenden\nein neues Verständnis von Gesundung und Heilung\nvon Drachenwein und Engelsbrot oder wie sich Zorn in Sanftmut verwandelt (Ausführungen von Gabriel Bunge)\nreines Gewahrsein und die Gabe der Unterscheidung\ndrei Wegschnitte in die Ruhe des Herzens\ndie Weisheit der Wunde öffnet den Weg zum Wunder\n\n4. Vertiefungstag – Samstag\, 27. September 2025\, 10-17 Uhr\nStirb und Werde – Alles hat seine Zeit \n\nLöse und verbinde neu\nder große und der kleine Tod\nIchfreiheit und im Herzen Ewigkeit\nLehre uns bedenken\, dass wir Sterben müssen …\ndie Kunst des Sterbens\ndas Gedenken des Todes als spirituelle Grundübung\näußerliche Vergänglichkeit – innerliche Erneuerung\n\n5. Vertiefungstag – Samstag\, 29. November 2025\, 10-17 Uhr\n Maria – Stationen des Lebens \n\nBetrachtungen zu einer Ikone „Maria – Einführung in den Tempel\nVerheißungen eines marianischen BewusstWerdeSeins\nKräfte und Aspekte im dreistufigen Weg der Ganzhingabe\nAnalogien zu Ganzwerdung und Hingabe an das Heilige in uns\ndie Geburt des Christusbewusstseins im Kollektiven und Individuellen\nAlles ist Willkommen – das große JA – radikale Akzeptanz\n\nLeitung\nStephan Hachtmann \nHIER geht es zur Webseite des Veranstaltungsortes\nund Hinweisen zu dem 14-tägigen Meditationsangebot – jeweils am Mittwochabend
URL:https://stephanhachtmann.de/die-veranstaltung/herz-des-lebens-gruppe-bremen/2025-05-17/
LOCATION:meditationshaus garten-etage\, Elsa-Brändström-Str. 34\, Bremen\, 28359\, Deutschland
CATEGORIES:Alle Veranstaltungen,PRÄSENZ Veranstaltungen
ATTACH;FMTTYPE=image/jpeg:https://stephanhachtmann.de/wp-content/uploads/2021/11/Bremen-Gartenetage-scaled-e1734989933427.jpg
END:VEVENT
BEGIN:VEVENT
DTSTART;TZID=Europe/Berlin:20250519T183000
DTEND;TZID=Europe/Berlin:20250519T210000
DTSTAMP:20260420T113010
CREATED:20240818T191213Z
LAST-MODIFIED:20250331T105835Z
UID:10000189-1747679400-1747688400@stephanhachtmann.de
SUMMARY:Herzensgebet ONLINE Halbjahresgruppe „Wege ins Herz des Lebens“
DESCRIPTION:Kursangebot 1. Halbjahr 2025\nfür eine geschlossene ONLINE-Gruppe ab dem 27. Januar 2025\nDie Gruppe ist ausgebucht!\nAnmeldungen für das 2. Halbjahr sind HIER auf einer Warteliste möglich.\nDenn ob etwas ein Leben werden kann\, das hängt nicht von den großen Ideen ab\,\nsondern davon\, ob man sich aus ihnen ein Handwerk schafft\, ein Tägliches\,\netwas\, was bei einem aushält bis an das Ende.\n(Rainer Maria Rilke zu Auguste Rodin) \nDas Herzensgebet ist ein alter christlicher Meditationsweg\, auf dem sich bewährtes Erfahrungswissen mit einer zeitgemäßen integralen Spiritualität verbinden lässt. Die persönlichen Erfahrungen mit diesem Weg können Räume öffnen\, die in die Ruhe des Herzens führen. \nDiese spirituelle Lebenskunst kann klärende Transformationsprozeße anregen und Wandlungs- und Heilungsschritte auf unserem Lebensweg ermöglichen. \nIn einer festen und verbindlichen Gruppengröße von ca. 16 Teilnehmer*innen\, kann das gemeinsame Erleben zu einem kontinuierlichen und inspirierender Wachstumsraum in der spirituellen Tradition des Herzensgebetes werden. Grundlegend für das verwandelnde Erleben ist die eigene vertiefende Erfahrung der Meditation und des Schweigens im persönlichen Alltag. \nWIEDERKEHRENDE GESTALTUNGSELEMENTE\nangeleitete und stille Kontemplation mit dem Herzensgebet\, Atem- und Körperwahrnehmungsübungen\, Gebetsgebärden\, spirituelle Lieder und Mantren\, themenbezogene spirituelle Impulse\, einfache wiederkehrende Rituale\, achtsamer Austausch in Kleingruppe und Plenum. \nTERMINE 1. Halbjahr 2025\nimmer montags von 18.30 – 21.00 Uhr \n27. Januar 2025\n24. Februar 2025\n24. März 2025\n28. April 2025\n19. Mai 2025\n9. Juni 2025 \nDie weiterführende verbindliche Anmeldung für diese Gruppe erfolgt am Ende des Kurse für ein nächstes halbes Jahr. \nLEITUNG\nSTEPHAN HACHTMANN – Kontemplationslehrer VIA CORDIS®\, Diakon\, Seminar- und Vortragstätigkeit zu Herzensgebet\, Integraler Spiritualität und Spiritualität und Abhängigkeitserfahrungen\, Autor u. a. „Berührt vom Klang der Liebe – Wege zum Herzensgebet“ (Kreuz Verlag)\, Musiker und Komponist spiritueller Lieder \n\nKOSTEN\n240 Euro (sechs Termine\, incl. 1 h Einzelbegleitung) \nANMELDUNG WARTELISTE 2. HALBJAHR 2025\nBitte per E-Mail mit Angabe der Telefonnummer an: info@stephanhachtmann.de\nNach der Anmeldung erhalten Sie alle weiterführenden Informationen zu Ihrer Anmeldung.
URL:https://stephanhachtmann.de/die-veranstaltung/herzensgebet-online-halbjahresgruppe-wege-ins-herz-des-lebens-2/2025-05-19/
LOCATION:ONLINE-Angebot per ZOOM\, Deutschland
CATEGORIES:Alle Veranstaltungen,ONLINE Veranstaltungen
ATTACH;FMTTYPE=image/jpeg:https://stephanhachtmann.de/wp-content/uploads/2024/08/Herzensgebet-ONLINE-1.-HJ-25-WiHdL-e1724008323160.jpg
ORGANIZER;CN="AMBATON - Spirituelle Lebenskunst im Herz des Lebens":MAILTO:info@stephanhachtmann.de
END:VEVENT
BEGIN:VEVENT
DTSTART;TZID=Europe/Berlin:20250522T180000
DTEND;TZID=Europe/Berlin:20250525T130000
DTSTAMP:20260420T113010
CREATED:20241223T142823Z
LAST-MODIFIED:20250413T191206Z
UID:10000247-1747936800-1748178000@stephanhachtmann.de
SUMMARY:Langsamer - Tiefer - Sanfter
DESCRIPTION:Meditationstage mit dem Herzensgebet im Seminarhof Drawehn\nDas Seminar ist ausgebucht. Eine Anmeldung ist nur noch auf der Warteliste möglich! \nMenschen\, die aus der Hoffnung leben\, sehen weiter.\nMenschen\, die aus der Liebe leben\, sehen tiefer.\nMenschen\, die aus dem Vertrauen leben\,\nsehen alles in einem anderen Licht.\n(nach Lothar Zenetti) \nIm „Langsamer-Tiefer-Sanfter“ als Gegenentwurf zum „Schneller-Höher-Weiter“ spiegelt sich eine innere Bewusstseinshaltung\, die sich nicht von den Verheißungen unserer Leistungs- und Optimierungskultur vereinnahmen lässt und andere Wege geht. \nIm Herzensgebet kann unser Bewusstsein für eine solche Haltung durchlässig werden. \nDarin folgen wir den Kräften der Entschleunigung und der Hinwendung zum Wesentlichen in der Tiefe unseres Herzens. Eingangstore zu dieser transformativen Lebenskunst der Einfachheit sind Schönheit\, Gegenwärtigkeit und die Kraft der Stille. \nSo können wir in uns tiefe Inseln der Ruhe und Verlangsamung kultivieren\, die uns im Alltag stärken. \n \nGESTALTUNGSELEMENTE\nIn der geborgenen Atmosphäre des Hauses in Drawehn und umgeben von der Natur erleben wir die Stille und die Meditation mit dem Herzensgebet. Wiederkehrende Gestaltungselement sind Körper- und Atemwahrnehmungsübungen\, kurze Impulse\, sowie das Singen spiritueller Lieder. Einzelgespräche sind Teil der Erfahrung. Die Tage finden bis auf die Übungsanleitung im Schweigen statt. \nLEITUNG\nAnnekatrin Hennenhofer & Stephan Hachtmann \nKOSTEN\n€ 490\,-\n(Übernachtung/Verpflegung: € 290\,- / Seminargebühr: € 200\,-) \nANMELDUNG WARTELISTE STILLE TAGE IM SEMINARHOF DRAWEHN VOM 22. – 25. Mai 2025
URL:https://stephanhachtmann.de/die-veranstaltung/langsamer-tiefer-sanfter-2/
LOCATION:Seminarhof Drawehn\, Im Alten Rundling 13\, Clenze\, Niedersachsen\, 29459
CATEGORIES:Alle Veranstaltungen,PRÄSENZ Veranstaltungen
ATTACH;FMTTYPE=image/jpeg:https://stephanhachtmann.de/wp-content/uploads/2024/12/Seminarhof-Drawehn-Mandala.jpeg
ORGANIZER;CN="Meditation in Volksdorf":MAILTO:info@meditation-in-volksdorf.de
END:VEVENT
BEGIN:VEVENT
DTSTART;TZID=Europe/Berlin:20250528T190000
DTEND;TZID=Europe/Berlin:20250528T210000
DTSTAMP:20260420T113010
CREATED:20241223T142053Z
LAST-MODIFIED:20241223T142053Z
UID:10000245-1748458800-1748466000@stephanhachtmann.de
SUMMARY:Herzensgebet
DESCRIPTION:regelmäßige Meditationsgruppe in Hamburg/Volksdorf \nViele Menschen finden in der Kontemplation mit dem  Herzensgebet einen Weg\, der bewährtes Erfahrungswissen mit zeitgemäßer Spiritualität kombiniert. Er baut Brücken für eine interreligiöse und integrale Spiritualität\, die tief in der christlichen Tradition verwurzelt ist. \nDie Praxis geschieht mit einem kurzen Satz oder Wort\, sie öffnen die Wahrnehmung für das Dasein in der Gegenwart. Einsichten können wachsen\, die Klärung und Wandlung voranbringen. \nWir praktizieren das stille Sitzen und einfache Körperübungen. Achtsames Gehen\, inhaltliche Impulse\, Erfahrungen mit Stimme und Klang oder das mitteilende Gespräch sind wiederkehrende Gestaltungselemente. \nAlle\, denen das Herzensgebet vertraut ist oder die sich diesem Weg öffnen möchten\, sind herzlich willkommen.\nDie Einzelbegleitung ist Teil der Erfahrung (ein Gespräch pro Teilnehmer*in in jedem Kurshalbjahr). \nAlle 9 Termine\, jeweils donnerstags\, 19 – 21 Uhr\n6. und 20. Februar 2025\n6. und 20. März 2025\n3.\,17. und 30. April (Mittwoch!) 2025\n15. Mai\, 28. Mai (Mittwoch!) 2025 \nLEITUNG\nSTEPHAN HACHTMANN \nKOSTEN\n€ 100\,- \nHier geht es zur Anmeldung Meditationsgruppe Herzensgebet für das 1. Halbjahr 2025 \nGruppenstart: 6. Februar 2025\n \nBitte rechtzeitig anmelden! Anmeldungen nach dem ersten Treffen sind nicht mehr möglich.
URL:https://stephanhachtmann.de/die-veranstaltung/herzensgebet-7/2025-05-28/
LOCATION:Meditation in Volksdorf\, Rockenhof 1\, Hamburg\, 22359\, Deutschland
CATEGORIES:Alle Veranstaltungen,PRÄSENZ Veranstaltungen
ATTACH;FMTTYPE=image/jpeg:https://stephanhachtmann.de/wp-content/uploads/2024/05/Webherzensgebet-2024-e1716204554644.jpg
ORGANIZER;CN="Meditation in Volksdorf":MAILTO:info@meditation-in-volksdorf.de
END:VEVENT
END:VCALENDAR