BEGIN:VCALENDAR
VERSION:2.0
PRODID:-//Stephan Hachtmann - ECPv6.15.19//NONSGML v1.0//EN
CALSCALE:GREGORIAN
METHOD:PUBLISH
X-ORIGINAL-URL:https://stephanhachtmann.de
X-WR-CALDESC:Veranstaltungen für Stephan Hachtmann
REFRESH-INTERVAL;VALUE=DURATION:PT1H
X-Robots-Tag:noindex
X-PUBLISHED-TTL:PT1H
BEGIN:VTIMEZONE
TZID:Europe/Berlin
BEGIN:DAYLIGHT
TZOFFSETFROM:+0100
TZOFFSETTO:+0200
TZNAME:CEST
DTSTART:20240331T010000
END:DAYLIGHT
BEGIN:STANDARD
TZOFFSETFROM:+0200
TZOFFSETTO:+0100
TZNAME:CET
DTSTART:20241027T010000
END:STANDARD
BEGIN:DAYLIGHT
TZOFFSETFROM:+0100
TZOFFSETTO:+0200
TZNAME:CEST
DTSTART:20250330T010000
END:DAYLIGHT
BEGIN:STANDARD
TZOFFSETFROM:+0200
TZOFFSETTO:+0100
TZNAME:CET
DTSTART:20251026T010000
END:STANDARD
BEGIN:DAYLIGHT
TZOFFSETFROM:+0100
TZOFFSETTO:+0200
TZNAME:CEST
DTSTART:20260329T010000
END:DAYLIGHT
BEGIN:STANDARD
TZOFFSETFROM:+0200
TZOFFSETTO:+0100
TZNAME:CET
DTSTART:20261025T010000
END:STANDARD
END:VTIMEZONE
BEGIN:VEVENT
DTSTART;TZID=Europe/Berlin:20250306T190000
DTEND;TZID=Europe/Berlin:20250306T210000
DTSTAMP:20260420T082734
CREATED:20241223T142053Z
LAST-MODIFIED:20241223T142053Z
UID:10000239-1741287600-1741294800@stephanhachtmann.de
SUMMARY:Herzensgebet
DESCRIPTION:regelmäßige Meditationsgruppe in Hamburg/Volksdorf \nViele Menschen finden in der Kontemplation mit dem  Herzensgebet einen Weg\, der bewährtes Erfahrungswissen mit zeitgemäßer Spiritualität kombiniert. Er baut Brücken für eine interreligiöse und integrale Spiritualität\, die tief in der christlichen Tradition verwurzelt ist. \nDie Praxis geschieht mit einem kurzen Satz oder Wort\, sie öffnen die Wahrnehmung für das Dasein in der Gegenwart. Einsichten können wachsen\, die Klärung und Wandlung voranbringen. \nWir praktizieren das stille Sitzen und einfache Körperübungen. Achtsames Gehen\, inhaltliche Impulse\, Erfahrungen mit Stimme und Klang oder das mitteilende Gespräch sind wiederkehrende Gestaltungselemente. \nAlle\, denen das Herzensgebet vertraut ist oder die sich diesem Weg öffnen möchten\, sind herzlich willkommen.\nDie Einzelbegleitung ist Teil der Erfahrung (ein Gespräch pro Teilnehmer*in in jedem Kurshalbjahr). \nAlle 9 Termine\, jeweils donnerstags\, 19 – 21 Uhr\n6. und 20. Februar 2025\n6. und 20. März 2025\n3.\,17. und 30. April (Mittwoch!) 2025\n15. Mai\, 28. Mai (Mittwoch!) 2025 \nLEITUNG\nSTEPHAN HACHTMANN \nKOSTEN\n€ 100\,- \nHier geht es zur Anmeldung Meditationsgruppe Herzensgebet für das 1. Halbjahr 2025 \nGruppenstart: 6. Februar 2025\n \nBitte rechtzeitig anmelden! Anmeldungen nach dem ersten Treffen sind nicht mehr möglich.
URL:https://stephanhachtmann.de/die-veranstaltung/herzensgebet-7/2025-03-06/
LOCATION:Meditation in Volksdorf\, Rockenhof 1\, Hamburg\, 22359\, Deutschland
CATEGORIES:Alle Veranstaltungen,PRÄSENZ Veranstaltungen
ATTACH;FMTTYPE=image/jpeg:https://stephanhachtmann.de/wp-content/uploads/2024/05/Webherzensgebet-2024-e1716204554644.jpg
ORGANIZER;CN="Meditation in Volksdorf":MAILTO:info@meditation-in-volksdorf.de
END:VEVENT
BEGIN:VEVENT
DTSTART;TZID=Europe/Berlin:20250319T190000
DTEND;TZID=Europe/Berlin:20250319T210000
DTSTAMP:20260420T082734
CREATED:20240909T101340Z
LAST-MODIFIED:20250401T182656Z
UID:10000192-1742410800-1742418000@stephanhachtmann.de
SUMMARY:Herzensgebet – Offene Gruppe „Berührt vom Klang der Stille“ – ONLINE Termine 1. HJ 2025
DESCRIPTION:Monatliches ONLINE-Angebot im deutschsprachigen Raum\nTermine 1. Halbjahr 2025\n(Eine Kursreihe in Kooperation mit dem Seminar- und Tagungszentrum Benediktushof Holzkirchen)\nimmer mittwochs von 19-21 Uhr\nLass dich beflügeln zu einer größeren Weite\,\ndie dich erfahren lässt\, wie du aufgehoben bist\nzwischen Himmel und Erde.    Pierre Stutz \nVon den guten Erfahrungen und Rückmeldungen der ONLINE-Meetings inspiriert\, bin ich jedes Mal erfreut\, welche spirituellen Erfahrungen uns dieses etwas andere Miteinander im digitalen Raum schenkt und wie aussergewöhnlich der eine GEIST weht – wo auch immer ER/SIE/ES es will… \nAuch freue ich mich\, mit der Einen oder dem Anderen aus meinen Seminaren auf diese Weise wieder in Kontakt zu kommen und den Weg des Herzens zu vertiefen. \nViele Menschen finden in der Kontemplation mit dem  Herzensgebet einen Weg\, der ein bewährtes Erfahrungswissen mit zeitgemäßer Spiritualität kombiniert. Dieser Weg kann die Grundlage für eine spirituelle Lebenskunst sein und Brücken für eine interreligiöse und integrale Spiritualität bauen. \nDas Herzensgebet ist tief in der christlichen Tradition verwurzelt. Die alltagsorientierte Praxis geschieht mit einem kurzen Satz oder Wort. Dieses einfache Klanggebet des Herzens (Mantra) öffnet das Bewusstsein für die Wahrnehmung des Daseins in der Gegenwart Gottes. \nHier finden Sie eine weiterführende Einführung ins Herzensgebet: Berührt vom Klang der Liebe – Grundlage einer spirituellen Lebenskunst  \nGestaltungselemente im ZOOM-Meeting\nangeleitete und stille Meditation\, spirituelle Impulse\, achtsamer Dialog und Austausch zu sprituellen Wegerfahrungen im Plenum oder in der Kleingruppe\, Körper- und Atemwahrnehmung als Gebärdengebet oder mit eingespielter Musik\, einfache Rituale\, Singen spiritueller Lieder (ich spiele live – dazu wird im eigenen Raum gesungen) \nTeilnahmebeitrag\n25 € pro ZOOM-Meeting (zwei Stunden) \nLeitung\n\nSTEPHAN HACHTMANN – Kontemplationslehrer VIA CORDIS®\, Diakon\, Seminar- und Vortragstätigkeit zu Herzensgebet\, Integraler Spiritualität und Spiritualität und Abhängigkeitserfahrungen\, Autor u. a. „Berührt vom Klang der Liebe – Wege zum Herzensgebet“ (Kreuz Verlag)\, Musiker und Komponist spiritueller Lieder \nAnmeldung\nBitte senden Sie eine Email an: info@stephanhachtmann.de oder melden Sie sich über das untenstehende Formular an. \nNach der Anmeldung schicke ich Ihnen/Euch den ZOOM-Link zu\, sowie die Kontoangaben zur Überweisung des Teilnahmebeitrages. \nFehler: Kontaktformular wurde nicht gefunden.
URL:https://stephanhachtmann.de/die-veranstaltung/herzensgebet-offene-gruppe-beruehrt-vom-klang-der-stille-online-termine-1-hj/2025-03-19/
LOCATION:ONLINE-Angebot per ZOOM\, Deutschland
CATEGORIES:Alle Veranstaltungen,ONLINE Veranstaltungen
ATTACH;FMTTYPE=image/jpeg:https://stephanhachtmann.de/wp-content/uploads/2023/12/Vorlage-Herzensgebet-Einfuehrung-e1716144383925.jpg
ORGANIZER;CN="AMBATON - Spirituelle Lebenskunst im Herz des Lebens":MAILTO:info@stephanhachtmann.de
END:VEVENT
BEGIN:VEVENT
DTSTART;TZID=Europe/Berlin:20250320T190000
DTEND;TZID=Europe/Berlin:20250320T210000
DTSTAMP:20260420T082734
CREATED:20241223T142053Z
LAST-MODIFIED:20241223T142053Z
UID:10000240-1742497200-1742504400@stephanhachtmann.de
SUMMARY:Herzensgebet
DESCRIPTION:regelmäßige Meditationsgruppe in Hamburg/Volksdorf \nViele Menschen finden in der Kontemplation mit dem  Herzensgebet einen Weg\, der bewährtes Erfahrungswissen mit zeitgemäßer Spiritualität kombiniert. Er baut Brücken für eine interreligiöse und integrale Spiritualität\, die tief in der christlichen Tradition verwurzelt ist. \nDie Praxis geschieht mit einem kurzen Satz oder Wort\, sie öffnen die Wahrnehmung für das Dasein in der Gegenwart. Einsichten können wachsen\, die Klärung und Wandlung voranbringen. \nWir praktizieren das stille Sitzen und einfache Körperübungen. Achtsames Gehen\, inhaltliche Impulse\, Erfahrungen mit Stimme und Klang oder das mitteilende Gespräch sind wiederkehrende Gestaltungselemente. \nAlle\, denen das Herzensgebet vertraut ist oder die sich diesem Weg öffnen möchten\, sind herzlich willkommen.\nDie Einzelbegleitung ist Teil der Erfahrung (ein Gespräch pro Teilnehmer*in in jedem Kurshalbjahr). \nAlle 9 Termine\, jeweils donnerstags\, 19 – 21 Uhr\n6. und 20. Februar 2025\n6. und 20. März 2025\n3.\,17. und 30. April (Mittwoch!) 2025\n15. Mai\, 28. Mai (Mittwoch!) 2025 \nLEITUNG\nSTEPHAN HACHTMANN \nKOSTEN\n€ 100\,- \nHier geht es zur Anmeldung Meditationsgruppe Herzensgebet für das 1. Halbjahr 2025 \nGruppenstart: 6. Februar 2025\n \nBitte rechtzeitig anmelden! Anmeldungen nach dem ersten Treffen sind nicht mehr möglich.
URL:https://stephanhachtmann.de/die-veranstaltung/herzensgebet-7/2025-03-20/
LOCATION:Meditation in Volksdorf\, Rockenhof 1\, Hamburg\, 22359\, Deutschland
CATEGORIES:Alle Veranstaltungen,PRÄSENZ Veranstaltungen
ATTACH;FMTTYPE=image/jpeg:https://stephanhachtmann.de/wp-content/uploads/2024/05/Webherzensgebet-2024-e1716204554644.jpg
ORGANIZER;CN="Meditation in Volksdorf":MAILTO:info@meditation-in-volksdorf.de
END:VEVENT
BEGIN:VEVENT
DTSTART;TZID=Europe/Berlin:20250322T100000
DTEND;TZID=Europe/Berlin:20250322T170000
DTSTAMP:20260420T082734
CREATED:20241112T101957Z
LAST-MODIFIED:20241223T220609Z
UID:10000202-1742637600-1742662800@stephanhachtmann.de
SUMMARY:Herzensgebet Hamburg Kirche der Stille
DESCRIPTION:Ein Übungstag in Stille für alle Interessierten \nDenn ob etwas ein Leben werden kann\,\ndas hängt nicht von den großen Ideen ab\,\nsondern davon\, ob man sich aus ihnen ein Handwerk schafft\,\nein Tägliches\, etwas\, was bei einem aushält bis an das Ende.\nRainer Maria Rilke zu Rodin \nViele Menschen finden in der Kontemplation mit dem Herzensgebet eine Tradition\, die ein bewährtes Erfahrungswissen mit einer zeitgemäßen Spiritualität kombiniert. \nDieser in der christlichen Tradition verwurzelte Weg kann Grundlage einer spirituellen Lebenskunst sein\, auf dem wir eine neue Beziehung zu Gott\, zu uns selbst\, unseren Mitmenschen und unserem Alltag finden. Einsichten können wachsen\, die Klärungs-\, Wandlungs- und Heilungsprozesse initiieren und voranbringen. \nDas Gebet des Herzens ist hörendes Beten und aufmerksames Verweilen in der Stille. Als wiederholendes Beten\, bei dem ein Wort oder kurzer Satz (Mantra) im Herzen bewegt wird\, hilft es\, Gedanken und Bilder loszulassen und offen zu werden für die atmende Gegenwart Gottes. \nGestaltung\nDas gemeinsame Schweigen\, ca. 6-7 Meditationszeiten a 20 min\, Atem- und Körperwahrnehmung\, spirituelle Impulse\, spirituelle Lieder und Gesänge \nLeitung\nStephan Hachtmann\, Kontemplationslehrer Via Cordis®\, Autor\, Musiker und Komponist spiritueller Lieder\nWebseite: www.stephanhachtmann.de\nYouTube Kanal: Herzensgebet \nmehr Informationen und Anmeldung HIER
URL:https://stephanhachtmann.de/die-veranstaltung/herzensgebet-hamburg-kirche-der-stille/
LOCATION:Kirche der Stille\, Helenenstraße 14A\, Hamburg\, 22765\, Deutschland
CATEGORIES:Alle Veranstaltungen,PRÄSENZ Veranstaltungen
ATTACH;FMTTYPE=image/jpeg:https://stephanhachtmann.de/wp-content/uploads/2021/05/Kirche-innen-Niklas-Janke-scaled-e1619793298890.jpg
ORGANIZER;CN="Kirche der Stille":MAILTO:pastorin.koch-pauka@gmeinde-altona-ost.de
END:VEVENT
BEGIN:VEVENT
DTSTART;TZID=Europe/Berlin:20250324T183000
DTEND;TZID=Europe/Berlin:20250324T210000
DTSTAMP:20260420T082734
CREATED:20240818T191213Z
LAST-MODIFIED:20250331T105835Z
UID:10000187-1742841000-1742850000@stephanhachtmann.de
SUMMARY:Herzensgebet ONLINE Halbjahresgruppe „Wege ins Herz des Lebens“
DESCRIPTION:Kursangebot 1. Halbjahr 2025\nfür eine geschlossene ONLINE-Gruppe ab dem 27. Januar 2025\nDie Gruppe ist ausgebucht!\nAnmeldungen für das 2. Halbjahr sind HIER auf einer Warteliste möglich.\nDenn ob etwas ein Leben werden kann\, das hängt nicht von den großen Ideen ab\,\nsondern davon\, ob man sich aus ihnen ein Handwerk schafft\, ein Tägliches\,\netwas\, was bei einem aushält bis an das Ende.\n(Rainer Maria Rilke zu Auguste Rodin) \nDas Herzensgebet ist ein alter christlicher Meditationsweg\, auf dem sich bewährtes Erfahrungswissen mit einer zeitgemäßen integralen Spiritualität verbinden lässt. Die persönlichen Erfahrungen mit diesem Weg können Räume öffnen\, die in die Ruhe des Herzens führen. \nDiese spirituelle Lebenskunst kann klärende Transformationsprozeße anregen und Wandlungs- und Heilungsschritte auf unserem Lebensweg ermöglichen. \nIn einer festen und verbindlichen Gruppengröße von ca. 16 Teilnehmer*innen\, kann das gemeinsame Erleben zu einem kontinuierlichen und inspirierender Wachstumsraum in der spirituellen Tradition des Herzensgebetes werden. Grundlegend für das verwandelnde Erleben ist die eigene vertiefende Erfahrung der Meditation und des Schweigens im persönlichen Alltag. \nWIEDERKEHRENDE GESTALTUNGSELEMENTE\nangeleitete und stille Kontemplation mit dem Herzensgebet\, Atem- und Körperwahrnehmungsübungen\, Gebetsgebärden\, spirituelle Lieder und Mantren\, themenbezogene spirituelle Impulse\, einfache wiederkehrende Rituale\, achtsamer Austausch in Kleingruppe und Plenum. \nTERMINE 1. Halbjahr 2025\nimmer montags von 18.30 – 21.00 Uhr \n27. Januar 2025\n24. Februar 2025\n24. März 2025\n28. April 2025\n19. Mai 2025\n9. Juni 2025 \nDie weiterführende verbindliche Anmeldung für diese Gruppe erfolgt am Ende des Kurse für ein nächstes halbes Jahr. \nLEITUNG\nSTEPHAN HACHTMANN – Kontemplationslehrer VIA CORDIS®\, Diakon\, Seminar- und Vortragstätigkeit zu Herzensgebet\, Integraler Spiritualität und Spiritualität und Abhängigkeitserfahrungen\, Autor u. a. „Berührt vom Klang der Liebe – Wege zum Herzensgebet“ (Kreuz Verlag)\, Musiker und Komponist spiritueller Lieder \n\nKOSTEN\n240 Euro (sechs Termine\, incl. 1 h Einzelbegleitung) \nANMELDUNG WARTELISTE 2. HALBJAHR 2025\nBitte per E-Mail mit Angabe der Telefonnummer an: info@stephanhachtmann.de\nNach der Anmeldung erhalten Sie alle weiterführenden Informationen zu Ihrer Anmeldung.
URL:https://stephanhachtmann.de/die-veranstaltung/herzensgebet-online-halbjahresgruppe-wege-ins-herz-des-lebens-2/2025-03-24/
LOCATION:ONLINE-Angebot per ZOOM\, Deutschland
CATEGORIES:Alle Veranstaltungen,ONLINE Veranstaltungen
ATTACH;FMTTYPE=image/jpeg:https://stephanhachtmann.de/wp-content/uploads/2024/08/Herzensgebet-ONLINE-1.-HJ-25-WiHdL-e1724008323160.jpg
ORGANIZER;CN="AMBATON - Spirituelle Lebenskunst im Herz des Lebens":MAILTO:info@stephanhachtmann.de
END:VEVENT
BEGIN:VEVENT
DTSTART;TZID=Europe/Berlin:20250328T100000
DTEND;TZID=Europe/Berlin:20250328T170000
DTSTAMP:20260420T082734
CREATED:20231228T113019Z
LAST-MODIFIED:20241223T220333Z
UID:10000128-1743156000-1743181200@stephanhachtmann.de
SUMMARY:Klostertag - Vom Atem und Leib im Klangraum der Stille
DESCRIPTION:Ein Stiller Tag in der Tradition des Herzensgebetes\n„Von allen Seiten umgibst Du mich\nund hältst deine Hand über mir. “\n– Psalm 139\,5 \nAtem umgibt uns von allen Seiten und erfüllt uns. Im Atemfluss empfange ich das Geschenk des Lebens in meinem Leib und gebe es weiter. Die Überlieferung in der Wegtradition des Herzensgebetes kennt die Verbindung des Atems mit einem Herzensgebet und weckt das Bewusstsein für die Weisheit der Verkörperlichung des Lichtes im Leib. \nDas atmende mantrische Beten kann uns in die Ruhe unseres Herzens führen und uns lehren\, unseren ganz eigenen Lebensrhythmus und unser Maß zu finden. Im Erspüren des Atems im Leib kann mich immer wieder neu bewusst dem Geschenk des Lebens öffnen und es gestalten. \nGESTALTUNGSELEMENTE\nAn diesem Schweigetag wollen wir im stillen Sitzen die heilsame Geborgenheit im Atem des Lebens erfahren. Körperwahrnehmungs- und Atemübungen\, das Singen spiritueller Lieder und inhaltliche Impulse unterstützen uns dabei. \nLeitung\nStephan Hachtmann \nmehr Informationen und Anmeldung HIER
URL:https://stephanhachtmann.de/die-veranstaltung/klostertag-dankbarkeit/
LOCATION:Kloster Wennigsen\, Klosteramthof 3\, Wennigsen\, 30974\, Deutschland
CATEGORIES:Alle Veranstaltungen,PRÄSENZ Veranstaltungen
ATTACH;FMTTYPE=image/jpeg:https://stephanhachtmann.de/wp-content/uploads/2023/12/Atembild-Monreale-Kathedrale-Mosaik-Adam-e1734989266478.jpeg
ORGANIZER;CN="Kloster Wennigsen":MAILTO:info@kloster-wennigsen.de
END:VEVENT
END:VCALENDAR