BEGIN:VCALENDAR
VERSION:2.0
PRODID:-//Stephan Hachtmann - ECPv6.15.19//NONSGML v1.0//EN
CALSCALE:GREGORIAN
METHOD:PUBLISH
X-ORIGINAL-URL:https://stephanhachtmann.de
X-WR-CALDESC:Veranstaltungen für Stephan Hachtmann
REFRESH-INTERVAL;VALUE=DURATION:PT1H
X-Robots-Tag:noindex
X-PUBLISHED-TTL:PT1H
BEGIN:VTIMEZONE
TZID:Europe/Berlin
BEGIN:DAYLIGHT
TZOFFSETFROM:+0100
TZOFFSETTO:+0200
TZNAME:CEST
DTSTART:20240331T010000
END:DAYLIGHT
BEGIN:STANDARD
TZOFFSETFROM:+0200
TZOFFSETTO:+0100
TZNAME:CET
DTSTART:20241027T010000
END:STANDARD
BEGIN:DAYLIGHT
TZOFFSETFROM:+0100
TZOFFSETTO:+0200
TZNAME:CEST
DTSTART:20250330T010000
END:DAYLIGHT
BEGIN:STANDARD
TZOFFSETFROM:+0200
TZOFFSETTO:+0100
TZNAME:CET
DTSTART:20251026T010000
END:STANDARD
BEGIN:DAYLIGHT
TZOFFSETFROM:+0100
TZOFFSETTO:+0200
TZNAME:CEST
DTSTART:20260329T010000
END:DAYLIGHT
BEGIN:STANDARD
TZOFFSETFROM:+0200
TZOFFSETTO:+0100
TZNAME:CET
DTSTART:20261025T010000
END:STANDARD
END:VTIMEZONE
BEGIN:VEVENT
DTSTART;TZID=Europe/Berlin:20250206T190000
DTEND;TZID=Europe/Berlin:20250206T210000
DTSTAMP:20260420T070056
CREATED:20241223T142053Z
LAST-MODIFIED:20241223T142053Z
UID:10000237-1738868400-1738875600@stephanhachtmann.de
SUMMARY:Herzensgebet
DESCRIPTION:regelmäßige Meditationsgruppe in Hamburg/Volksdorf \nViele Menschen finden in der Kontemplation mit dem  Herzensgebet einen Weg\, der bewährtes Erfahrungswissen mit zeitgemäßer Spiritualität kombiniert. Er baut Brücken für eine interreligiöse und integrale Spiritualität\, die tief in der christlichen Tradition verwurzelt ist. \nDie Praxis geschieht mit einem kurzen Satz oder Wort\, sie öffnen die Wahrnehmung für das Dasein in der Gegenwart. Einsichten können wachsen\, die Klärung und Wandlung voranbringen. \nWir praktizieren das stille Sitzen und einfache Körperübungen. Achtsames Gehen\, inhaltliche Impulse\, Erfahrungen mit Stimme und Klang oder das mitteilende Gespräch sind wiederkehrende Gestaltungselemente. \nAlle\, denen das Herzensgebet vertraut ist oder die sich diesem Weg öffnen möchten\, sind herzlich willkommen.\nDie Einzelbegleitung ist Teil der Erfahrung (ein Gespräch pro Teilnehmer*in in jedem Kurshalbjahr). \nAlle 9 Termine\, jeweils donnerstags\, 19 – 21 Uhr\n6. und 20. Februar 2025\n6. und 20. März 2025\n3.\,17. und 30. April (Mittwoch!) 2025\n15. Mai\, 28. Mai (Mittwoch!) 2025 \nLEITUNG\nSTEPHAN HACHTMANN \nKOSTEN\n€ 100\,- \nHier geht es zur Anmeldung Meditationsgruppe Herzensgebet für das 1. Halbjahr 2025 \nGruppenstart: 6. Februar 2025\n \nBitte rechtzeitig anmelden! Anmeldungen nach dem ersten Treffen sind nicht mehr möglich.
URL:https://stephanhachtmann.de/die-veranstaltung/herzensgebet-7/2025-02-06/
LOCATION:Meditation in Volksdorf\, Rockenhof 1\, Hamburg\, 22359\, Deutschland
CATEGORIES:Alle Veranstaltungen,PRÄSENZ Veranstaltungen
ATTACH;FMTTYPE=image/jpeg:https://stephanhachtmann.de/wp-content/uploads/2024/05/Webherzensgebet-2024-e1716204554644.jpg
ORGANIZER;CN="Meditation in Volksdorf":MAILTO:info@meditation-in-volksdorf.de
END:VEVENT
BEGIN:VEVENT
DTSTART;TZID=Europe/Berlin:20250207T183000
DTEND;TZID=Europe/Berlin:20250207T200000
DTSTAMP:20260420T070056
CREATED:20240818T122819Z
LAST-MODIFIED:20250207T094323Z
UID:10000197-1738953000-1738958400@stephanhachtmann.de
SUMMARY:Was ist das HERZ DES LEBENS?
DESCRIPTION:3-teiliger ONLINE-Kurs zu einem neuen Symbol\nSO WIE WIR DAS GÖTTLICHE HERZ IN UNS AUFNEHMEN\nSO NIMMT DAS GÖTTLICHE HERZ UNS ZU SICH AUF\nUND VEREINT ALLES WERDEN IM SEIN\nHundertklang – St.H8mann \nVor über zwanzig Jahren\, während einer Einkehr- und Klosterzeit\, hat mich ein Zeichen nachhaltig berührt\, welches ich während eines Spazierganges in einer Wolkenkonstellation über mir entdeckte. Durch eine Öffnung in der Wolkendecke überstrahlte die aufgehende Morgensonne das weite Land. Die einfache Form der Himmelsöffnung erinnerte mich an zwei Herzen. \nZWEI HERZEN\, die unauflösbar miteinander verwoben und in ihrer allvereinigenden Dimension EIN Herz sind. \n\nWas mich tief berührte\, war das von Licht durchströmte Zusammenwirken von Kräften\, die ineinander verwoben sind und zueinander streben und sich an ihre Verbundenheit erinnern. Hochzeitliche Verbindung von Himmel und Erde. „Ich und der Vater sind eins.“ (Joh. 10\, 30) Vereinigung von Sichtbarem und Unsichtbaren – Vergänglichem und Unvergänglichem – Erschaffenen und Erschaffenden. In der Gestalt des HERZ DES LEBENS eint sich die Zweiheit der Dualität in die Formgestalt der EINHEIT. Dieses Herz ist ein neues Symbol ganz im Zeichen der Zusammengehörigkeit von Transzendenz und Immanenz. Das Licht des Himmlischen und die Materieschwingung des Irdischen wird im HERZ DES LEBENS zum LICHT-MATERIE-HERZ. „Das WORT wird Fleisch“ (Joh. 1\, 14) Oben wie Unten. Unten wie oben. „Gott wurde Mensch\, damit der Mensch Gott wird.“ (Augustinus). \nVerschiedene theologische Einsichten\, christologische Zugänge und interspirituelle Zusammenhänge im Herz des Lebens können immer neue Perspektiven und Tiefenstrukturen öffnen. Das Herz des Lebens als inhaltlicher und didaktischer Zugang findet in den Gestaltungselementen meiner Seminare zum Herzensgebet sichtbaren Ausdruck und Gestalt. \nDer Weg des Herzensgebetes als Grundlage einer spirituellen Lebenskunst\, scheint wie dafür wie geschaffen zu sein\, das Herz des Lebens mit Leben zu füllen und findet im Klang des Herzensgebetes seinen ureigenen und persönlichen Ausdruck. \nDEIN DIE FÜLLE DEIN DIE LEERE\nDEIN ALLEINKLANG IN DER STILLE\nDEIN ICH BIN UND NIE VERGEBENS\nDEIN ICH BIN IM HERZ DES LEBENS\nHundertklang – St.H8mann \nI. Teil – Freitag\, 31. Januar 2025\, 18.30-20.00 Uhr\nGeborgen im HERZ DES LEBENS\n– die Entstehungsgeschichte und Hintergrund dieses Zeichens\n– Verbindungen zur Weisheit der Heiligen Geometrie\n– Beziehung zu anderen Ganzheitssymbolen und verwandten Zeichen in der Kulturgeschichte (z.B. Blume des Lebens\, Baum des Lebens\, Menora\, Bruder Klaus Rad …) \nII. Teil – Freitag\, 07. Februar 2025\, 18.30-20.00 Uhr\nDas HERZ DES LEBENS und seine Verbindungen zum Herzensgebet\n– das HERZ DES  LEBENS als Brennpunkt im Symbol des Kreuzes\n– Eingangstor eines tiefen Verstehens im Klang des ICH BIN\n– das persönliche Herzensgebet ist der ALLEINKLANG DER LIEBE im HERZ DES LEBENS\n– das HERZ DES LEBENS als Zeitzeichen im Christusklang eines neuen BewusstWerdeSeins \nIII. Teil – Freitag\, 14. Februar 2025\, 18.30-20.00 Uhr\nDas HERZ DES LEBENS – Aufbau und Gestaltung\n– wir zeichnen und gestalten mit Zirkel und Bleistift ein HERZ DES LEBENS\n– einführende und erklärende  Zeichenanleitung\n– Anregungen zu verschiedenen Gestaltungsformen \nLEITUNG\nSTEPHAN HACHTMANN – Kontemplationslehrer VIA CORDIS®\, Diakon\, Seminar- und Vortragstätigkeit zu Herzensgebet\, Integraler Spiritualität und Spiritualität und Abhängigkeitserfahrungen\, Autor u. a. „Berührt vom Klang der Liebe – Wege zum Herzensgebet“ (Kreuz Verlag)\, Musiker und Komponist spiritueller Lieder\n\n  \n  \n  \n  \n  \n  \nDieser Kurs ist nicht mehr zu buchen.\nDer nächste Kurs beginnt am Freitag\, den 14. November 2025.\nAnmeldung HIER
URL:https://stephanhachtmann.de/die-veranstaltung/was-ist-das-herz-des-lebens/2025-02-07/
LOCATION:ONLINE-Angebot per ZOOM\, Deutschland
CATEGORIES:Alle Veranstaltungen,ONLINE Veranstaltungen
ATTACH;FMTTYPE=image/jpeg:https://stephanhachtmann.de/wp-content/uploads/2024/08/Was-ist-das-HERZ-DES-LEBENS-ONLINE-KURS-2024-e1723983394218.jpg
ORGANIZER;CN="AMBATON - Spirituelle Lebenskunst im Herz des Lebens":MAILTO:info@stephanhachtmann.de
END:VEVENT
BEGIN:VEVENT
DTSTART;TZID=Europe/Berlin:20250211T154500
DTEND;TZID=Europe/Berlin:20250211T171500
DTSTAMP:20260420T070056
CREATED:20241223T141049Z
LAST-MODIFIED:20241225T130630Z
UID:10000235-1739288700-1739294100@stephanhachtmann.de
SUMMARY:Meditations- und Entspannungsgruppe
DESCRIPTION:Frühjahrskurs für Menschen mit Abhängigkeitserfahrungen und deren Angehörige\nMeditation ist immer noch besser\nals einfach nur so rumzusitzen\nund garnichts zu tun.\nKlaus Klages \nStart: Dienstag\, 11. Februar 2025\nZwölf Termine\, jeweils 15.45 – 17.15 Uhr \n11.\, 18. und 25. Februar 2025\n4.\, 11.; 18. und 25. März 2025\n1.\, 8.\, 15.\, und 29. April 2025\n6. Mai 2025 \nMit diesem bewusstseins- und aufmerksamkeitsschulenden Angebot werden einführend und vertiefend die Körperwahrnehmung\, die Atemwahrnehmung\, die Gedankenwahrnehmung\, der Umgang mit Emotionen und die Meditation im stillen Sitzen eingeübt. \nDie alltagstauglichen Übungen dienen dem inneren zur Ruhe kommen und der achtsamen Präsenz im Hier und Jetzt. \nDas Angebot ist geeignet für Menschen:\n– die unter Stress und starker innerer oder äußerer Belastung leiden\n– die eine sinnvolle und heilsame Ergänzung zur medizinischen oder psychotherapeutischen Behandlung suchen\n– die das Angebot als Rückfallprophylaxe und zur allgemeinen Entspannung und Stabilisierung nutzen möchten\n– die unter körperlichen Verspannungen und Schmerzen leiden\n– die Achtsamkeit und Lebendigkeit in ihrem Leben mehr Raum geben möchten \nLeitung\nStephan Hachtmann \nZielgruppe\nMenschen mit Abhängigkeitserfahrungen und deren Angehörige \nAnmeldung und Informationen per Mail\nspirituelleangebote@diakonie-hhsh.de oder wenn Sie bereits Klient*in im Lukas Suchthilfezentrum Hamburg-West/Südholstein sind\, direkt über Ihre Beraterin oder Ihren Berater \nDas Angebot ist kostenfrei. \n \nDas Angebot ist eine Kooperation des Arbeitsbereichs Spirituelle Angebote mit der Suchthilfeeinrichtung des Kirchenkreises Hamburg-West/Südholstein Lukas Suchthilfezentrum Hamburg-West\n www.lukas-suchthilfezentrum.de
URL:https://stephanhachtmann.de/die-veranstaltung/meditations-und-entspannungsgruppe/
LOCATION:Lukas Suchthilfezentrum Hamburg-West\, Luruper Hauptstr. 138\, Hamburg\, 22547\, Deutschland
CATEGORIES:Alle Veranstaltungen,PRÄSENZ Veranstaltungen
ATTACH;FMTTYPE=image/jpeg:https://stephanhachtmann.de/wp-content/uploads/2024/12/meditation-foto-pixabay-e1735131985275.jpg
ORGANIZER;CN="Spirituelle Angebote im Kirchenkreis Hamburg/West-S%C3%BCdholstein%2C  Stephan Hachtmann":MAILTO:spirituelleangebote@diakonie-hhsh.de
END:VEVENT
BEGIN:VEVENT
DTSTART;TZID=Europe/Berlin:20250214T183000
DTEND;TZID=Europe/Berlin:20250214T200000
DTSTAMP:20260420T070056
CREATED:20240818T122819Z
LAST-MODIFIED:20250207T094323Z
UID:10000198-1739557800-1739563200@stephanhachtmann.de
SUMMARY:Was ist das HERZ DES LEBENS?
DESCRIPTION:3-teiliger ONLINE-Kurs zu einem neuen Symbol\nSO WIE WIR DAS GÖTTLICHE HERZ IN UNS AUFNEHMEN\nSO NIMMT DAS GÖTTLICHE HERZ UNS ZU SICH AUF\nUND VEREINT ALLES WERDEN IM SEIN\nHundertklang – St.H8mann \nVor über zwanzig Jahren\, während einer Einkehr- und Klosterzeit\, hat mich ein Zeichen nachhaltig berührt\, welches ich während eines Spazierganges in einer Wolkenkonstellation über mir entdeckte. Durch eine Öffnung in der Wolkendecke überstrahlte die aufgehende Morgensonne das weite Land. Die einfache Form der Himmelsöffnung erinnerte mich an zwei Herzen. \nZWEI HERZEN\, die unauflösbar miteinander verwoben und in ihrer allvereinigenden Dimension EIN Herz sind. \n\nWas mich tief berührte\, war das von Licht durchströmte Zusammenwirken von Kräften\, die ineinander verwoben sind und zueinander streben und sich an ihre Verbundenheit erinnern. Hochzeitliche Verbindung von Himmel und Erde. „Ich und der Vater sind eins.“ (Joh. 10\, 30) Vereinigung von Sichtbarem und Unsichtbaren – Vergänglichem und Unvergänglichem – Erschaffenen und Erschaffenden. In der Gestalt des HERZ DES LEBENS eint sich die Zweiheit der Dualität in die Formgestalt der EINHEIT. Dieses Herz ist ein neues Symbol ganz im Zeichen der Zusammengehörigkeit von Transzendenz und Immanenz. Das Licht des Himmlischen und die Materieschwingung des Irdischen wird im HERZ DES LEBENS zum LICHT-MATERIE-HERZ. „Das WORT wird Fleisch“ (Joh. 1\, 14) Oben wie Unten. Unten wie oben. „Gott wurde Mensch\, damit der Mensch Gott wird.“ (Augustinus). \nVerschiedene theologische Einsichten\, christologische Zugänge und interspirituelle Zusammenhänge im Herz des Lebens können immer neue Perspektiven und Tiefenstrukturen öffnen. Das Herz des Lebens als inhaltlicher und didaktischer Zugang findet in den Gestaltungselementen meiner Seminare zum Herzensgebet sichtbaren Ausdruck und Gestalt. \nDer Weg des Herzensgebetes als Grundlage einer spirituellen Lebenskunst\, scheint wie dafür wie geschaffen zu sein\, das Herz des Lebens mit Leben zu füllen und findet im Klang des Herzensgebetes seinen ureigenen und persönlichen Ausdruck. \nDEIN DIE FÜLLE DEIN DIE LEERE\nDEIN ALLEINKLANG IN DER STILLE\nDEIN ICH BIN UND NIE VERGEBENS\nDEIN ICH BIN IM HERZ DES LEBENS\nHundertklang – St.H8mann \nI. Teil – Freitag\, 31. Januar 2025\, 18.30-20.00 Uhr\nGeborgen im HERZ DES LEBENS\n– die Entstehungsgeschichte und Hintergrund dieses Zeichens\n– Verbindungen zur Weisheit der Heiligen Geometrie\n– Beziehung zu anderen Ganzheitssymbolen und verwandten Zeichen in der Kulturgeschichte (z.B. Blume des Lebens\, Baum des Lebens\, Menora\, Bruder Klaus Rad …) \nII. Teil – Freitag\, 07. Februar 2025\, 18.30-20.00 Uhr\nDas HERZ DES LEBENS und seine Verbindungen zum Herzensgebet\n– das HERZ DES  LEBENS als Brennpunkt im Symbol des Kreuzes\n– Eingangstor eines tiefen Verstehens im Klang des ICH BIN\n– das persönliche Herzensgebet ist der ALLEINKLANG DER LIEBE im HERZ DES LEBENS\n– das HERZ DES LEBENS als Zeitzeichen im Christusklang eines neuen BewusstWerdeSeins \nIII. Teil – Freitag\, 14. Februar 2025\, 18.30-20.00 Uhr\nDas HERZ DES LEBENS – Aufbau und Gestaltung\n– wir zeichnen und gestalten mit Zirkel und Bleistift ein HERZ DES LEBENS\n– einführende und erklärende  Zeichenanleitung\n– Anregungen zu verschiedenen Gestaltungsformen \nLEITUNG\nSTEPHAN HACHTMANN – Kontemplationslehrer VIA CORDIS®\, Diakon\, Seminar- und Vortragstätigkeit zu Herzensgebet\, Integraler Spiritualität und Spiritualität und Abhängigkeitserfahrungen\, Autor u. a. „Berührt vom Klang der Liebe – Wege zum Herzensgebet“ (Kreuz Verlag)\, Musiker und Komponist spiritueller Lieder\n\n  \n  \n  \n  \n  \n  \nDieser Kurs ist nicht mehr zu buchen.\nDer nächste Kurs beginnt am Freitag\, den 14. November 2025.\nAnmeldung HIER
URL:https://stephanhachtmann.de/die-veranstaltung/was-ist-das-herz-des-lebens/2025-02-14/
LOCATION:ONLINE-Angebot per ZOOM\, Deutschland
CATEGORIES:Alle Veranstaltungen,ONLINE Veranstaltungen
ATTACH;FMTTYPE=image/jpeg:https://stephanhachtmann.de/wp-content/uploads/2024/08/Was-ist-das-HERZ-DES-LEBENS-ONLINE-KURS-2024-e1723983394218.jpg
ORGANIZER;CN="AMBATON - Spirituelle Lebenskunst im Herz des Lebens":MAILTO:info@stephanhachtmann.de
END:VEVENT
BEGIN:VEVENT
DTSTART;TZID=Europe/Berlin:20250219T190000
DTEND;TZID=Europe/Berlin:20250219T210000
DTSTAMP:20260420T070056
CREATED:20240909T101340Z
LAST-MODIFIED:20250401T182656Z
UID:10000191-1739991600-1739998800@stephanhachtmann.de
SUMMARY:Herzensgebet – Offene Gruppe „Berührt vom Klang der Stille“ – ONLINE Termine 1. HJ 2025
DESCRIPTION:Monatliches ONLINE-Angebot im deutschsprachigen Raum\nTermine 1. Halbjahr 2025\n(Eine Kursreihe in Kooperation mit dem Seminar- und Tagungszentrum Benediktushof Holzkirchen)\nimmer mittwochs von 19-21 Uhr\nLass dich beflügeln zu einer größeren Weite\,\ndie dich erfahren lässt\, wie du aufgehoben bist\nzwischen Himmel und Erde.    Pierre Stutz \nVon den guten Erfahrungen und Rückmeldungen der ONLINE-Meetings inspiriert\, bin ich jedes Mal erfreut\, welche spirituellen Erfahrungen uns dieses etwas andere Miteinander im digitalen Raum schenkt und wie aussergewöhnlich der eine GEIST weht – wo auch immer ER/SIE/ES es will… \nAuch freue ich mich\, mit der Einen oder dem Anderen aus meinen Seminaren auf diese Weise wieder in Kontakt zu kommen und den Weg des Herzens zu vertiefen. \nViele Menschen finden in der Kontemplation mit dem  Herzensgebet einen Weg\, der ein bewährtes Erfahrungswissen mit zeitgemäßer Spiritualität kombiniert. Dieser Weg kann die Grundlage für eine spirituelle Lebenskunst sein und Brücken für eine interreligiöse und integrale Spiritualität bauen. \nDas Herzensgebet ist tief in der christlichen Tradition verwurzelt. Die alltagsorientierte Praxis geschieht mit einem kurzen Satz oder Wort. Dieses einfache Klanggebet des Herzens (Mantra) öffnet das Bewusstsein für die Wahrnehmung des Daseins in der Gegenwart Gottes. \nHier finden Sie eine weiterführende Einführung ins Herzensgebet: Berührt vom Klang der Liebe – Grundlage einer spirituellen Lebenskunst  \nGestaltungselemente im ZOOM-Meeting\nangeleitete und stille Meditation\, spirituelle Impulse\, achtsamer Dialog und Austausch zu sprituellen Wegerfahrungen im Plenum oder in der Kleingruppe\, Körper- und Atemwahrnehmung als Gebärdengebet oder mit eingespielter Musik\, einfache Rituale\, Singen spiritueller Lieder (ich spiele live – dazu wird im eigenen Raum gesungen) \nTeilnahmebeitrag\n25 € pro ZOOM-Meeting (zwei Stunden) \nLeitung\n\nSTEPHAN HACHTMANN – Kontemplationslehrer VIA CORDIS®\, Diakon\, Seminar- und Vortragstätigkeit zu Herzensgebet\, Integraler Spiritualität und Spiritualität und Abhängigkeitserfahrungen\, Autor u. a. „Berührt vom Klang der Liebe – Wege zum Herzensgebet“ (Kreuz Verlag)\, Musiker und Komponist spiritueller Lieder \nAnmeldung\nBitte senden Sie eine Email an: info@stephanhachtmann.de oder melden Sie sich über das untenstehende Formular an. \nNach der Anmeldung schicke ich Ihnen/Euch den ZOOM-Link zu\, sowie die Kontoangaben zur Überweisung des Teilnahmebeitrages. \nFehler: Kontaktformular wurde nicht gefunden.
URL:https://stephanhachtmann.de/die-veranstaltung/herzensgebet-offene-gruppe-beruehrt-vom-klang-der-stille-online-termine-1-hj/2025-02-19/
LOCATION:ONLINE-Angebot per ZOOM\, Deutschland
CATEGORIES:Alle Veranstaltungen,ONLINE Veranstaltungen
ATTACH;FMTTYPE=image/jpeg:https://stephanhachtmann.de/wp-content/uploads/2023/12/Vorlage-Herzensgebet-Einfuehrung-e1716144383925.jpg
ORGANIZER;CN="AMBATON - Spirituelle Lebenskunst im Herz des Lebens":MAILTO:info@stephanhachtmann.de
END:VEVENT
BEGIN:VEVENT
DTSTART;TZID=Europe/Berlin:20250220T190000
DTEND;TZID=Europe/Berlin:20250220T210000
DTSTAMP:20260420T070056
CREATED:20241223T142053Z
LAST-MODIFIED:20241223T142053Z
UID:10000238-1740078000-1740085200@stephanhachtmann.de
SUMMARY:Herzensgebet
DESCRIPTION:regelmäßige Meditationsgruppe in Hamburg/Volksdorf \nViele Menschen finden in der Kontemplation mit dem  Herzensgebet einen Weg\, der bewährtes Erfahrungswissen mit zeitgemäßer Spiritualität kombiniert. Er baut Brücken für eine interreligiöse und integrale Spiritualität\, die tief in der christlichen Tradition verwurzelt ist. \nDie Praxis geschieht mit einem kurzen Satz oder Wort\, sie öffnen die Wahrnehmung für das Dasein in der Gegenwart. Einsichten können wachsen\, die Klärung und Wandlung voranbringen. \nWir praktizieren das stille Sitzen und einfache Körperübungen. Achtsames Gehen\, inhaltliche Impulse\, Erfahrungen mit Stimme und Klang oder das mitteilende Gespräch sind wiederkehrende Gestaltungselemente. \nAlle\, denen das Herzensgebet vertraut ist oder die sich diesem Weg öffnen möchten\, sind herzlich willkommen.\nDie Einzelbegleitung ist Teil der Erfahrung (ein Gespräch pro Teilnehmer*in in jedem Kurshalbjahr). \nAlle 9 Termine\, jeweils donnerstags\, 19 – 21 Uhr\n6. und 20. Februar 2025\n6. und 20. März 2025\n3.\,17. und 30. April (Mittwoch!) 2025\n15. Mai\, 28. Mai (Mittwoch!) 2025 \nLEITUNG\nSTEPHAN HACHTMANN \nKOSTEN\n€ 100\,- \nHier geht es zur Anmeldung Meditationsgruppe Herzensgebet für das 1. Halbjahr 2025 \nGruppenstart: 6. Februar 2025\n \nBitte rechtzeitig anmelden! Anmeldungen nach dem ersten Treffen sind nicht mehr möglich.
URL:https://stephanhachtmann.de/die-veranstaltung/herzensgebet-7/2025-02-20/
LOCATION:Meditation in Volksdorf\, Rockenhof 1\, Hamburg\, 22359\, Deutschland
CATEGORIES:Alle Veranstaltungen,PRÄSENZ Veranstaltungen
ATTACH;FMTTYPE=image/jpeg:https://stephanhachtmann.de/wp-content/uploads/2024/05/Webherzensgebet-2024-e1716204554644.jpg
ORGANIZER;CN="Meditation in Volksdorf":MAILTO:info@meditation-in-volksdorf.de
END:VEVENT
BEGIN:VEVENT
DTSTART;TZID=Europe/Berlin:20250222T100000
DTEND;TZID=Europe/Berlin:20250222T170000
DTSTAMP:20260420T070056
CREATED:20231228T115109Z
LAST-MODIFIED:20250103T175338Z
UID:10000248-1740218400-1740243600@stephanhachtmann.de
SUMMARY:Herz-des-Lebens-Gruppe Bremen
DESCRIPTION:Herzensgebet als Heilungsweg (feste Gruppe)\nSchulungstage 2025  – Herz-des-Lebens-Gruppe\nim Meditationshaus garten-etage in Bremen/Horn\n(geschlossene Gruppe)\nBEHÜTE DEIN HERZ\nDENN IN IHM WOHNT\nDIE EINE QUELLE DER LIEBE\nDIE HIMMEL UND ERDE VEREINT\nUND DAS HERZ DES LEBENS ERSCHAFFT\nHundertklang \nTagesseminare 2025 – jeweils 10-17 Uhr\n\n1. Vertiefungstag – Samstag\, 22. Februar 2025\, 10-17 Uhr\nDein Wille geschehe\n \n\ndas alle Christen verbindende Vaterunser-Gebet im Klang der Liebe\ndie verborgene Architektur und die unsichtbaren Kräfte in diesem Gebet\nAnregungen zu Texten von David Steindl-Rast \nmystische Einblicke und das Buch der Vollkommenheit nach Theresa von Avila \n\n2. Vertiefungstag – Samstag\, 17. Mai 2025\, 10-17 Uhr\nAtem- und Leiberfahrung im Gebetsklang des Herzens \n\ndas Geheimnis der heilsamen Gegenwart Gottes im Atem\nVerkörperlichung im Klang des Herzensgebetes\nVereinigung – im Herzen empfangen – in den Zellen erspüren \nEmpfangen und Geben – Einstrahlen und Ausstrahlen\ndie Bedeutung von Leib und Atem in der Grundübung der Kontemplation\nwahres LICHT – wahre MATERIE – CHRISTUS leibhaftig im Herzensgebet\n\n3. Vertiefungstag – Samstag\, 19. Juli 2025\, 10-17 Uhr\nVom Felsenherz zur Wasserquelle\nDie Lehre von den Gedanken nach Evagrius Ponticus \n\nvon Leidenschaften und Tugenden\nein neues Verständnis von Gesundung und Heilung\nvon Drachenwein und Engelsbrot oder wie sich Zorn in Sanftmut verwandelt (Ausführungen von Gabriel Bunge)\nreines Gewahrsein und die Gabe der Unterscheidung\ndrei Wegschnitte in die Ruhe des Herzens\ndie Weisheit der Wunde öffnet den Weg zum Wunder\n\n4. Vertiefungstag – Samstag\, 27. September 2025\, 10-17 Uhr\nStirb und Werde – Alles hat seine Zeit \n\nLöse und verbinde neu\nder große und der kleine Tod\nIchfreiheit und im Herzen Ewigkeit\nLehre uns bedenken\, dass wir Sterben müssen …\ndie Kunst des Sterbens\ndas Gedenken des Todes als spirituelle Grundübung\näußerliche Vergänglichkeit – innerliche Erneuerung\n\n5. Vertiefungstag – Samstag\, 29. November 2025\, 10-17 Uhr\n Maria – Stationen des Lebens \n\nBetrachtungen zu einer Ikone „Maria – Einführung in den Tempel\nVerheißungen eines marianischen BewusstWerdeSeins\nKräfte und Aspekte im dreistufigen Weg der Ganzhingabe\nAnalogien zu Ganzwerdung und Hingabe an das Heilige in uns\ndie Geburt des Christusbewusstseins im Kollektiven und Individuellen\nAlles ist Willkommen – das große JA – radikale Akzeptanz\n\nLeitung\nStephan Hachtmann \nHIER geht es zur Webseite des Veranstaltungsortes\nund Hinweisen zu dem 14-tägigen Meditationsangebot – jeweils am Mittwochabend
URL:https://stephanhachtmann.de/die-veranstaltung/herz-des-lebens-gruppe-bremen/2025-02-22/
LOCATION:meditationshaus garten-etage\, Elsa-Brändström-Str. 34\, Bremen\, 28359\, Deutschland
CATEGORIES:Alle Veranstaltungen,PRÄSENZ Veranstaltungen
ATTACH;FMTTYPE=image/jpeg:https://stephanhachtmann.de/wp-content/uploads/2021/11/Bremen-Gartenetage-scaled-e1734989933427.jpg
END:VEVENT
BEGIN:VEVENT
DTSTART;TZID=Europe/Berlin:20250224T183000
DTEND;TZID=Europe/Berlin:20250224T210000
DTSTAMP:20260420T070056
CREATED:20240818T191213Z
LAST-MODIFIED:20250331T105835Z
UID:10000186-1740421800-1740430800@stephanhachtmann.de
SUMMARY:Herzensgebet ONLINE Halbjahresgruppe „Wege ins Herz des Lebens“
DESCRIPTION:Kursangebot 1. Halbjahr 2025\nfür eine geschlossene ONLINE-Gruppe ab dem 27. Januar 2025\nDie Gruppe ist ausgebucht!\nAnmeldungen für das 2. Halbjahr sind HIER auf einer Warteliste möglich.\nDenn ob etwas ein Leben werden kann\, das hängt nicht von den großen Ideen ab\,\nsondern davon\, ob man sich aus ihnen ein Handwerk schafft\, ein Tägliches\,\netwas\, was bei einem aushält bis an das Ende.\n(Rainer Maria Rilke zu Auguste Rodin) \nDas Herzensgebet ist ein alter christlicher Meditationsweg\, auf dem sich bewährtes Erfahrungswissen mit einer zeitgemäßen integralen Spiritualität verbinden lässt. Die persönlichen Erfahrungen mit diesem Weg können Räume öffnen\, die in die Ruhe des Herzens führen. \nDiese spirituelle Lebenskunst kann klärende Transformationsprozeße anregen und Wandlungs- und Heilungsschritte auf unserem Lebensweg ermöglichen. \nIn einer festen und verbindlichen Gruppengröße von ca. 16 Teilnehmer*innen\, kann das gemeinsame Erleben zu einem kontinuierlichen und inspirierender Wachstumsraum in der spirituellen Tradition des Herzensgebetes werden. Grundlegend für das verwandelnde Erleben ist die eigene vertiefende Erfahrung der Meditation und des Schweigens im persönlichen Alltag. \nWIEDERKEHRENDE GESTALTUNGSELEMENTE\nangeleitete und stille Kontemplation mit dem Herzensgebet\, Atem- und Körperwahrnehmungsübungen\, Gebetsgebärden\, spirituelle Lieder und Mantren\, themenbezogene spirituelle Impulse\, einfache wiederkehrende Rituale\, achtsamer Austausch in Kleingruppe und Plenum. \nTERMINE 1. Halbjahr 2025\nimmer montags von 18.30 – 21.00 Uhr \n27. Januar 2025\n24. Februar 2025\n24. März 2025\n28. April 2025\n19. Mai 2025\n9. Juni 2025 \nDie weiterführende verbindliche Anmeldung für diese Gruppe erfolgt am Ende des Kurse für ein nächstes halbes Jahr. \nLEITUNG\nSTEPHAN HACHTMANN – Kontemplationslehrer VIA CORDIS®\, Diakon\, Seminar- und Vortragstätigkeit zu Herzensgebet\, Integraler Spiritualität und Spiritualität und Abhängigkeitserfahrungen\, Autor u. a. „Berührt vom Klang der Liebe – Wege zum Herzensgebet“ (Kreuz Verlag)\, Musiker und Komponist spiritueller Lieder \n\nKOSTEN\n240 Euro (sechs Termine\, incl. 1 h Einzelbegleitung) \nANMELDUNG WARTELISTE 2. HALBJAHR 2025\nBitte per E-Mail mit Angabe der Telefonnummer an: info@stephanhachtmann.de\nNach der Anmeldung erhalten Sie alle weiterführenden Informationen zu Ihrer Anmeldung.
URL:https://stephanhachtmann.de/die-veranstaltung/herzensgebet-online-halbjahresgruppe-wege-ins-herz-des-lebens-2/2025-02-24/
LOCATION:ONLINE-Angebot per ZOOM\, Deutschland
CATEGORIES:Alle Veranstaltungen,ONLINE Veranstaltungen
ATTACH;FMTTYPE=image/jpeg:https://stephanhachtmann.de/wp-content/uploads/2024/08/Herzensgebet-ONLINE-1.-HJ-25-WiHdL-e1724008323160.jpg
ORGANIZER;CN="AMBATON - Spirituelle Lebenskunst im Herz des Lebens":MAILTO:info@stephanhachtmann.de
END:VEVENT
END:VCALENDAR