BEGIN:VCALENDAR
VERSION:2.0
PRODID:-//Stephan Hachtmann - ECPv6.15.19//NONSGML v1.0//EN
CALSCALE:GREGORIAN
METHOD:PUBLISH
X-WR-CALNAME:Stephan Hachtmann
X-ORIGINAL-URL:https://stephanhachtmann.de
X-WR-CALDESC:Veranstaltungen für Stephan Hachtmann
REFRESH-INTERVAL;VALUE=DURATION:PT1H
X-Robots-Tag:noindex
X-PUBLISHED-TTL:PT1H
BEGIN:VTIMEZONE
TZID:Europe/Berlin
BEGIN:DAYLIGHT
TZOFFSETFROM:+0100
TZOFFSETTO:+0200
TZNAME:CEST
DTSTART:20230326T010000
END:DAYLIGHT
BEGIN:STANDARD
TZOFFSETFROM:+0200
TZOFFSETTO:+0100
TZNAME:CET
DTSTART:20231029T010000
END:STANDARD
BEGIN:DAYLIGHT
TZOFFSETFROM:+0100
TZOFFSETTO:+0200
TZNAME:CEST
DTSTART:20240331T010000
END:DAYLIGHT
BEGIN:STANDARD
TZOFFSETFROM:+0200
TZOFFSETTO:+0100
TZNAME:CET
DTSTART:20241027T010000
END:STANDARD
BEGIN:DAYLIGHT
TZOFFSETFROM:+0100
TZOFFSETTO:+0200
TZNAME:CEST
DTSTART:20250330T010000
END:DAYLIGHT
BEGIN:STANDARD
TZOFFSETFROM:+0200
TZOFFSETTO:+0100
TZNAME:CET
DTSTART:20251026T010000
END:STANDARD
END:VTIMEZONE
BEGIN:VEVENT
DTSTART;TZID=Europe/Berlin:20240704T190000
DTEND;TZID=Europe/Berlin:20240704T210000
DTSTAMP:20260419T160625
CREATED:20231228T114429Z
LAST-MODIFIED:20240516T094406Z
UID:10000150-1720119600-1720126800@stephanhachtmann.de
SUMMARY:Herzensgebet
DESCRIPTION:1. Halbjahr 2024 mit Stephan Hachtmann\nregelmäßige Meditationsgruppe in Hamburg/Volksdorf \nViele Menschen finden in der Kontemplation mit dem  Herzensgebet einen Weg\, der bewährtes Erfahrungswissen mit zeitgemäßer Spiritualität kombiniert. Er baut Brücken für eine interreligiöse und integrale Spiritualität\, die tief in der christlichen Tradition verwurzelt ist. \nDie Praxis geschieht mit einem kurzen Satz oder Wort\, sie öffnen die Wahrnehmung für das Dasein in der Gegenwart. Einsichten können wachsen\, die Klärung und Wandlung voranbringen. \nWir praktizieren das stille Sitzen und einfache Körperübungen. Achtsames Gehen\, inhaltliche Impulse\, Erfahrungen mit Stimme und Klang oder das mitteilende Gespräch sind wiederkehrende Gestaltungselemente. \nAlle\, denen das Herzensgebet vertraut ist oder die sich diesem Weg öffnen möchten\, sind herzlich willkommen.\nDie Einzelbegleitung ist Teil der Erfahrung (ein Gespräch pro Teilnehmer*in in jedem Kurshalbjahr). \nBitte rechtzeitig anmelden! Anmeldungen nach dem ersten Treffen sind nicht mehr möglich.\nDer neue Gruppenstart „Herzensgebet“ für das erste Halbjahr 2024 ist der 1. Februar. \nAlle 12 Termine:\njeweils donnerstags\, 19 – 21 Uhr\n\n1.; 15. und 29. Februar 2024\n14. und 28. März 2024\n11. und 25. April 2024\n2.; 16. und 23. Mai 2024\n20. Juni 2024\n4. Juli  2024 \nLeitung\nSTEPHAN HACHTMANN \nKosten\n€ 120\,- \nHIER weitere Informationen und Anmeldung
URL:https://stephanhachtmann.de/die-veranstaltung/herzensgebet-4/2024-07-04/
LOCATION:Meditation in Volksdorf\, Rockenhof 1\, Hamburg\, 22359\, Deutschland
CATEGORIES:Alle Veranstaltungen,PRÄSENZ Veranstaltungen
ATTACH;FMTTYPE=image/jpeg:https://stephanhachtmann.de/wp-content/uploads/2022/12/20220624_144909-e1703764795256.jpg
ORGANIZER;CN="Meditation in Volksdorf":MAILTO:info@meditation-in-volksdorf.de
END:VEVENT
BEGIN:VEVENT
DTSTART;TZID=Europe/Berlin:20240718T180000
DTEND;TZID=Europe/Berlin:20240721T133000
DTSTAMP:20260419T160625
CREATED:20231228T161918Z
LAST-MODIFIED:20240524T115858Z
UID:10000161-1721325600-1721568600@stephanhachtmann.de
SUMMARY:Von der Schönheit des Unvorhersagbaren
DESCRIPTION:Herzensgebet als Heilungsweg – Schweigeseminar\nDu musst das Chaos in dir haben\, \num einen tanzenden Stern zu gebären. \n– Friedrich Nietzsche \nDie chaotisch anmutenden Zustände und Ereignisse dieser Zeit sind für viele Menschen ein Grund zu Verunsicherung und Aufgeregtheit. Für das innere und äußere Erleben auf einem spirituellen Weg nimmt kreatives Chaos als Prozessschritt einen besonderen Platz ein und sorgt mit seinem Wirbel für die Geburt von etwas Neuem. Wie wäre es\, wenn wir im Chaos die darin heilsam wirkenden Kräfte erspürt und fähig würden\, den Zustand unserer Welt als Ausdruck der Schönheit im Klang des Unvorhersagbaren zu entdecken? Einer Schönheit\, die uns dazu ermutigen möchte\, voller Vertrauen durch alles Ungewisse und Unvorhersagbare hindurchzuschreiten. \nKurselemente\nspirituelle Impulse\, einführende Elemente\, stilles Sitzen (ca. 7 mal 20 Min. täglich)\, Übungen zur Körper- und Atemwahrnehmung\, Singen spiritueller Lieder\, Einzelbegleitung. \nOffen für alle Interessierten. \nweiter Informationen und Anmeldung HIER
URL:https://stephanhachtmann.de/die-veranstaltung/von-der-schoenheit-des-unvorhersagbaren-4/
LOCATION:Geistliches Zentrum Schwanberg – Haus St. Michel\, Schwanberg 3\, Rödelsee\, 97348\, Deutschland
CATEGORIES:Alle Veranstaltungen,PRÄSENZ Veranstaltungen
ATTACH;FMTTYPE=image/jpeg:https://stephanhachtmann.de/wp-content/uploads/2022/12/Knospe-Mohnbluete-Pixabay-free-scaled-e1735131779786.jpg
ORGANIZER;CN="Geistliches Zentrum Schwanberg e.V. Evangelische Bildungseinrichtung Schwanberg":MAILTO:rezeption@schwanberg.de
END:VEVENT
BEGIN:VEVENT
DTSTART;TZID=Europe/Berlin:20240725T180000
DTEND;TZID=Europe/Berlin:20240728T130000
DTSTAMP:20260419T160625
CREATED:20231228T173955Z
LAST-MODIFIED:20231228T174103Z
UID:10000164-1721930400-1722171600@stephanhachtmann.de
SUMMARY:Geborgen im Raum der Stille
DESCRIPTION:Stille Tage mit dem Herzensgebet im Seminarhof Drawehn/Wendland\nBehüte dein Herz mit allem Fleiß\,\ndenn aus ihm quillt das Leben.\n– Sprüche 4\,23 \nDie Erfahrungen der Mystiker*innen bezeugen die Erfahrung der Stille als Begegnung mit dem Unendlichen. Dieser Zustand ist nicht machbar oder planbar. In der Tradition des Herzensgebet finden wir einen bewährten Schulungs- und Einübungsweg\, um innere Stille und die damit einhergehende Herzensruhe (hesychia) in unserem Bewusstsein schrittweise zu kultivieren. Äußere und innere Räume\, in denen wir uns geborgen fühlen\, können unsere Wahrnehmung für die Erfahrung der Ruhe des Herzens öffnen. Die wunderbare Atmosphäre im Seminarhaus mitten im Wendland in der Natur trägt sehr dazu bei.   \nIn der Sammlung auf Leib\, Atem und Herzensgebet verbinden wir unser Herz mit der heilsamen Kraft der Gegenwart. Da\, wo sich Raum und Zeit im Jetzt vereinen\, kann Geborgenheit im Raum dieser unverfügbaren Stille erlebbar werden und heilsam wirken. Unser Herz kann sich wohlfühlen und sich der Weisheit anvertrauen\, dass aus ihm das Leben „quillt“. \nGESTALTUNGSELEMENTE\nWir verbinden uns in diesen Schweigetagen mit der Kraft der mantrischen Praxis des Herzensgebetes\, in der wir uns geborgen fühlen können. Meditation\, Körper- und Atemwahrnehmungsübungen\, spirituelle Impulse\, mantrische Gesänge und spirituelle Lieder geben dem Tag einen einfachen Rhythmus. Die Einzelbegleitung ist Teil der Erfahrung. \nLEITUNG\nAnnekatrin Hennenhofer & Stephan Hachtmann \nKOSTEN\n€ 470\,-\nÜbernachtung/Verpflegung: € 285\,-\nSeminargebühr: € 185\,- \nAnmeldung und weitere Informationen HIER
URL:https://stephanhachtmann.de/die-veranstaltung/geborgen-im-raum-der-stille-herzensgebet-im-seminarhof-drawehn-wendland/
LOCATION:Seminarhof Drawehn\, Im Alten Rundling 13\, Clenze\, Niedersachsen\, 29459
CATEGORIES:Alle Veranstaltungen,PRÄSENZ Veranstaltungen
ATTACH;FMTTYPE=image/jpeg:https://stephanhachtmann.de/wp-content/uploads/2023/12/Seminarhof-Drawehn-e1703785191950.jpeg
ORGANIZER;CN="Meditation in Volksdorf":MAILTO:info@meditation-in-volksdorf.de
END:VEVENT
END:VCALENDAR