BEGIN:VCALENDAR
VERSION:2.0
PRODID:-//Stephan Hachtmann - ECPv6.15.19//NONSGML v1.0//EN
CALSCALE:GREGORIAN
METHOD:PUBLISH
X-ORIGINAL-URL:https://stephanhachtmann.de
X-WR-CALDESC:Veranstaltungen für Stephan Hachtmann
REFRESH-INTERVAL;VALUE=DURATION:PT1H
X-Robots-Tag:noindex
X-PUBLISHED-TTL:PT1H
BEGIN:VTIMEZONE
TZID:Europe/Berlin
BEGIN:DAYLIGHT
TZOFFSETFROM:+0100
TZOFFSETTO:+0200
TZNAME:CEST
DTSTART:20230326T010000
END:DAYLIGHT
BEGIN:STANDARD
TZOFFSETFROM:+0200
TZOFFSETTO:+0100
TZNAME:CET
DTSTART:20231029T010000
END:STANDARD
BEGIN:DAYLIGHT
TZOFFSETFROM:+0100
TZOFFSETTO:+0200
TZNAME:CEST
DTSTART:20240331T010000
END:DAYLIGHT
BEGIN:STANDARD
TZOFFSETFROM:+0200
TZOFFSETTO:+0100
TZNAME:CET
DTSTART:20241027T010000
END:STANDARD
BEGIN:DAYLIGHT
TZOFFSETFROM:+0100
TZOFFSETTO:+0200
TZNAME:CEST
DTSTART:20250330T010000
END:DAYLIGHT
BEGIN:STANDARD
TZOFFSETFROM:+0200
TZOFFSETTO:+0100
TZNAME:CET
DTSTART:20251026T010000
END:STANDARD
END:VTIMEZONE
BEGIN:VEVENT
DTSTART;TZID=Europe/Berlin:20240406T100000
DTEND;TZID=Europe/Berlin:20240406T170000
DTSTAMP:20260419T143757
CREATED:20230723T154640Z
LAST-MODIFIED:20231228T170340Z
UID:10000084-1712397600-1712422800@stephanhachtmann.de
SUMMARY:WAHREN WAS IST
DESCRIPTION:Ein Stiller Tag im Rockenhof in Hamburg/Volksdorf\n\n\nWer etwas zu wahren vermag\,\nist des Wahren\, der Wahrheit  teilhaftig. \n(Jean Gebser) \nDas wahren ist Einübung in die Wahrnehmung des Alltags als heiliges\, ursprünglich und gegenwärtig wirkendes Geschehen. Für den Philosophen Jean Gebser ist es das Hauptmerkmal eines neuen Bewusstseins. Im wahren können wir die eine Lebensgeistkraft erspüren. Unbewusst wirkt diese verborgene Ganzheit in unserem Alltag. Manchmal erahnen wir etwas davon in der eigenen brennenden Sehnsucht nach Liebe und Heilsein. \nDas Licht der Wahrheit kann in uns Verborgenes und Verdrängtes\, Ungeliebtes und Leidvolles durchlichten und versöhnen. Es hat die Kraft\, Gegensätzliches zu verbinden und unser Bewusstsein für das Göttliche zu öffnen. \nGESTALTUNGSELEMENTE\nAn diesem Stillen Tag wollen wir im stillen Sitzen\, meditativen Gehen\, im Singen\, in Körperübungen und im Impuls unser Wahrnehmung für das Wahre in unserem Leben öffnen. Der Schwerpunkt liegt auf der gemeinsamen Übung der Meditation\, wir setzen Grundkenntnisse der Meditation voraus. Der Tag findet bis auf die Übungsanleitung im Schweigen statt.  \n\n\n\n\nLeitung\nAnnekatrin Hennenhofer & Stephan Hachtmann \nAnmeldung HIER
URL:https://stephanhachtmann.de/die-veranstaltung/stiller-tag/
LOCATION:Meditation in Volksdorf\, Rockenhof 1\, Hamburg\, 22359\, Deutschland
CATEGORIES:Alle Veranstaltungen,PRÄSENZ Veranstaltungen
ATTACH;FMTTYPE=image/jpeg:https://stephanhachtmann.de/wp-content/uploads/2023/07/Logo-Medi-in-Vo-scaled-e1763204968758.jpg
ORGANIZER;CN="Meditation in Volksdorf":MAILTO:info@meditation-in-volksdorf.de
END:VEVENT
BEGIN:VEVENT
DTSTART;TZID=Europe/Berlin:20240410T100000
DTEND;TZID=Europe/Berlin:20240410T163000
DTSTAMP:20260419T143757
CREATED:20221221T150757Z
LAST-MODIFIED:20240307T105728Z
UID:10000027-1712743200-1712766600@stephanhachtmann.de
SUMMARY:Auszeit! - Meditationstag mit Stille und Bewegung
DESCRIPTION:Einladung zu einem Auszeittag im Rockenhof in Hamburg/Volksdorf für kirchliche Mitarbeitende in Hamburg und Umgebung \nDu sollst sein wie ein bewässerter Garten\nund wie eine Quelle\, die nie versiegt.\n– Jesaja 58\,11 \nIn vielen kirchlichen Arbeitsfeldern nehmen Druck und Beschleunigung zu. Da ist es besonders wichtig\, mal auf Pause zu drücken\, Stille auf sich wirken zu lassen und Abstand vom Alltag zu gewinnen. \nMeditation kann dabei hilfreich sein. Wir lernen uns zu sammeln\, bei uns anzukommen\, Unwichtiges loszulassen und uns zu öffnen für eine Kraftquelle – für das Göttliche – aus der wir Kraft und Lebendigkeit schöpfen können. \n \nGestaltungselemente des Tages\nEinführung in die Meditation\, stille Meditationszeiten (ca. 20 min)\, meditatives Singen\, Körper- und Atemwahrnehmung\, inhaltliche Impulse\, kurze Phasen des Austausches \n\nLeitung\nUlla Kranefuss & Stephan Hachtmann \nKosten\nDie Kosten betragen € 45\,- inklusive Mittagessen \nKostenübernahme im Kirchenkreis Hamburg-Ost\nKostenlos für Kirchenkreismitarbeiter*innen des Kirchenkreises Hamburg-Ost. Die Kosten für die Kita-Mitarbeiter*innen im Kirchenkreis Hamburg-Ost müssen vor der Fortbildung von der jeweiligen Kita-Leitung genehmigt werden. Sie werden dann über das Kita-eigene Fortbildungsbudget bezahlt. Gemeindemitarbeiter*innen beantragen bitte Fortbildung bei ihrer Gemeinde entsprechend dem Fortbildungsgesetz. \nKostenübernahme im Kirchenkreis Hamburg-West/Südholstein\nDie Veranstaltung ist für kirchliche Mitarbeiter*innen des Kirchenkreises Hamburg-West/Südholstein ein kostenfreies und dafür freigestelltes Fortbildungsangebot. Dieses gilt auch für die Mitarbeiter*innen der Kitas und der Kirchengemeinden. Bitte beantragen Sie die Fortbildung rechtzeitig bei Ihrem jeweiligen Arbeitgeber entsprechend dem Fortbildungsgesetz. \nAnmeldungen bis zum 27. März 2023 \nHIER weitere Informationen und Anmeldung
URL:https://stephanhachtmann.de/die-veranstaltung/auszeit-meditationstag-mit-stille-und-bewegung-fuer-kirchliche-mitarbeitende-im-sprengel-hamburg/
LOCATION:Meditation in Volksdorf\, Rockenhof 1\, Hamburg\, 22359\, Deutschland
CATEGORIES:Alle Veranstaltungen,PRÄSENZ Veranstaltungen
ATTACH;FMTTYPE=image/jpeg:https://stephanhachtmann.de/wp-content/uploads/2022/12/Santa-Maria-del-Giglio-am-Lago-di-Bolzena-e1703779521359.jpg
ORGANIZER;CN="Spirituelle Angebote im Kirchenkreis Hamburg/West-S%C3%BCdholstein%2C  Stephan Hachtmann":MAILTO:spirituelleangebote@diakonie-hhsh.de
END:VEVENT
BEGIN:VEVENT
DTSTART;TZID=Europe/Berlin:20240411T080000
DTEND;TZID=Europe/Berlin:20240411T170000
DTSTAMP:20260419T143757
CREATED:20231228T114429Z
LAST-MODIFIED:20240516T094406Z
UID:10000144-1712822400-1712854800@stephanhachtmann.de
SUMMARY:Herzensgebet
DESCRIPTION:1. Halbjahr 2024 mit Stephan Hachtmann\nregelmäßige Meditationsgruppe in Hamburg/Volksdorf \nViele Menschen finden in der Kontemplation mit dem  Herzensgebet einen Weg\, der bewährtes Erfahrungswissen mit zeitgemäßer Spiritualität kombiniert. Er baut Brücken für eine interreligiöse und integrale Spiritualität\, die tief in der christlichen Tradition verwurzelt ist. \nDie Praxis geschieht mit einem kurzen Satz oder Wort\, sie öffnen die Wahrnehmung für das Dasein in der Gegenwart. Einsichten können wachsen\, die Klärung und Wandlung voranbringen. \nWir praktizieren das stille Sitzen und einfache Körperübungen. Achtsames Gehen\, inhaltliche Impulse\, Erfahrungen mit Stimme und Klang oder das mitteilende Gespräch sind wiederkehrende Gestaltungselemente. \nAlle\, denen das Herzensgebet vertraut ist oder die sich diesem Weg öffnen möchten\, sind herzlich willkommen.\nDie Einzelbegleitung ist Teil der Erfahrung (ein Gespräch pro Teilnehmer*in in jedem Kurshalbjahr). \nBitte rechtzeitig anmelden! Anmeldungen nach dem ersten Treffen sind nicht mehr möglich.\nDer neue Gruppenstart „Herzensgebet“ für das erste Halbjahr 2024 ist der 1. Februar. \nAlle 12 Termine:\njeweils donnerstags\, 19 – 21 Uhr\n\n1.; 15. und 29. Februar 2024\n14. und 28. März 2024\n11. und 25. April 2024\n2.; 16. und 23. Mai 2024\n20. Juni 2024\n4. Juli  2024 \nLeitung\nSTEPHAN HACHTMANN \nKosten\n€ 120\,- \nHIER weitere Informationen und Anmeldung
URL:https://stephanhachtmann.de/die-veranstaltung/herzensgebet-4/2024-04-11/
LOCATION:Meditation in Volksdorf\, Rockenhof 1\, Hamburg\, 22359\, Deutschland
CATEGORIES:Alle Veranstaltungen,PRÄSENZ Veranstaltungen
ATTACH;FMTTYPE=image/jpeg:https://stephanhachtmann.de/wp-content/uploads/2022/12/20220624_144909-e1703764795256.jpg
ORGANIZER;CN="Meditation in Volksdorf":MAILTO:info@meditation-in-volksdorf.de
END:VEVENT
BEGIN:VEVENT
DTSTART;TZID=Europe/Berlin:20240413T100000
DTEND;TZID=Europe/Berlin:20240413T170000
DTSTAMP:20260419T143757
CREATED:20231228T162956Z
LAST-MODIFIED:20231228T172317Z
UID:10000162-1713002400-1713027600@stephanhachtmann.de
SUMMARY:Dankbarkeit - Vertiefungstag im Herzensgebet - Kirche der Stille in Hamburg/Altona
DESCRIPTION:Ein spiritueller Weg in die Tiefe und zur Quelle des Lebens\nDankbarkeit ist ein göttliches Gefühl\, sie erfüllet das Herz\, \naber nicht bis zum Zerspringen\, sie erwärmt es\, \naber nicht bis zum Fieber wie andere Gefühle.\n– Charlotte Brontë \nDankbarkeit hat viele Facetten: Wissenschaftlichen Studien zufolge stärkt sie das Immunsystem\, fördert die Gesundheit und macht uns glücklich. Darüber hinaus hat Dankbarkeit eine tiefere Dimension und wird in allen Weltreligionen als Tugend geschätzt. In bewusst gelebter Form kann sie sogar zum spirituellen Weg und zur Lebenskunst werden. \nDie bewusste Hinwendung zu unserer Fähigkeit zu Dankbarkeit\, kann zu einer befreienden Sinnhaftigkeit und Tiefe in unserem Lebens führen. Dankbarkeit ist dabei eine uns innewohnende Grundhaltung\, die zunächst durch leere Räume und zeitfreie Zonen in eine Neuausrichtung des Bewusstseins führt. Besonders in Zeiten der Stille\, können wir ein dankbares und wohlwollenden Schauen in uns kultivieren und einüben. \nAn diesem Klostertag im Schweigen laden wir zu einer spirituellen Reise zum Thema Dankbarkeit ein. Wir können an diesem Tag Erfahrungsräume in uns anregen\, um die Haltung der Dankbarkeit als Quelle einer spiritueller Lebenskunst zu entdecken. Vorgestellt und angeboten werden an diesem Tag praktische spirituelle Übungen rund um das Thema\, stille Meditation\, Atem- und Körperübungen\, das Singen spiritueller Lieder. \nLeitung\nStephan Hachtmann \nmehr Informationen und Anmeldung HIER
URL:https://stephanhachtmann.de/die-veranstaltung/dankbarkeit-vertiefungstag-im-herzensgebet/
LOCATION:Kirche der Stille\, Helenenstraße 14A\, Hamburg\, 22765\, Deutschland
CATEGORIES:Alle Veranstaltungen,PRÄSENZ Veranstaltungen
ATTACH;FMTTYPE=image/jpeg:https://stephanhachtmann.de/wp-content/uploads/2023/12/Blume-in-Haenden-Foto-pixabay-Pezibear-e1703780963280.jpg
ORGANIZER;CN="Kirche der Stille":MAILTO:pastorin.koch-pauka@gmeinde-altona-ost.de
END:VEVENT
BEGIN:VEVENT
DTSTART;TZID=Europe/Berlin:20240417T190000
DTEND;TZID=Europe/Berlin:20240417T210000
DTSTAMP:20260419T143757
CREATED:20230911T112936Z
LAST-MODIFIED:20240524T121554Z
UID:10000090-1713380400-1713387600@stephanhachtmann.de
SUMMARY:Herzensgebet – Offene Gruppe „Berührt vom Klang der Stille“ – ONLINE
DESCRIPTION:Monatliches ONLINE-Angebot im deutschsprachigen Raum \n(Eine Kursreihe in Kooperation mit dem Seminar- und Tagungszentrum Benediktushof Holzkirchen)\nimmer mittwochs von 19-21 Uhr.\nLass dich beflügeln zu einer größeren Weite\,\ndie dich erfahren lässt\, wie du aufgehoben bist\nzwischen Himmel und Erde.    Pierre Stutz \nVon den guten Erfahrungen und Rückmeldungen der ONLINE-Meetings inspiriert\, bin ich jedes Mal erfreut\, welche spirituellen Erfahrungen uns dieses etwas andere Miteinander im digitalen Raum schenkt und wie aussergewöhnlich der eine GEIST weht – wo auch immer ER/SIE/ES es will… \nAuch freue ich mich\, mit der Einen oder dem Anderen aus meinen Seminaren auf diese Weise wieder in Kontakt zu kommen und den Weg des Herzens zu vertiefen. \nViele Menschen finden in der Kontemplation mit dem  Herzensgebet einen Weg\, der ein bewährtes Erfahrungswissen mit zeitgemäßer Spiritualität kombiniert. Dieser Weg kann die Grundlage für eine spirituelle Lebenskunst sein und Brücken für eine interreligiöse und integrale Spiritualität bauen. \nDas Herzensgebet ist tief in der christlichen Tradition verwurzelt. Die alltagsorientierte Praxis geschieht mit einem kurzen Satz oder Wort. Dieses einfache Klanggebet des Herzens (Mantra) öffnet das Bewusstsein für die Wahrnehmung des Daseins in der Gegenwart Gottes. \nHier finden Sie eine weiterführende Einführung ins Herzensgebet: Berührt vom Klang der Liebe – Grundlage einer spirituellen Lebenskunst  \nGestaltungselemente im ZOOM-Meeting\nangeleitete und stille Meditation\, spirituelle Impulse\, achtsamer Dialog und Austausch zu sprituellen Wegerfahrungen im Plenum oder in der Kleingruppe\, Körper- und Atemwahrnehmung als Gebärdengebet oder mit eingespielter Musik\, einfache Rituale\, Singen spiritueller Lieder (ich spiele live – dazu wird im eigenen Raum gesungen) \nTeilnahmebeitrag\n25 € pro ZOOM-Meeting (zwei Stunden) \nLeitung\n\nSTEPHAN HACHTMANN – Kontemplationslehrer VIA CORDIS®\, Diakon\, Seminar- und Vortragstätigkeit zu Herzensgebet\, Integraler Spiritualität und Spiritualität und Abhängigkeitserfahrungen\, Autor u. a. „Berührt vom Klang der Liebe – Wege zum Herzensgebet“ (Kreuz Verlag)\, Musiker und Komponist spiritueller Lieder \nAnmeldung\nNach der Anmeldung schicke ich Ihnen/Euch den ZOOM-Link zu\, sowie die Kontoangaben zur Überweisung des Teilnahmebeitrages. \nper Mail an: info@stephanhachtmann.de \nFehler: Kontaktformular wurde nicht gefunden.
URL:https://stephanhachtmann.de/die-veranstaltung/herzensgebet-offene-gruppe-beruehrt-vom-klang-der-stille-online/2024-04-17/
LOCATION:ONLINE-Angebot per ZOOM\, Deutschland
CATEGORIES:Alle Veranstaltungen,ONLINE Veranstaltungen
ATTACH;FMTTYPE=image/jpeg:https://stephanhachtmann.de/wp-content/uploads/2023/12/Vorlage-Herzensgebet-Einfuehrung-e1716144383925.jpg
ORGANIZER;CN="AMBATON - Spirituelle Lebenskunst im Herz des Lebens":MAILTO:info@stephanhachtmann.de
END:VEVENT
BEGIN:VEVENT
DTSTART;TZID=Europe/Berlin:20240422T183000
DTEND;TZID=Europe/Berlin:20240422T210000
DTSTAMP:20260419T143757
CREATED:20230720T072903Z
LAST-MODIFIED:20240524T095035Z
UID:10000080-1713810600-1713819600@stephanhachtmann.de
SUMMARY:Herzensgebet ONLINE Halbjahresgruppe „Wege ins Herz des Lebens“
DESCRIPTION:Kursangebot 1. Halbjahr 2024\nfür eine geschlossene ONLINE-Gruppe\nDie Gruppe ist ausgebucht. Eine Anmeldung für das 2. Halbjahr 2024 ist im Moment nur auf der Warteliste möglich.\n\nDenn ob etwas ein Leben werden kann\, das hängt nicht von den großen Ideen ab\,\nsondern davon\, ob man sich aus ihnen ein Handwerk schafft\, ein Tägliches\,\netwas\, was bei einem aushält bis an das Ende.\n(Rainer Maria Rilke zu Auguste Rodin) \nDas Herzensgebet ist ein alter christlicher Meditationsweg\, auf dem sich bewährtes Erfahrungswissen mit einer zeitgemäßen integralen Spiritualität verbinden lässt. Die persönlichen Erfahrungen mit diesem Weg können Räume öffnen\, die in die Ruhe des Herzens führen. \nDiese spirituelle Lebenskunst kann klärende Transformationsprozeße anregen und Wandlungs- und Heilungsschritte auf unserem Lebensweg ermöglichen. \nIn einer festen und verbindlichen Gruppengröße von ca. 16 Teilnehmer*innen\, kann das gemeinsame Erleben zu einem kontinuierlichen und inspirierender Wachstumsraum in der spirituellen Tradition des Herzensgebetes werden. Grundlegend für das verwandelnde Erleben ist die eigene vertiefende Erfahrung der Meditation und des Schweigens im persönlichen Alltag. \nWiederkehrende Gestaltungselemente\nangeleitete und stille Kontemplation mit dem Herzensgebet\, Atem- und Körperwahrnehmungsübungen\, Gebetsgebärden\, spirituelle Lieder und Mantren\, themenbezogene spirituelle Impulse\, einfache wiederkehrende Rituale\, achtsamer Austausch in Kleingruppe und Plenum. \nTermine 1. Halbjahr 2024\nimmer montags von 18.30 – 21.00 Uhr\n22. Januar 2024\n19. Februar 2024\n25. März 2024\n22. April 2024\n13. Mai  2024\n24. Juni 2024 \nStille Tage mit dem Herzensgebet – Präsenzseminar Sommer 2024\n\nWer mag und die Möglichkeiten hat\, trifft sich zusätzlich für ein Vertiefungs- und Präsenzseminar im Seminarhof „Drawehn“ im Wendland/Norddeutschland. Einige waren im letzten Jahr schon einmal mit in Drawehn und es gab viele gute Rückmeldungen zu dem Erleben dort. Es ist für die\, die es einrichten können\, eine gute Vertiefung und kann eine besondere Erfahrung und Inspiration für den Weg des Herzens ermöglichen. \nDie Tage werden wieder in bewährter Weise mit Stille\, Bewegung\, Leib- und Atemwahrnehmung\, Klang\, Impulsen\, Einzelbegleitung und auch wieder im durchgehenden Schweigen gestaltet werden. Es wird auch wieder einen inhaltlichen Schwerpunkt geben\, der Spuren aus dem Weisheitswissen der Tradition des Herzensgebetes vertiefend anregt und betrachtet. \n\nMittwoch\, 10. Juli 2024\, 18 Uhr bis Sonntag\, 14. Juli 2024\, 13 Uhr\nWeitere Informationen zum Kurs HIER \nLeitung\nSTEPHAN HACHTMANN – Kontemplationslehrer VIA CORDIS®\, Diakon\, Seminar- und Vortragstätigkeit zu Herzensgebet\, Integraler Spiritualität und Spiritualität und Abhängigkeitserfahrungen\, Autor u. a. „Berührt vom Klang der Liebe – Wege zum Herzensgebet“ (Kreuz Verlag)\, Musiker und Komponist spiritueller Lieder \n\nTeilnahmebeitrag\n240 € für sechs Termine im 1. Halbjahr 2024\n(incl. einer Einzelbegleitung 1 Stunde per ZOOM oder Telefon) \nDie weiterführende verbindliche Anmeldung für diese Gruppe erfolgt am Ende des Kurse für ein nächstes halbes Jahr \nAnmeldung Warteliste 2. Halbjahr\nBitte per E-Mail mit Angabe der Telefonnummer an: info@stephanhachtmann.de oder direkt über das hier befindliche Formular\nFehler: Kontaktformular wurde nicht gefunden.  \nNach der Anmeldung erhalten Sie alle weiterführenden Informationen zu Ihrer Anmeldung.
URL:https://stephanhachtmann.de/die-veranstaltung/herzensgebet-online-halbjahresgruppe-wege-ins-herz-des-lebens/2024-04-22/
LOCATION:ONLINE-Angebot per ZOOM\, Deutschland
CATEGORIES:Alle Veranstaltungen,ONLINE Veranstaltungen
ATTACH;FMTTYPE=image/jpeg:https://stephanhachtmann.de/wp-content/uploads/2023/07/ONLINE-Jahresgruppe-1.-HJ-2024-Wege-ins-Herz-des-Leben-e1689840151743.jpg
ORGANIZER;CN="AMBATON - Spirituelle Lebenskunst im Herz des Lebens":MAILTO:info@stephanhachtmann.de
END:VEVENT
BEGIN:VEVENT
DTSTART;TZID=Europe/Berlin:20240425T190000
DTEND;TZID=Europe/Berlin:20240425T210000
DTSTAMP:20260419T143757
CREATED:20231228T114429Z
LAST-MODIFIED:20240516T094406Z
UID:10000145-1714071600-1714078800@stephanhachtmann.de
SUMMARY:Herzensgebet
DESCRIPTION:1. Halbjahr 2024 mit Stephan Hachtmann\nregelmäßige Meditationsgruppe in Hamburg/Volksdorf \nViele Menschen finden in der Kontemplation mit dem  Herzensgebet einen Weg\, der bewährtes Erfahrungswissen mit zeitgemäßer Spiritualität kombiniert. Er baut Brücken für eine interreligiöse und integrale Spiritualität\, die tief in der christlichen Tradition verwurzelt ist. \nDie Praxis geschieht mit einem kurzen Satz oder Wort\, sie öffnen die Wahrnehmung für das Dasein in der Gegenwart. Einsichten können wachsen\, die Klärung und Wandlung voranbringen. \nWir praktizieren das stille Sitzen und einfache Körperübungen. Achtsames Gehen\, inhaltliche Impulse\, Erfahrungen mit Stimme und Klang oder das mitteilende Gespräch sind wiederkehrende Gestaltungselemente. \nAlle\, denen das Herzensgebet vertraut ist oder die sich diesem Weg öffnen möchten\, sind herzlich willkommen.\nDie Einzelbegleitung ist Teil der Erfahrung (ein Gespräch pro Teilnehmer*in in jedem Kurshalbjahr). \nBitte rechtzeitig anmelden! Anmeldungen nach dem ersten Treffen sind nicht mehr möglich.\nDer neue Gruppenstart „Herzensgebet“ für das erste Halbjahr 2024 ist der 1. Februar. \nAlle 12 Termine:\njeweils donnerstags\, 19 – 21 Uhr\n\n1.; 15. und 29. Februar 2024\n14. und 28. März 2024\n11. und 25. April 2024\n2.; 16. und 23. Mai 2024\n20. Juni 2024\n4. Juli  2024 \nLeitung\nSTEPHAN HACHTMANN \nKosten\n€ 120\,- \nHIER weitere Informationen und Anmeldung
URL:https://stephanhachtmann.de/die-veranstaltung/herzensgebet-4/2024-04-25/
LOCATION:Meditation in Volksdorf\, Rockenhof 1\, Hamburg\, 22359\, Deutschland
CATEGORIES:Alle Veranstaltungen,PRÄSENZ Veranstaltungen
ATTACH;FMTTYPE=image/jpeg:https://stephanhachtmann.de/wp-content/uploads/2022/12/20220624_144909-e1703764795256.jpg
ORGANIZER;CN="Meditation in Volksdorf":MAILTO:info@meditation-in-volksdorf.de
END:VEVENT
END:VCALENDAR