BEGIN:VCALENDAR
VERSION:2.0
PRODID:-//Stephan Hachtmann - ECPv6.15.19//NONSGML v1.0//EN
CALSCALE:GREGORIAN
METHOD:PUBLISH
X-ORIGINAL-URL:https://stephanhachtmann.de
X-WR-CALDESC:Veranstaltungen für Stephan Hachtmann
REFRESH-INTERVAL;VALUE=DURATION:PT1H
X-Robots-Tag:noindex
X-PUBLISHED-TTL:PT1H
BEGIN:VTIMEZONE
TZID:Europe/Berlin
BEGIN:DAYLIGHT
TZOFFSETFROM:+0100
TZOFFSETTO:+0200
TZNAME:CEST
DTSTART:20220327T010000
END:DAYLIGHT
BEGIN:STANDARD
TZOFFSETFROM:+0200
TZOFFSETTO:+0100
TZNAME:CET
DTSTART:20221030T010000
END:STANDARD
BEGIN:DAYLIGHT
TZOFFSETFROM:+0100
TZOFFSETTO:+0200
TZNAME:CEST
DTSTART:20230326T010000
END:DAYLIGHT
BEGIN:STANDARD
TZOFFSETFROM:+0200
TZOFFSETTO:+0100
TZNAME:CET
DTSTART:20231029T010000
END:STANDARD
BEGIN:DAYLIGHT
TZOFFSETFROM:+0100
TZOFFSETTO:+0200
TZNAME:CEST
DTSTART:20240331T010000
END:DAYLIGHT
BEGIN:STANDARD
TZOFFSETFROM:+0200
TZOFFSETTO:+0100
TZNAME:CET
DTSTART:20241027T010000
END:STANDARD
END:VTIMEZONE
BEGIN:VEVENT
DTSTART;TZID=Europe/Berlin:20230821T183000
DTEND;TZID=Europe/Berlin:20230821T210000
DTSTAMP:20260420T020350
CREATED:20221123T090937Z
LAST-MODIFIED:20230720T130633Z
UID:10000015-1692642600-1692651600@stephanhachtmann.de
SUMMARY:Herzensgebet ONLINE Halbjahresgruppe „Wege ins Herz des Lebens“
DESCRIPTION:Kursangebot 2. Halbjahr 2023\nfür eine geschlossene ONLINE-Gruppe ab dem 24. Juli 2023\nDieser Kurs ist ausgebucht.\nEine Anmeldung auf der Warteliste für das 1. Halbjahr 2024 ist HIER möglich.\n\nDenn ob etwas ein Leben werden kann\, das hängt nicht von den großen Ideen ab\,\nsondern davon\, ob man sich aus ihnen ein Handwerk schafft\, ein Tägliches\,\netwas\, was bei einem aushält bis an das Ende.  (Rainer Maria Rilke zu Auguste Rodin) \nDas Herzensgebet ist ein alter christlicher Meditationsweg\, auf dem sich bewährtes Erfahrungswissen mit einer zeitgemäßen integralen Spiritualität verbinden lässt. Die persönlichen Erfahrungen mit diesem Weg können Räume öffnen\, die in die Ruhe des Herzens führen. \nDiese spirituelle Lebenskunst kann klärende Transformationsprozeße anregen und Wandlungs- und Heilungsschritte auf unserem Lebensweg ermöglichen. \nIn einer festen und verbindlichen Gruppengröße von ca. 16 Teilnehmer*innen\, kann das gemeinsame Erleben zu einem kontinuierlichen und inspirierender Wachstumsraum in der spirituellen Tradition des Herzensgebetes werden. Grundlegend für das verwandelnde Erleben ist die eigene vertiefende Erfahrung der Meditation und des Schweigens im persönlichen Alltag. \nWiederkehrende Gestaltungselemente\nangeleitete und stille Kontemplation mit dem Herzensgebet\, Atem- und Körperwahrnehmungsübungen\, Gebetsgebärden\, spirituelle Lieder und Mantren\, themenbezogene spirituelle Impulse\, einfache wiederkehrende Rituale\, achtsamer Austausch in Kleingruppe und Plenum. \nTermine 2. Halbjahr 2023\nimmer montags von 18.30 – 21.00 Uhr\n24. Juli 2023\n21. August 2022\n18. September 2023\n23. Oktober 2023\n13. November 2023\n11. Dezember 2023 \nStille Tage mit dem Herzensgebet – Präsenzseminar September 2023\n\nWer mag und die Möglichkeiten hat\, trifft sich zusätzlich für ein Vertiefungs- und Präsenzseminar im Seminarhof „Drawehn“ im Wendland/Norddeutschland. Einige waren im letzten Jahr schon einmal mit in Drawehn und es gab viele gute Rückmeldungen zu dem Erleben dort. Es ist für die\, die es einrichten können\, eine gute Vertiefung und kann eine besondere Erfahrung und Inspiration für den Weg des Herzens ermöglichen. \nDie Tage werden wieder in bewährter Weise mit Stille\, Bewegung\, Leib- und Atemwahrnehmung\, Klang\, Impulsen\, Einzelbegleitung und auch wieder im durchgehenden Schweigen gestaltet werden. Es wird auch wieder einen inhaltlichen Schwerpunkt geben\, der Spuren aus dem Weisheitswissen der Tradition des Herzensgebetes vertiefend anregt und betrachtet. \n\nTermin: Montag\, den 25. September bis Freitag\, den 29. September 2023\nWir beginnen am Montag mit dem Abendbrot gegen 18 Uhr und beenden die Tage am Freitag mit dem Mittag.\n\nKosten: 620 € (Übernachtung/Verpflegung: 360 €;  Seminargebühr: 260 €) \n\nLeitung\nSTEPHAN HACHTMANN – Kontemplationslehrer VIA CORDIS®\, Diakon\, Seminar- und Vortragstätigkeit zu Herzensgebet\, Integraler Spiritualität und Spiritualität und Abhängigkeitserfahrungen\, Autor u. a. „Berührt vom Klang der Liebe – Wege zum Herzensgebet“ (Kreuz Verlag)\, Musiker und Komponist spiritueller Lieder \n\nTeilnahmebeitrag\n240 € für sechs Termine im 1. Halbjahr 2023\n(incl. einer Einzelbegleitung 1 Stunde per ZOOM oder Telefon) \nDie weiterführende verbindliche Anmeldung für diese Gruppe erfolgt am Ende des Kurse für ein nächstes halbes Jahr \nHIER ist eine Anmeldung auf der Warteliste für das 1. Halbjahr 2024 möglich\noder per E-Mail mit Angabe der Telefonnummer an: info(ad)stephanhachtmann.de
URL:https://stephanhachtmann.de/die-veranstaltung/herzensgebet-online-halbjahresgruppe-wege-ins-herz-des-lebens-2023-07-24/2023-08-21/
LOCATION:ONLINE-Angebot per ZOOM\, Deutschland
CATEGORIES:Alle Veranstaltungen,ONLINE Veranstaltungen
ATTACH;FMTTYPE=image/jpeg:https://stephanhachtmann.de/wp-content/uploads/2022/10/ONLINE-Jahresgruppe-Wege-ins-Herz-des-Lebens-2023-e1664611105847.jpg
ORGANIZER;CN="AMBATON - Spirituelle Lebenskunst im Herz des Lebens":MAILTO:info@stephanhachtmann.de
END:VEVENT
BEGIN:VEVENT
DTSTART;TZID=Europe/Berlin:20230823T190000
DTEND;TZID=Europe/Berlin:20230823T210000
DTSTAMP:20260420T020350
CREATED:20221123T094944Z
LAST-MODIFIED:20231003T185213Z
UID:10000021-1692817200-1692824400@stephanhachtmann.de
SUMMARY:Herzensgebet – Offene Gruppe „Berührt vom Klang der Stille“ – ONLINE
DESCRIPTION:Monatliches ONLINE-Angebot im deutschsprachigen Raum \n(Eine Kursreihe in Kooperation mit dem Seminar- und Tagungszentrum Benediktushof Holzkirchen)\nimmer Mittwochs von 19-21 Uhr.\nLass dich beflügeln zu einer größeren Weite\,\ndie dich erfahren lässt\, wie du aufgehoben bist\nzwischen Himmel und Erde.    Pierre Stutz \nVon den guten Erfahrungen und Rückmeldungen der ONLINE-Meetings inspiriert\, bin ich jedes Mal erfreut\, welche spirituellen Erfahrungen uns dieses etwas andere Miteinander im digitalen Raum schenkt und wie aussergewöhnlich der eine GEIST weht – wo auch immer ER/SIE/ES es will… \nAuch freue ich mich\, mit der Einen oder dem Anderen aus meinen Seminaren auf diese Weise wieder in Kontakt zu kommen und den Weg des Herzens zu vertiefen. \nViele Menschen finden in der Kontemplation mit dem  Herzensgebet einen Weg\, der ein bewährtes Erfahrungswissen mit zeitgemäßer Spiritualität kombiniert. Dieser Weg kann die Grundlage für eine spirituelle Lebenskunst sein und Brücken für eine interreligiöse und integrale Spiritualität bauen. \nDas Herzensgebet ist tief in der christlichen Tradition verwurzelt. Die alltagsorientierte Praxis geschieht mit einem kurzen Satz oder Wort. Dieses einfache Klanggebet des Herzens (Mantra) öffnet das Bewusstsein für die Wahrnehmung des Daseins in der Gegenwart Gottes. \nHier finden Sie eine weiterführende Einführung ins Herzensgebet: Berührt vom Klang der Liebe – Grundlage einer spirituellen Lebenskunst  \nGestaltungselemente im ZOOM-Meeting\nangeleitete und stille Meditation\, spirituelle Impulse\, achtsamer Dialog und Austausch zu sprituellen Wegerfahrungen im Plenum oder in der Kleingruppe\, Körper- und Atemwahrnehmung als Gebärdengebet oder mit eingespielter Musik\, einfache Rituale\, Singen spiritueller Lieder (ich spiele live – dazu wird im eigenen Raum gesungen) \nTeilnahmebeitrag\n25 € pro ZOOM-Meeting (zwei Stunden) \nLeitung\n\nSTEPHAN HACHTMANN – Kontemplationslehrer VIA CORDIS®\, Diakon\, Seminar- und Vortragstätigkeit zu Herzensgebet\, Integraler Spiritualität und Spiritualität und Abhängigkeitserfahrungen\, Autor u. a. „Berührt vom Klang der Liebe – Wege zum Herzensgebet“ (Kreuz Verlag)\, Musiker und Komponist spiritueller Lieder \nAnmeldung\nNach der Anmeldung schicke ich Ihnen/Euch den ZOOM-Link zu\, sowie die Kontoangaben zur Überweisung des Teilnahmebeitrages. \nFehler: Kontaktformular wurde nicht gefunden.
URL:https://stephanhachtmann.de/die-veranstaltung/herzensgebet-offene-gruppe-beruehrt-vom-klang-der-stille-online-2-2023-07-12/2023-08-23/
LOCATION:ONLINE-Angebot per ZOOM\, Deutschland
CATEGORIES:Alle Veranstaltungen,ONLINE Veranstaltungen
ATTACH;FMTTYPE=image/jpeg:https://stephanhachtmann.de/wp-content/uploads/2021/05/ONLINE-offene-Gruppe-scaled-e1619872103684.jpg
ORGANIZER;CN="AMBATON - Spirituelle Lebenskunst im Herz des Lebens":MAILTO:info@stephanhachtmann.de
END:VEVENT
BEGIN:VEVENT
DTSTART;TZID=Europe/Berlin:20230831T190000
DTEND;TZID=Europe/Berlin:20230831T210000
DTSTAMP:20260420T020350
CREATED:20230713T153715Z
LAST-MODIFIED:20230724T074913Z
UID:10000065-1693508400-1693515600@stephanhachtmann.de
SUMMARY:Herzensgebet
DESCRIPTION:regelmäßige Meditationsgruppe in Hamburg/Volksdorf \nViele Menschen finden in der Kontemplation mit dem  Herzensgebet einen Weg\, der bewährtes Erfahrungswissen mit zeitgemäßer Spiritualität kombiniert. Er baut Brücken für eine interreligiöse und integrale Spiritualität\, die tief in der christlichen Tradition verwurzelt ist. \nDie Praxis geschieht mit einem kurzen Satz oder Wort\, sie öffnen die Wahrnehmung für das Dasein in der Gegenwart. Einsichten können wachsen\, die Klärung und Wandlung voranbringen. \nWir praktizieren das stille Sitzen und einfache Körperübungen. Achtsames Gehen\, inhaltliche Impulse\, Erfahrungen mit Stimme und Klang oder das mitteilende Gespräch sind wiederkehrende Gestaltungselemente. \nAlle\, denen das Herzensgebet vertraut ist oder die sich diesem Weg öffnen möchten\, sind herzlich willkommen.\nDie Einzelbegleitung ist Teil der Erfahrung (ein Gespräch pro Teilnehmer*in in jedem Kurshalbjahr). \nBitte rechtzeitig anmelden! Anmeldungen nach dem ersten Treffen sind nicht mehr möglich.\nDer neue Gruppenstart „Herzensgebet“ für das erste Halbjahr 2024 ist der 1. Februar. \nAlle 11 Termine:\njeweils donnerstags\, 19 – 21 Uhr\n\n31. August 2023\n14. und 21. September 2023\,\n5. und 26. Oktober 2023\,\n2.; 16. und 30. November 2023\,\n14. Dezember 2023\n18. und 25. Januar 2024 \nLeitung\nSTEPHAN HACHTMANN \nKosten\n110 € \nHIER weitere Informationen und Anmeldung
URL:https://stephanhachtmann.de/die-veranstaltung/herzensgebet-3/
LOCATION:Meditation in Volksdorf\, Rockenhof 1\, Hamburg\, 22359\, Deutschland
CATEGORIES:Alle Veranstaltungen,PRÄSENZ Veranstaltungen
ATTACH;FMTTYPE=image/jpeg:https://stephanhachtmann.de/wp-content/uploads/2022/12/20220624_144909-e1703764795256.jpg
ORGANIZER;CN="Meditation in Volksdorf":MAILTO:info@meditation-in-volksdorf.de
END:VEVENT
END:VCALENDAR