BEGIN:VCALENDAR
VERSION:2.0
PRODID:-//Stephan Hachtmann - ECPv6.15.19//NONSGML v1.0//EN
CALSCALE:GREGORIAN
METHOD:PUBLISH
X-WR-CALNAME:Stephan Hachtmann
X-ORIGINAL-URL:https://stephanhachtmann.de
X-WR-CALDESC:Veranstaltungen für Stephan Hachtmann
REFRESH-INTERVAL;VALUE=DURATION:PT1H
X-Robots-Tag:noindex
X-PUBLISHED-TTL:PT1H
BEGIN:VTIMEZONE
TZID:Europe/Berlin
BEGIN:DAYLIGHT
TZOFFSETFROM:+0100
TZOFFSETTO:+0200
TZNAME:CEST
DTSTART:20220327T010000
END:DAYLIGHT
BEGIN:STANDARD
TZOFFSETFROM:+0200
TZOFFSETTO:+0100
TZNAME:CET
DTSTART:20221030T010000
END:STANDARD
BEGIN:DAYLIGHT
TZOFFSETFROM:+0100
TZOFFSETTO:+0200
TZNAME:CEST
DTSTART:20230326T010000
END:DAYLIGHT
BEGIN:STANDARD
TZOFFSETFROM:+0200
TZOFFSETTO:+0100
TZNAME:CET
DTSTART:20231029T010000
END:STANDARD
BEGIN:DAYLIGHT
TZOFFSETFROM:+0100
TZOFFSETTO:+0200
TZNAME:CEST
DTSTART:20240331T010000
END:DAYLIGHT
BEGIN:STANDARD
TZOFFSETFROM:+0200
TZOFFSETTO:+0100
TZNAME:CET
DTSTART:20241027T010000
END:STANDARD
END:VTIMEZONE
BEGIN:VEVENT
DTSTART;TZID=Europe/Berlin:20230621T190000
DTEND;TZID=Europe/Berlin:20230621T210000
DTSTAMP:20260420T052652
CREATED:20230420T071745Z
LAST-MODIFIED:20230617T102128Z
UID:10000056-1687374000-1687381200@stephanhachtmann.de
SUMMARY:Herzensgebet – Offene Gruppe „Berührt vom Klang der Stille“ – ONLINE
DESCRIPTION:Monatliches ONLINE-Angebot im deutschsprachigen Raum \n(Eine Kursreihe in Kooperation mit dem Seminar- und Tagungszentrum Benediktushof Holzkirchen)\nimmer Mittwochs von 19-21 Uhr.\nLass dich beflügeln zu einer größeren Weite\,\ndie dich erfahren lässt\, wie du aufgehoben bist\nzwischen Himmel und Erde.    Pierre Stutz \nVon den guten Erfahrungen und Rückmeldungen der ONLINE-Meetings inspiriert\, bin ich jedes Mal erfreut\, welche spirituellen Erfahrungen uns dieses etwas andere Miteinander im digitalen Raum schenkt und wie aussergewöhnlich der eine GEIST weht – wo auch immer ER/SIE/ES es will… \nAuch freue ich mich\, mit der Einen oder dem Anderen aus meinen Seminaren auf diese Weise wieder in Kontakt zu kommen und den Weg des Herzens zu vertiefen. \nViele Menschen finden in der Kontemplation mit dem  Herzensgebet einen Weg\, der ein bewährtes Erfahrungswissen mit zeitgemäßer Spiritualität kombiniert. Dieser Weg kann die Grundlage für eine spirituelle Lebenskunst sein und Brücken für eine interreligiöse und integrale Spiritualität bauen. \nDas Herzensgebet ist tief in der christlichen Tradition verwurzelt. Die alltagsorientierte Praxis geschieht mit einem kurzen Satz oder Wort. Dieses einfache Klanggebet des Herzens (Mantra) öffnet das Bewusstsein für die Wahrnehmung des Daseins in der Gegenwart Gottes. \nHier finden Sie eine weiterführende Einführung ins Herzensgebet: Berührt vom Klang der Liebe – Grundlage einer spirituellen Lebenskunst  \nGestaltungselemente im ZOOM-Meeting\nangeleitete und stille Meditation\, spirituelle Impulse\, achtsamer Dialog und Austausch zu sprituellen Wegerfahrungen im Plenum oder in der Kleingruppe\, Körper- und Atemwahrnehmung als Gebärdengebet oder mit eingespielter Musik\, einfache Rituale\, Singen spiritueller Lieder (ich spiele live – dazu wird im eigenen Raum gesungen) \nTeilnahmebeitrag\n25 € pro ZOOM-Meeting (zwei Stunden) \nLeitung\n\nSTEPHAN HACHTMANN – Kontemplationslehrer VIA CORDIS®\, Diakon\, Seminar- und Vortragstätigkeit zu Herzensgebet\, Integraler Spiritualität und Spiritualität und Abhängigkeitserfahrungen\, Autor u. a. „Berührt vom Klang der Liebe – Wege zum Herzensgebet“ (Kreuz Verlag)\, Musiker und Komponist spiritueller Lieder \nAnmeldung\nBitte per E-Mail an: info(ad)stephanhachtmann.de mit der Angabe des gewünschten Termines oder direkt mit dem unterstehenden Formular. \nFehler: Kontaktformular wurde nicht gefunden. \nNach der Anmeldung schicke ich Ihnen/Euch den ZOOM-Link zu\, sowie die Kontoangaben zur Überweisung des Teilnahmebeitrages.
URL:https://stephanhachtmann.de/die-veranstaltung/herzensgebet-offene-gruppe-beruehrt-vom-klang-der-stille-online-3/2023-06-21/
LOCATION:ONLINE-Angebot per ZOOM\, Deutschland
CATEGORIES:Alle Veranstaltungen,ONLINE Veranstaltungen
ATTACH;FMTTYPE=image/jpeg:https://stephanhachtmann.de/wp-content/uploads/2021/05/ONLINE-offene-Gruppe-scaled-e1619872103684.jpg
ORGANIZER;CN="AMBATON - Spirituelle Lebenskunst im Herz des Lebens":MAILTO:info@stephanhachtmann.de
END:VEVENT
BEGIN:VEVENT
DTSTART;TZID=Europe/Berlin:20230626T183000
DTEND;TZID=Europe/Berlin:20230626T210000
DTSTAMP:20260420T052652
CREATED:20221001T073819Z
LAST-MODIFIED:20230109T204721Z
UID:10000012-1687804200-1687813200@stephanhachtmann.de
SUMMARY:Herzensgebet ONLINE Halbjahresgruppe „Wege ins Herz des Lebens“
DESCRIPTION:Halbjährliches Kursangebot\nfür eine geschlossene ONLINE-Gruppe ab dem 16. Januar 2023\nDieses Angebot ist für das 1. Halbjahr 2023 ausgebucht.\nHIER ist eine Anmeldung auf der Warteliste für das 2. Halbjahr möglich. \nDenn ob etwas ein Leben werden kann\, das hängt nicht von den großen Ideen ab\,\nsondern davon\, ob man sich aus ihnen ein Handwerk schafft\, ein Tägliches\,\netwas\, was bei einem aushält bis an das Ende.  (Rainer Maria Rilke zu Auguste Rodin) \nDas Herzensgebet ist ein alter christlicher Meditationsweg\, auf dem sich bewährtes Erfahrungswissen mit einer zeitgemäßen integralen Spiritualität verbinden lässt. Die persönlichen Erfahrungen mit diesem Weg können Räume öffnen\, die in die Ruhe des Herzens führen. \nDiese spirituelle Lebenskunst kann klärende Transformationsprozeße anregen und Wandlungs- und Heilungsschritte auf unserem Lebensweg ermöglichen. \nIn einer festen und verbindlichen Gruppengröße von ca. 16 Teilnehmer*innen\, kann das gemeinsame Erleben zu einem kontinuierlichen und inspirierender Wachstumsraum in der spirituellen Tradition des Herzensgebetes werden. Grundlegend für das verwandelnde Erleben ist die eigene vertiefende Erfahrung der Meditation und des Schweigens im persönlichen Alltag. \nWiederkehrende Gestaltungselemente\nangeleitete und stille Kontemplation mit dem Herzensgebet\, Atem- und Körperwahrnehmungsübungen\, Gebetsgebärden\, spirituelle Lieder und Mantren\, themenbezogene spirituelle Impulse\, einfache wiederkehrende Rituale\, achtsamer Austausch in Kleingruppe und Plenum. \nTermine 1. Halbjahr 2023\nimmer montags von 18.30 – 21.00 Uhr\n16. Januar 2023\n20. Februar 2022\n13. März 2023\n10. April 2023\n22. Mai 2023\n26. Juni 2023 \nStille Tage mit dem Herzensgebet – Präsenzseminar\nWer mag und die Möglichkeiten hat\, trifft sich zusätzlich für ein Vertiefungs- und Präsenzseminar im Seminarhof „Drawehn“ im Wendland/Norddeutschland. Einige waren im letzten  Jahr schon einmal mit in Drawehn und es gab viele gute Rückmeldungen zu dem Erleben dort. Es ist für die\, die es einrichten können\, eine gute Vertiefung und kann eine besondere Erfahrung und Inspiration für den Weg des Herzens ermöglichen.\n\nDie Tage werden wieder in bewährter Weise mit Stille\, Bewegung\, Leib- und Atemwahrnehmung\, Klang\, Impulsen\, Einzelbegleitung und auch wieder im durchgehenden Schweigen gestaltet werden. Es wird auch wieder einen inhaltlichen Schwerpunkt geben\, der  Spuren aus dem Weisheitswissen der Tradition des Herzensgebetes vertiefend anregt und betrachtet.\n\nTermin: Montag\, den 25. September bis Freitag\, den 29. September 2023\nWir beginnen am Montag mit dem Abendbrot gegen 18 Uhr und beenden die Tage am Freitag mit dem Mittag.\n\nKosten: 620 € (Übernachtung/Verpflegung: 360 €;  Seminargebühr: 260 €) \nInfo zum Seminarhof Drawehn \n\nLeitung\nSTEPHAN HACHTMANN – Kontemplationslehrer VIA CORDIS®\, Diakon\, Seminar- und Vortragstätigkeit zu Herzensgebet\, Integraler Spiritualität und Spiritualität und Abhängigkeitserfahrungen\, Autor u. a. „Berührt vom Klang der Liebe – Wege zum Herzensgebet“ (Kreuz Verlag)\, Musiker und Komponist spiritueller Lieder \n\nTeilnahmebeitrag\n240 € für sechs Termine im 1. Halbjahr 2023\n(incl. einer Einzelbegleitung 1 Stunde per ZOOM oder Telefon) \nDie weiterführende verbindliche Anmeldung für diese Gruppe erfolgt am Ende des Kurse für ein nächstes halbes Jahr
URL:https://stephanhachtmann.de/die-veranstaltung/11555/2023-06-26/
LOCATION:ONLINE-Angebot per ZOOM\, Deutschland
CATEGORIES:Alle Veranstaltungen,ONLINE Veranstaltungen
ATTACH;FMTTYPE=image/jpeg:https://stephanhachtmann.de/wp-content/uploads/2022/10/ONLINE-Jahresgruppe-Wege-ins-Herz-des-Lebens-II-2023-e1664611619877.jpg
ORGANIZER;CN="AMBATON - Spirituelle Lebenskunst im Herz des Lebens":MAILTO:info@stephanhachtmann.de
END:VEVENT
END:VCALENDAR