BEGIN:VCALENDAR
VERSION:2.0
PRODID:-//Stephan Hachtmann - ECPv6.15.19//NONSGML v1.0//EN
CALSCALE:GREGORIAN
METHOD:PUBLISH
X-ORIGINAL-URL:https://stephanhachtmann.de
X-WR-CALDESC:Veranstaltungen für Stephan Hachtmann
REFRESH-INTERVAL;VALUE=DURATION:PT1H
X-Robots-Tag:noindex
X-PUBLISHED-TTL:PT1H
BEGIN:VTIMEZONE
TZID:Europe/Berlin
BEGIN:DAYLIGHT
TZOFFSETFROM:+0100
TZOFFSETTO:+0200
TZNAME:CEST
DTSTART:20250330T010000
END:DAYLIGHT
BEGIN:STANDARD
TZOFFSETFROM:+0200
TZOFFSETTO:+0100
TZNAME:CET
DTSTART:20251026T010000
END:STANDARD
BEGIN:DAYLIGHT
TZOFFSETFROM:+0100
TZOFFSETTO:+0200
TZNAME:CEST
DTSTART:20260329T010000
END:DAYLIGHT
BEGIN:STANDARD
TZOFFSETFROM:+0200
TZOFFSETTO:+0100
TZNAME:CET
DTSTART:20261025T010000
END:STANDARD
BEGIN:DAYLIGHT
TZOFFSETFROM:+0100
TZOFFSETTO:+0200
TZNAME:CEST
DTSTART:20270328T010000
END:DAYLIGHT
BEGIN:STANDARD
TZOFFSETFROM:+0200
TZOFFSETTO:+0100
TZNAME:CET
DTSTART:20271031T010000
END:STANDARD
END:VTIMEZONE
BEGIN:VEVENT
DTSTART;TZID=Europe/Berlin:20261214T183000
DTEND;TZID=Europe/Berlin:20261214T210000
DTSTAMP:20260419T230131
CREATED:20251212T140252Z
LAST-MODIFIED:20260413T065730Z
UID:10000369-1797273000-1797282000@stephanhachtmann.de
SUMMARY:Herzensgebet ONLINE 2. Halbjahr 2026 „Wege ins Herz des Lebens“
DESCRIPTION:Kursangebot 2. Halbjahr 2026\nfür eine geschlossene ONLINE-Gruppe ab dem 27. Juli 2026\nDer Kurs ist ausgebucht. \nEine Anmeldung ist nur noch auf der Warteliste möglich.\nDenn ob etwas ein Leben werden kann\, das hängt nicht von den großen Ideen ab\,\nsondern davon\, ob man sich aus ihnen ein Handwerk schafft\, ein Tägliches\,\netwas\, was bei einem aushält bis an das Ende.\n(Rainer Maria Rilke zu Auguste Rodin) \nDas Herzensgebet ist ein alter christlicher Meditationsweg\, auf dem sich bewährtes Erfahrungswissen mit einer zeitgemäßen integralen Spiritualität verbinden lässt. Die persönlichen Erfahrungen mit diesem Weg können Räume öffnen\, die in die Ruhe des Herzens führen. \nDiese spirituelle Lebenskunst kann klärende Transformationsprozeße anregen und Wandlungs- und Heilungsschritte auf unserem Lebensweg ermöglichen. \nIn einer festen und verbindlichen Gruppengröße von ca. 16 Teilnehmer*innen\, kann das gemeinsame Erleben zu einem kontinuierlichen und inspirierender Wachstumsraum in der spirituellen Tradition des Herzensgebetes werden. Grundlegend für das verwandelnde Erleben ist die eigene vertiefende Erfahrung der Meditation und des Schweigens im persönlichen Alltag. \nWIEDERKEHRENDE GESTALTUNGSELEMENTE\nangeleitete und stille Kontemplation mit dem Herzensgebet\, Atem- und Körperwahrnehmungsübungen\, Gebetsgebärden\, spirituelle Lieder und Mantren\, themenbezogene spirituelle Impulse\, einfache wiederkehrende Rituale\, achtsamer Austausch in Kleingruppe und Plenum. \nTERMINE 2. Halbjahr 2026\nimmer montags von 18.30 – 21.00 Uhr \n27. Juli 2026\n17. August 2026\n21. September 2026\n26. Oktober 2026\n23. November 2026\n14. Dezember 2026 \nDie weiterführende verbindliche Anmeldung für diese Gruppe erfolgt am Ende des Kurse für ein nächstes halbes Jahr. \nLEITUNG\nSTEPHAN HACHTMANN – Kontemplationslehrer VIA CORDIS®\, Diakon\, Seminar- und Vortragstätigkeit zu Herzensgebet\, Integraler Spiritualität und Spiritualität und Abhängigkeitserfahrungen\, Autor u. a. „Berührt vom Klang der Liebe – Wege zum Herzensgebet“ (Kreuz Verlag)\, Musiker und Komponist spiritueller Lieder \n\nKOSTEN\n240 Euro (sechs Termine\, incl. 1 h Einzelbegleitung) \nANMELDUNG WARTELISTE 2. HALBJAHR 2026\nBitte per E-Mail mit Angabe der Telefonnummer an: info@stephanhachtmann.de oder direkt über das untenstehende Formular. \nNach der Anmeldung erhalten Sie alle weiterführenden Informationen zu Ihrer Anmeldung auf der Warteliste. \n\n\n  \n\n\n\n Vorname Name:\n \n\n E-Mail-Adresse:\n \n\n Telefonnummer:\n \n\n Anmerkung oder Rückfrage:\n\n\nAnmeldung Warteliste 2. Halbjahr 2026\n\n Ich stimme zu\, dass meine Angaben aus dem Anmeldeformular zur Bearbeitung meiner Kursanmeldung erhoben und verarbeitet werden. Die Daten werden nach abgeschlossener Bearbeitung innerhalb der gesetzlichen Fristen gelöscht. Hinweis: Sie können Ihre Einwilligung jederzeit für die Zukunft per E-Mail an: info@stephanhachtmann.de widerrufen. Detaillierte Informationen zum Umgang mit Nutzerdaten finden Sie in unserer Datenschutzerklärung.
URL:https://stephanhachtmann.de/die-veranstaltung/herzensgebet-online-halbjahresgruppe-wege-ins-herz-des-lebens-5/2026-12-14/
LOCATION:ONLINE-Angebot per ZOOM\, Deutschland
CATEGORIES:Alle Veranstaltungen,ONLINE Veranstaltungen
ATTACH;FMTTYPE=image/jpeg:https://stephanhachtmann.de/wp-content/uploads/2025/12/ONLINE-Halbjahresgruppe-Wege-ins-Herz-des-Leben.jpg
ORGANIZER;CN="AMBATON - Spirituelle Lebenskunst im Herz des Lebens":MAILTO:info@stephanhachtmann.de
END:VEVENT
BEGIN:VEVENT
DTSTART;TZID=Europe/Berlin:20261216T190000
DTEND;TZID=Europe/Berlin:20261216T210000
DTSTAMP:20260419T230131
CREATED:20251030T075827Z
LAST-MODIFIED:20260107T104230Z
UID:10000343-1797447600-1797454800@stephanhachtmann.de
SUMMARY:Herzensgebet – Offene Gruppe „Berührt vom Klang der Stille“ – ONLINE Termine 2. HJ 2026
DESCRIPTION:Monatliches ONLINE-Angebot im deutschsprachigen Raum\nTermine 2. Halbjahr 2026\n(Eine Kursreihe in Kooperation mit dem Seminar- und Tagungszentrum Benediktushof Holzkirchen)\nimmer mittwochs von 19-21 Uhr\nLass dich beflügeln zu einer größeren Weite\,\ndie dich erfahren lässt\, wie du aufgehoben bist\nzwischen Himmel und Erde.    Pierre Stutz \nVon den guten Erfahrungen und Rückmeldungen der ONLINE-Meetings inspiriert\, bin ich jedes Mal erfreut\, welche spirituellen Erfahrungen uns dieses etwas andere Miteinander im digitalen Raum schenkt und wie aussergewöhnlich der eine GEIST weht – wo auch immer ER/SIE/ES es will… \nAuch freue ich mich\, mit der Einen oder dem Anderen aus meinen Seminaren auf diese Weise wieder in Kontakt zu kommen und den Weg des Herzens zu vertiefen. \nViele Menschen finden in der Kontemplation mit dem  Herzensgebet einen Weg\, der ein bewährtes Erfahrungswissen mit zeitgemäßer Spiritualität kombiniert. Dieser Weg kann die Grundlage für eine spirituelle Lebenskunst sein und Brücken für eine interreligiöse und integrale Spiritualität bauen. \nDas Herzensgebet ist tief in der christlichen Tradition verwurzelt. Die alltagsorientierte Praxis geschieht mit einem kurzen Satz oder Wort. Dieses einfache Klanggebet des Herzens (Mantra) öffnet das Bewusstsein für die Wahrnehmung des Daseins in der Gegenwart Gottes. \nHier finden Sie eine weiterführende Einführung ins Herzensgebet: Berührt vom Klang der Liebe – Grundlage einer spirituellen Lebenskunst  \nGestaltungselemente im ZOOM-Meeting\nangeleitete und stille Meditation\, spirituelle Impulse\, achtsamer Dialog und Austausch zu sprituellen Wegerfahrungen im Plenum oder in der Kleingruppe\, Körper- und Atemwahrnehmung als Gebärdengebet oder mit eingespielter Musik\, einfache Rituale\, Singen spiritueller Lieder (ich spiele live – dazu wird im eigenen Raum gesungen) \nTeilnahmebeitrag\n25 € pro ZOOM-Meeting (zwei Stunden) \nLeitung\n\nSTEPHAN HACHTMANN – Kontemplationslehrer VIA CORDIS®\, Diakon\, Seminar- und Vortragstätigkeit zu Herzensgebet\, Integraler Spiritualität und Spiritualität und Abhängigkeitserfahrungen\, Autor u. a. „Berührt vom Klang der Liebe – Wege zum Herzensgebet“ (Kreuz Verlag)\, Musiker und Komponist spiritueller Lieder \nAnmeldung\nNach der Anmeldung schicke ich Ihnen/Euch den ZOOM-Link zu\, sowie die Kontoangaben zur Überweisung des Teilnahmebeitrages. \n\n\n  \n\n\n\n Vorname Name:\n \n\n E-Mail:\n \n\n Telefonnummer:\n \n\n Bitte den/die Online-Termin(e) auswählen:\n\nMittwoch\, 29. Juli 2026\n\nMittwoch\, 19. August 2026\n\nMittwoch\, 23. September 2026\n\nMittwoch\, 28. Oktober 2026\n\nMittwoch\, 25. November 2026\n\nMittwoch\, 16. Dezember 2026\n\n (*Pflichtfeld) Ich stimme zu\, dass meine Angaben aus dem Anmeldeformular zur Bearbeitung meiner Kursanmeldung erhoben und verarbeitet werden. Die Daten werden nach abgeschlossener Bearbeitung innerhalb der gesetzlichen Fristen gelöscht. Sie können Ihre Einwilligung jederzeit für die Zukunft per E-Mail an: info@stephanhachtmann.de widerrufen.
URL:https://stephanhachtmann.de/die-veranstaltung/herzensgebet-offene-gruppe-beruehrt-vom-klang-der-stille-online-termine-2-hj-2026/2026-12-16/
LOCATION:ONLINE-Angebot per ZOOM\, Deutschland
CATEGORIES:Alle Veranstaltungen,ONLINE Veranstaltungen
ATTACH;FMTTYPE=image/jpeg:https://stephanhachtmann.de/wp-content/uploads/2023/12/Vorlage-Herzensgebet-Einfuehrung-e1716144383925.jpg
ORGANIZER;CN="AMBATON - Spirituelle Lebenskunst im Herz des Lebens":MAILTO:info@stephanhachtmann.de
END:VEVENT
END:VCALENDAR