BEGIN:VCALENDAR
VERSION:2.0
PRODID:-//Stephan Hachtmann - ECPv6.15.19//NONSGML v1.0//EN
CALSCALE:GREGORIAN
METHOD:PUBLISH
X-WR-CALNAME:Stephan Hachtmann
X-ORIGINAL-URL:https://stephanhachtmann.de
X-WR-CALDESC:Veranstaltungen für Stephan Hachtmann
REFRESH-INTERVAL;VALUE=DURATION:PT1H
X-Robots-Tag:noindex
X-PUBLISHED-TTL:PT1H
BEGIN:VTIMEZONE
TZID:Europe/Berlin
BEGIN:DAYLIGHT
TZOFFSETFROM:+0100
TZOFFSETTO:+0200
TZNAME:CEST
DTSTART:20250330T010000
END:DAYLIGHT
BEGIN:STANDARD
TZOFFSETFROM:+0200
TZOFFSETTO:+0100
TZNAME:CET
DTSTART:20251026T010000
END:STANDARD
BEGIN:DAYLIGHT
TZOFFSETFROM:+0100
TZOFFSETTO:+0200
TZNAME:CEST
DTSTART:20260329T010000
END:DAYLIGHT
BEGIN:STANDARD
TZOFFSETFROM:+0200
TZOFFSETTO:+0100
TZNAME:CET
DTSTART:20261025T010000
END:STANDARD
BEGIN:DAYLIGHT
TZOFFSETFROM:+0100
TZOFFSETTO:+0200
TZNAME:CEST
DTSTART:20270328T010000
END:DAYLIGHT
BEGIN:STANDARD
TZOFFSETFROM:+0200
TZOFFSETTO:+0100
TZNAME:CET
DTSTART:20271031T010000
END:STANDARD
END:VTIMEZONE
BEGIN:VEVENT
DTSTART;TZID=Europe/Berlin:20260422T190000
DTEND;TZID=Europe/Berlin:20260422T210000
DTSTAMP:20260422T133126
CREATED:20250828T075329Z
LAST-MODIFIED:20251128T133852Z
UID:10000356-1776884400-1776891600@stephanhachtmann.de
SUMMARY:Herzensgebet – Offene Gruppe „Berührt vom Klang der Stille“ – ONLINE Termine 1. HJ 2026
DESCRIPTION:Monatliches ONLINE-Angebot im deutschsprachigen Raum\nTermine 1. Halbjahr 2026\n(Eine Kursreihe in Kooperation mit dem Seminar- und Tagungszentrum Benediktushof Holzkirchen)\nimmer mittwochs von 19-21 Uhr\nLass dich beflügeln zu einer größeren Weite\,\ndie dich erfahren lässt\, wie du aufgehoben bist\nzwischen Himmel und Erde.    Pierre Stutz \nVon den guten Erfahrungen und Rückmeldungen der ONLINE-Meetings inspiriert\, bin ich jedes Mal erfreut\, welche spirituellen Erfahrungen uns dieses etwas andere Miteinander im digitalen Raum schenkt und wie aussergewöhnlich der eine GEIST weht – wo auch immer ER/SIE/ES es will… \nAuch freue ich mich\, mit der Einen oder dem Anderen aus meinen Seminaren auf diese Weise wieder in Kontakt zu kommen und den Weg des Herzens zu vertiefen. \nViele Menschen finden in der Kontemplation mit dem  Herzensgebet einen Weg\, der ein bewährtes Erfahrungswissen mit zeitgemäßer Spiritualität kombiniert. Dieser Weg kann die Grundlage für eine spirituelle Lebenskunst sein und Brücken für eine interreligiöse und integrale Spiritualität bauen. \nDas Herzensgebet ist tief in der christlichen Tradition verwurzelt. Die alltagsorientierte Praxis geschieht mit einem kurzen Satz oder Wort. Dieses einfache Klanggebet des Herzens (Mantra) öffnet das Bewusstsein für die Wahrnehmung des Daseins in der Gegenwart Gottes. \nHier finden Sie eine weiterführende Einführung ins Herzensgebet: Berührt vom Klang der Liebe – Grundlage einer spirituellen Lebenskunst  \nGestaltungselemente im ZOOM-Meeting\nangeleitete und stille Meditation\, spirituelle Impulse\, achtsamer Dialog und Austausch zu sprituellen Wegerfahrungen im Plenum oder in der Kleingruppe\, Körper- und Atemwahrnehmung als Gebärdengebet oder mit eingespielter Musik\, einfache Rituale\, Singen spiritueller Lieder (ich spiele live – dazu wird im eigenen Raum gesungen) \nTeilnahmebeitrag\n25 € pro ZOOM-Meeting (zwei Stunden) \nLeitung\n\nSTEPHAN HACHTMANN – Kontemplationslehrer VIA CORDIS®\, Diakon\, Seminar- und Vortragstätigkeit zu Herzensgebet\, Integraler Spiritualität und Spiritualität und Abhängigkeitserfahrungen\, Autor u. a. „Berührt vom Klang der Liebe – Wege zum Herzensgebet“ (Kreuz Verlag)\, Musiker und Komponist spiritueller Lieder \nAnmeldung\nNach der Anmeldung schicke ich Ihnen/Euch den ZOOM-Link zu\, sowie die Kontoangaben zur Überweisung des Teilnahmebeitrages. \n\n\n  \n\n\n\n Vorname Name:\n \n\n E-Mail:\n \n\n Telefonnummer:\n \n\n Bitte den/die Online-Termin(e) auswählen:\n\nMittwoch\, 21. Januar 2026\n\nMittwoch\, 18. Februar 2026\n\nMittwoch\, 25. März 2026\n\nMittwoch\, 22. April 2026\n\nMittwoch\, 20. Mai 2026\n\nMittwoch\, 24. Juni 2026\n\n (*Pflichtfeld) Ich stimme zu\, dass meine Angaben aus dem Anmeldeformular zur Bearbeitung meiner Kursanmeldung erhoben und verarbeitet werden. Die Daten werden nach abgeschlossener Bearbeitung innerhalb der gesetzlichen Fristen gelöscht. Sie können Ihre Einwilligung jederzeit für die Zukunft per E-Mail an: info@stephanhachtmann.de widerrufen.
URL:https://stephanhachtmann.de/die-veranstaltung/online-herzensgebet-offene-gruppe/2026-04-22/
LOCATION:ONLINE-Angebot per ZOOM\, Deutschland
CATEGORIES:Alle Veranstaltungen,ONLINE Veranstaltungen
ATTACH;FMTTYPE=image/jpeg:https://stephanhachtmann.de/wp-content/uploads/2023/12/Vorlage-Herzensgebet-Einfuehrung-e1716144383925.jpg
ORGANIZER;CN="AMBATON - Spirituelle Lebenskunst im Herz des Lebens":MAILTO:info@stephanhachtmann.de
END:VEVENT
END:VCALENDAR